Back to Multiple platform build/check report for BioC 3.22:   simplified   long
AB[C]DEFGHIJKLMNOPQRSTUVWXYZ

This page was generated on 2025-10-18 12:06 -0400 (Sat, 18 Oct 2025).

HostnameOSArch (*)R versionInstalled pkgs
nebbiolo2Linux (Ubuntu 24.04.3 LTS)x86_644.5.1 Patched (2025-08-23 r88802) -- "Great Square Root" 4887
lconwaymacOS 12.7.6 Montereyx86_644.5.1 Patched (2025-09-10 r88807) -- "Great Square Root" 4677
kjohnson3macOS 13.7.7 Venturaarm644.5.1 Patched (2025-09-10 r88807) -- "Great Square Root" 4622
taishanLinux (openEuler 24.03 LTS)aarch644.5.0 (2025-04-11) -- "How About a Twenty-Six" 4632
Click on any hostname to see more info about the system (e.g. compilers)      (*) as reported by 'uname -p', except on Windows and Mac OS X

Package 348/2353HostnameOS / ArchINSTALLBUILDCHECKBUILD BIN
ChIPpeakAnno 3.43.2  (landing page)
Jianhong Ou
Snapshot Date: 2025-10-17 13:45 -0400 (Fri, 17 Oct 2025)
git_url: https://git.bioconductor.org/packages/ChIPpeakAnno
git_branch: devel
git_last_commit: 7fc2367
git_last_commit_date: 2025-10-15 16:45:05 -0400 (Wed, 15 Oct 2025)
nebbiolo2Linux (Ubuntu 24.04.3 LTS) / x86_64  OK    OK    OK  UNNEEDED, same version is already published
lconwaymacOS 12.7.6 Monterey / x86_64  OK    OK    OK    OK  UNNEEDED, same version is already published
kjohnson3macOS 13.7.7 Ventura / arm64  OK    OK    OK    OK  UNNEEDED, same version is already published
taishanLinux (openEuler 24.03 LTS) / aarch64  OK    OK    OK  


CHECK results for ChIPpeakAnno on kjohnson3

To the developers/maintainers of the ChIPpeakAnno package:
- Allow up to 24 hours (and sometimes 48 hours) for your latest push to git@git.bioconductor.org:packages/ChIPpeakAnno.git to reflect on this report. See Troubleshooting Build Report for more information.
- Use the following Renviron settings to reproduce errors and warnings.
- If 'R CMD check' started to fail recently on the Linux builder(s) over a missing dependency, add the missing dependency to 'Suggests:' in your DESCRIPTION file. See Renviron.bioc for more information.

raw results


Summary

Package: ChIPpeakAnno
Version: 3.43.2
Command: /Library/Frameworks/R.framework/Resources/bin/R CMD check --install=check:ChIPpeakAnno.install-out.txt --library=/Library/Frameworks/R.framework/Resources/library --no-vignettes --timings ChIPpeakAnno_3.43.2.tar.gz
StartedAt: 2025-10-17 18:58:18 -0400 (Fri, 17 Oct 2025)
EndedAt: 2025-10-17 19:02:20 -0400 (Fri, 17 Oct 2025)
EllapsedTime: 241.7 seconds
RetCode: 0
Status:   OK  
CheckDir: ChIPpeakAnno.Rcheck
Warnings: 0

Command output

##############################################################################
##############################################################################
###
### Running command:
###
###   /Library/Frameworks/R.framework/Resources/bin/R CMD check --install=check:ChIPpeakAnno.install-out.txt --library=/Library/Frameworks/R.framework/Resources/library --no-vignettes --timings ChIPpeakAnno_3.43.2.tar.gz
###
##############################################################################
##############################################################################


* using log directory ‘/Users/biocbuild/bbs-3.22-bioc/meat/ChIPpeakAnno.Rcheck’
* using R version 4.5.1 Patched (2025-09-10 r88807)
* using platform: aarch64-apple-darwin20
* R was compiled by
    Apple clang version 16.0.0 (clang-1600.0.26.6)
    GNU Fortran (GCC) 14.2.0
* running under: macOS Ventura 13.7.7
* using session charset: UTF-8
* using option ‘--no-vignettes’
* checking for file ‘ChIPpeakAnno/DESCRIPTION’ ... OK
* checking extension type ... Package
* this is package ‘ChIPpeakAnno’ version ‘3.43.2’
* package encoding: UTF-8
* checking package namespace information ... OK
* checking package dependencies ... INFO
Imports includes 29 non-default packages.
Importing from so many packages makes the package vulnerable to any of
them becoming unavailable.  Move as many as possible to Suggests and
use conditionally.
* checking if this is a source package ... OK
* checking if there is a namespace ... OK
* checking for hidden files and directories ... OK
* checking for portable file names ... OK
* checking for sufficient/correct file permissions ... OK
* checking whether package ‘ChIPpeakAnno’ can be installed ... OK
* checking installed package size ... INFO
  installed size is 21.1Mb
  sub-directories of 1Mb or more:
    R         1.0Mb
    data     12.6Mb
    extdata   7.2Mb
* checking package directory ... OK
* checking ‘build’ directory ... OK
* checking DESCRIPTION meta-information ... OK
* checking top-level files ... OK
* checking for left-over files ... OK
* checking index information ... OK
* checking package subdirectories ... OK
* checking code files for non-ASCII characters ... OK
* checking R files for syntax errors ... OK
* checking whether the package can be loaded ... OK
* checking whether the package can be loaded with stated dependencies ... OK
* checking whether the package can be unloaded cleanly ... OK
* checking whether the namespace can be loaded with stated dependencies ... OK
* checking whether the namespace can be unloaded cleanly ... OK
* checking dependencies in R code ... OK
* checking S3 generic/method consistency ... OK
* checking replacement functions ... OK
* checking foreign function calls ... OK
* checking R code for possible problems ... OK
* checking Rd files ... OK
* checking Rd metadata ... OK
* checking Rd cross-references ... OK
* checking for missing documentation entries ... OK
* checking for code/documentation mismatches ... OK
* checking Rd \usage sections ... OK
* checking Rd contents ... OK
* checking for unstated dependencies in examples ... OK
* checking contents of ‘data’ directory ... OK
* checking data for non-ASCII characters ... OK
* checking LazyData ... OK
* checking data for ASCII and uncompressed saves ... OK
* checking files in ‘vignettes’ ... OK
* checking examples ... OK
Examples with CPU (user + system) or elapsed time > 5s
                          user system elapsed
findEnhancers            7.130  0.223   7.600
findMotifsInPromoterSeqs 4.855  0.128   5.064
* checking for unstated dependencies in ‘tests’ ... OK
* checking tests ...
  Running ‘runTests.R’
 OK
* checking for unstated dependencies in vignettes ... OK
* checking package vignettes ... OK
* checking running R code from vignettes ... SKIPPED
* checking re-building of vignette outputs ... SKIPPED
* checking PDF version of manual ... OK
* DONE

Status: OK


Installation output

ChIPpeakAnno.Rcheck/00install.out

##############################################################################
##############################################################################
###
### Running command:
###
###   /Library/Frameworks/R.framework/Resources/bin/R CMD INSTALL ChIPpeakAnno
###
##############################################################################
##############################################################################


* installing to library ‘/Library/Frameworks/R.framework/Versions/4.5-arm64/Resources/library’
* installing *source* package ‘ChIPpeakAnno’ ...
** this is package ‘ChIPpeakAnno’ version ‘3.43.2’
** using staged installation
** R
** data
*** moving datasets to lazyload DB
** inst
** byte-compile and prepare package for lazy loading
** help
*** installing help indices
** building package indices
** installing vignettes
** testing if installed package can be loaded from temporary location
** testing if installed package can be loaded from final location
** testing if installed package keeps a record of temporary installation path
* DONE (ChIPpeakAnno)

Tests output

ChIPpeakAnno.Rcheck/tests/runTests.Rout


R version 4.5.1 Patched (2025-09-10 r88807) -- "Great Square Root"
Copyright (C) 2025 The R Foundation for Statistical Computing
Platform: aarch64-apple-darwin20

R is free software and comes with ABSOLUTELY NO WARRANTY.
You are welcome to redistribute it under certain conditions.
Type 'license()' or 'licence()' for distribution details.

R is a collaborative project with many contributors.
Type 'contributors()' for more information and
'citation()' on how to cite R or R packages in publications.

Type 'demo()' for some demos, 'help()' for on-line help, or
'help.start()' for an HTML browser interface to help.
Type 'q()' to quit R.

> require("ChIPpeakAnno") || stop("unable to load Package:ChIPpeakAnno")
Loading required package: ChIPpeakAnno
Loading required package: IRanges
Loading required package: BiocGenerics
Loading required package: generics

Attaching package: 'generics'

The following objects are masked from 'package:base':

    as.difftime, as.factor, as.ordered, intersect, is.element, setdiff,
    setequal, union


Attaching package: 'BiocGenerics'

The following objects are masked from 'package:stats':

    IQR, mad, sd, var, xtabs

The following objects are masked from 'package:base':

    Filter, Find, Map, Position, Reduce, anyDuplicated, aperm, append,
    as.data.frame, basename, cbind, colnames, dirname, do.call,
    duplicated, eval, evalq, get, grep, grepl, is.unsorted, lapply,
    mapply, match, mget, order, paste, pmax, pmax.int, pmin, pmin.int,
    rank, rbind, rownames, sapply, saveRDS, table, tapply, unique,
    unsplit, which.max, which.min

Loading required package: S4Vectors
Loading required package: stats4

Attaching package: 'S4Vectors'

The following object is masked from 'package:utils':

    findMatches

The following objects are masked from 'package:base':

    I, expand.grid, unname

Loading required package: GenomicRanges
Loading required package: Seqinfo
[1] TRUE
> require("BSgenome.Drerio.UCSC.danRer7") || stop("unable to load Package:BSgenome.Drerio.UCSC.danRer7")
Loading required package: BSgenome.Drerio.UCSC.danRer7
Loading required package: BSgenome
Loading required package: Biostrings
Loading required package: XVector

Attaching package: 'Biostrings'

The following object is masked from 'package:base':

    strsplit

Loading required package: BiocIO
Loading required package: rtracklayer
[1] TRUE
> require("BSgenome.Hsapiens.UCSC.hg19") || stop("unable to load Package:BSgenome.Hsapiens.UCSC.hg19")
Loading required package: BSgenome.Hsapiens.UCSC.hg19
[1] TRUE
> require("org.Hs.eg.db") || stop("unable to load Package:org.Hs.eg.db")
Loading required package: org.Hs.eg.db
Loading required package: AnnotationDbi
Loading required package: Biobase
Welcome to Bioconductor

    Vignettes contain introductory material; view with
    'browseVignettes()'. To cite Bioconductor, see
    'citation("Biobase")', and for packages 'citation("pkgname")'.


[1] TRUE
> require("org.Ce.eg.db") || stop("unable to load Package:org.Ce.eg.db")
Loading required package: org.Ce.eg.db

[1] TRUE
> require("BSgenome.Celegans.UCSC.ce10") || stop("unable to load Package:BSgenome.Celegans.UCSC.ce10")
Loading required package: BSgenome.Celegans.UCSC.ce10
[1] TRUE
> require("EnsDb.Hsapiens.v79") || stop("unable to load Package:EnsDb.Hsapiens.v79")
Loading required package: EnsDb.Hsapiens.v79
Loading required package: ensembldb
Loading required package: GenomicFeatures
Loading required package: AnnotationFilter

Attaching package: 'ensembldb'

The following object is masked from 'package:stats':

    filter

[1] TRUE
> require("TxDb.Hsapiens.UCSC.hg38.knownGene") || stop("unable to load TxDb.Hsapiens.UCSC.hg38.knownGene")
Loading required package: TxDb.Hsapiens.UCSC.hg38.knownGene
[1] TRUE
> require("biomaRt") || stop("unable to load biomaRt")
Loading required package: biomaRt
[1] TRUE
> require("reactome.db") || stop("unable to load reactome.db")
Loading required package: reactome.db
[1] TRUE
> require("testthat") || stop("unable to load testthat")
Loading required package: testthat

Attaching package: 'testthat'

The following object is masked from 'package:AnnotationFilter':

    not

[1] TRUE
> test_check("ChIPpeakAnno")
INFO [2025-10-17 19:02:09] $cat.cex
INFO [2025-10-17 19:02:09] [1] 1
INFO [2025-10-17 19:02:09] 
INFO [2025-10-17 19:02:09] $cat.col
INFO [2025-10-17 19:02:09] [1] "black"
INFO [2025-10-17 19:02:09] 
INFO [2025-10-17 19:02:09] $cat.fontface
INFO [2025-10-17 19:02:09] [1] "plain"
INFO [2025-10-17 19:02:09] 
INFO [2025-10-17 19:02:09] $cat.fontfamily
INFO [2025-10-17 19:02:09] [1] "serif"
INFO [2025-10-17 19:02:09] 
INFO [2025-10-17 19:02:09] $x
INFO [2025-10-17 19:02:09] $x$TF1
INFO [2025-10-17 19:02:09] [1] 3 4 5
INFO [2025-10-17 19:02:09] 
INFO [2025-10-17 19:02:09] $x$TF2
INFO [2025-10-17 19:02:09] [1] 1 2 3 4 5
INFO [2025-10-17 19:02:09] 
INFO [2025-10-17 19:02:09] 
INFO [2025-10-17 19:02:09] $disable.logging
INFO [2025-10-17 19:02:09] [1] TRUE
INFO [2025-10-17 19:02:09] 
INFO [2025-10-17 19:02:09] $filename
INFO [2025-10-17 19:02:09] NULL
INFO [2025-10-17 19:02:09] 
INFO [2025-10-17 19:02:09] $cat.cex
INFO [2025-10-17 19:02:09] [1] 1
INFO [2025-10-17 19:02:09] 
INFO [2025-10-17 19:02:09] $cat.col
INFO [2025-10-17 19:02:09] [1] "black"
INFO [2025-10-17 19:02:09] 
INFO [2025-10-17 19:02:09] $cat.fontface
INFO [2025-10-17 19:02:09] [1] "plain"
INFO [2025-10-17 19:02:09] 
INFO [2025-10-17 19:02:09] $cat.fontfamily
INFO [2025-10-17 19:02:09] [1] "serif"
INFO [2025-10-17 19:02:09] 
INFO [2025-10-17 19:02:09] $x
INFO [2025-10-17 19:02:09] $x$TF1
INFO [2025-10-17 19:02:09] [1] 3 4 5
INFO [2025-10-17 19:02:09] 
INFO [2025-10-17 19:02:09] $x$TF2
INFO [2025-10-17 19:02:09] [1] 1 2 4 5
INFO [2025-10-17 19:02:09] 
INFO [2025-10-17 19:02:09] $x$TF3
INFO [2025-10-17 19:02:09] [1] 3 4 5
INFO [2025-10-17 19:02:09] 
INFO [2025-10-17 19:02:09] $x$TF4
INFO [2025-10-17 19:02:09] [1] 1 2 4 5
INFO [2025-10-17 19:02:09] 
INFO [2025-10-17 19:02:09] 
INFO [2025-10-17 19:02:09] $disable.logging
INFO [2025-10-17 19:02:09] [1] TRUE
INFO [2025-10-17 19:02:09] 
INFO [2025-10-17 19:02:09] $filename
INFO [2025-10-17 19:02:09] NULL
INFO [2025-10-17 19:02:09] 
INFO [2025-10-17 19:02:09] $scaled
INFO [2025-10-17 19:02:09] [1] FALSE
INFO [2025-10-17 19:02:09] 
INFO [2025-10-17 19:02:09] $euler.d
INFO [2025-10-17 19:02:09] [1] FALSE
INFO [2025-10-17 19:02:09] 
INFO [2025-10-17 19:02:09] $cat.cex
INFO [2025-10-17 19:02:09] [1] 1
INFO [2025-10-17 19:02:09] 
INFO [2025-10-17 19:02:09] $cat.col
INFO [2025-10-17 19:02:09] [1] "black"
INFO [2025-10-17 19:02:09] 
INFO [2025-10-17 19:02:09] $cat.fontface
INFO [2025-10-17 19:02:09] [1] "plain"
INFO [2025-10-17 19:02:09] 
INFO [2025-10-17 19:02:09] $cat.fontfamily
INFO [2025-10-17 19:02:09] [1] "serif"
INFO [2025-10-17 19:02:09] 
INFO [2025-10-17 19:02:09] $x
INFO [2025-10-17 19:02:09] $x$TF1
INFO [2025-10-17 19:02:09] [1] 1 2 3
INFO [2025-10-17 19:02:09] 
INFO [2025-10-17 19:02:09] $x$TF2
INFO [2025-10-17 19:02:09] [1] 1 2 3
INFO [2025-10-17 19:02:09] 
INFO [2025-10-17 19:02:09] 
INFO [2025-10-17 19:02:09] $disable.logging
INFO [2025-10-17 19:02:09] [1] TRUE
INFO [2025-10-17 19:02:09] 
INFO [2025-10-17 19:02:09] $filename
INFO [2025-10-17 19:02:09] NULL
INFO [2025-10-17 19:02:09] 
INFO [2025-10-17 19:02:10] $scaled
INFO [2025-10-17 19:02:10] [1] FALSE
INFO [2025-10-17 19:02:10] 
INFO [2025-10-17 19:02:10] $euler.d
INFO [2025-10-17 19:02:10] [1] FALSE
INFO [2025-10-17 19:02:10] 
INFO [2025-10-17 19:02:10] $cat.cex
INFO [2025-10-17 19:02:10] [1] 1
INFO [2025-10-17 19:02:10] 
INFO [2025-10-17 19:02:10] $cat.col
INFO [2025-10-17 19:02:10] [1] "black"
INFO [2025-10-17 19:02:10] 
INFO [2025-10-17 19:02:10] $cat.fontface
INFO [2025-10-17 19:02:10] [1] "plain"
INFO [2025-10-17 19:02:10] 
INFO [2025-10-17 19:02:10] $cat.fontfamily
INFO [2025-10-17 19:02:10] [1] "serif"
INFO [2025-10-17 19:02:10] 
INFO [2025-10-17 19:02:10] $x
INFO [2025-10-17 19:02:10] $x$TF1
INFO [2025-10-17 19:02:10] [1] 4 5 6
INFO [2025-10-17 19:02:10] 
INFO [2025-10-17 19:02:10] $x$TF2
INFO [2025-10-17 19:02:10] [1] 1 2 3
INFO [2025-10-17 19:02:10] 
INFO [2025-10-17 19:02:10] 
INFO [2025-10-17 19:02:10] $disable.logging
INFO [2025-10-17 19:02:10] [1] TRUE
INFO [2025-10-17 19:02:10] 
INFO [2025-10-17 19:02:10] $filename
INFO [2025-10-17 19:02:10] NULL
INFO [2025-10-17 19:02:10] 
INFO [2025-10-17 19:02:10] $scaled
INFO [2025-10-17 19:02:10] [1] FALSE
INFO [2025-10-17 19:02:10] 
INFO [2025-10-17 19:02:10] $euler.d
INFO [2025-10-17 19:02:10] [1] FALSE
INFO [2025-10-17 19:02:10] 
INFO [2025-10-17 19:02:10] $cat.cex
INFO [2025-10-17 19:02:10] [1] 1
INFO [2025-10-17 19:02:10] 
INFO [2025-10-17 19:02:10] $cat.col
INFO [2025-10-17 19:02:10] [1] "black"
INFO [2025-10-17 19:02:10] 
INFO [2025-10-17 19:02:10] $cat.fontface
INFO [2025-10-17 19:02:10] [1] "plain"
INFO [2025-10-17 19:02:10] 
INFO [2025-10-17 19:02:10] $cat.fontfamily
INFO [2025-10-17 19:02:10] [1] "serif"
INFO [2025-10-17 19:02:10] 
INFO [2025-10-17 19:02:10] $x
INFO [2025-10-17 19:02:10] $x$TF1
INFO [2025-10-17 19:02:10] [1] 4 5 6
INFO [2025-10-17 19:02:10] 
INFO [2025-10-17 19:02:10] $x$TF2
INFO [2025-10-17 19:02:10] [1] 1 2 3
INFO [2025-10-17 19:02:10] 
INFO [2025-10-17 19:02:10] 
INFO [2025-10-17 19:02:10] $disable.logging
INFO [2025-10-17 19:02:10] [1] TRUE
INFO [2025-10-17 19:02:10] 
INFO [2025-10-17 19:02:10] $filename
INFO [2025-10-17 19:02:10] NULL
INFO [2025-10-17 19:02:10] 
INFO [2025-10-17 19:02:10] $scaled
INFO [2025-10-17 19:02:10] [1] FALSE
INFO [2025-10-17 19:02:10] 
INFO [2025-10-17 19:02:10] $euler.d
INFO [2025-10-17 19:02:10] [1] FALSE
INFO [2025-10-17 19:02:10] 
INFO [2025-10-17 19:02:10] $cat.cex
INFO [2025-10-17 19:02:10] [1] 1
INFO [2025-10-17 19:02:10] 
INFO [2025-10-17 19:02:10] $cat.col
INFO [2025-10-17 19:02:10] [1] "black"
INFO [2025-10-17 19:02:10] 
INFO [2025-10-17 19:02:10] $cat.fontface
INFO [2025-10-17 19:02:10] [1] "plain"
INFO [2025-10-17 19:02:10] 
INFO [2025-10-17 19:02:10] $cat.fontfamily
INFO [2025-10-17 19:02:10] [1] "serif"
INFO [2025-10-17 19:02:10] 
INFO [2025-10-17 19:02:10] $x
INFO [2025-10-17 19:02:10] $x$TF1
INFO [2025-10-17 19:02:10] [1] 4 5 6
INFO [2025-10-17 19:02:10] 
INFO [2025-10-17 19:02:10] $x$TF2
INFO [2025-10-17 19:02:10] [1] 1 2 3
INFO [2025-10-17 19:02:10] 
INFO [2025-10-17 19:02:10] $x$TF3
INFO [2025-10-17 19:02:10] [1] 2 3 6
INFO [2025-10-17 19:02:10] 
INFO [2025-10-17 19:02:10] 
INFO [2025-10-17 19:02:10] $disable.logging
INFO [2025-10-17 19:02:10] [1] TRUE
INFO [2025-10-17 19:02:10] 
INFO [2025-10-17 19:02:10] $filename
INFO [2025-10-17 19:02:10] NULL
INFO [2025-10-17 19:02:10] 
INFO [2025-10-17 19:02:10] $scaled
INFO [2025-10-17 19:02:10] [1] FALSE
INFO [2025-10-17 19:02:10] 
INFO [2025-10-17 19:02:10] $euler.d
INFO [2025-10-17 19:02:10] [1] FALSE
INFO [2025-10-17 19:02:10] 
INFO [2025-10-17 19:02:10] $cat.cex
INFO [2025-10-17 19:02:10] [1] 1
INFO [2025-10-17 19:02:10] 
INFO [2025-10-17 19:02:10] $cat.col
INFO [2025-10-17 19:02:10] [1] "black"
INFO [2025-10-17 19:02:10] 
INFO [2025-10-17 19:02:10] $cat.fontface
INFO [2025-10-17 19:02:10] [1] "plain"
INFO [2025-10-17 19:02:10] 
INFO [2025-10-17 19:02:10] $cat.fontfamily
INFO [2025-10-17 19:02:10] [1] "serif"
INFO [2025-10-17 19:02:10] 
INFO [2025-10-17 19:02:10] $x
INFO [2025-10-17 19:02:10] $x$TF1
INFO [2025-10-17 19:02:10] [1] 3 4 5
INFO [2025-10-17 19:02:10] 
INFO [2025-10-17 19:02:10] $x$TF2
INFO [2025-10-17 19:02:10] [1] 1 2 5
INFO [2025-10-17 19:02:10] 
INFO [2025-10-17 19:02:10] $x$TF3
INFO [2025-10-17 19:02:10] [1] 1 2 5
INFO [2025-10-17 19:02:10] 
INFO [2025-10-17 19:02:10] 
INFO [2025-10-17 19:02:10] $disable.logging
INFO [2025-10-17 19:02:10] [1] TRUE
INFO [2025-10-17 19:02:10] 
INFO [2025-10-17 19:02:10] $filename
INFO [2025-10-17 19:02:10] NULL
INFO [2025-10-17 19:02:10] 
INFO [2025-10-17 19:02:10] $scaled
INFO [2025-10-17 19:02:10] [1] FALSE
INFO [2025-10-17 19:02:10] 
INFO [2025-10-17 19:02:10] $euler.d
INFO [2025-10-17 19:02:10] [1] FALSE
INFO [2025-10-17 19:02:10] 
INFO [2025-10-17 19:02:10] $cat.cex
INFO [2025-10-17 19:02:10] [1] 1
INFO [2025-10-17 19:02:10] 
INFO [2025-10-17 19:02:10] $cat.col
INFO [2025-10-17 19:02:10] [1] "black"
INFO [2025-10-17 19:02:10] 
INFO [2025-10-17 19:02:10] $cat.fontface
INFO [2025-10-17 19:02:10] [1] "plain"
INFO [2025-10-17 19:02:10] 
INFO [2025-10-17 19:02:10] $cat.fontfamily
INFO [2025-10-17 19:02:10] [1] "serif"
INFO [2025-10-17 19:02:10] 
INFO [2025-10-17 19:02:10] $x
INFO [2025-10-17 19:02:10] $x$TF1
INFO [2025-10-17 19:02:10] [1] 3 4 5
INFO [2025-10-17 19:02:10] 
INFO [2025-10-17 19:02:10] $x$TF2
INFO [2025-10-17 19:02:10] [1] 1 2 5
INFO [2025-10-17 19:02:10] 
INFO [2025-10-17 19:02:10] $x$TF3
INFO [2025-10-17 19:02:10] [1] 1 2 5
INFO [2025-10-17 19:02:10] 
INFO [2025-10-17 19:02:10] $x$TF4
INFO [2025-10-17 19:02:10] [1] 1 2 5
INFO [2025-10-17 19:02:10] 
INFO [2025-10-17 19:02:10] 
INFO [2025-10-17 19:02:10] $disable.logging
INFO [2025-10-17 19:02:10] [1] TRUE
INFO [2025-10-17 19:02:10] 
INFO [2025-10-17 19:02:10] $filename
INFO [2025-10-17 19:02:10] NULL
INFO [2025-10-17 19:02:10] 
[ FAIL 0 | WARN 2 | SKIP 6 | PASS 324 ]

══ Skipped tests (6) ═══════════════════════════════════════════════════════════
• empty test (6): 'test_binOverGene.R:1:1', 'test_binOverRegions.R:1:1',
  'test_enrichmentPlot.R:1:1', 'test_getAnnotation.R:1:1',
  'test_reCenterPeaks.R:1:1', 'test_write2FASTA.R:1:1'

[ FAIL 0 | WARN 2 | SKIP 6 | PASS 324 ]
> 
> proc.time()
   user  system elapsed 
 60.528   1.703  64.869 

Example timings

ChIPpeakAnno.Rcheck/ChIPpeakAnno-Ex.timings

nameusersystemelapsed
ChIPpeakAnno-package000
ExonPlusUtr.human.GRCh371.6560.0301.721
HOT.spots0.0640.0030.066
IDRfilter000
Peaks.Ste12.Replicate10.0140.0010.016
Peaks.Ste12.Replicate20.0040.0010.005
Peaks.Ste12.Replicate30.0030.0010.004
TSS.human.GRCh370.0540.0020.055
TSS.human.GRCh380.1070.0030.125
TSS.human.NCBI360.0570.0050.075
TSS.mouse.GRCm380.0550.0030.058
TSS.mouse.NCBIM370.0460.0030.061
TSS.rat.RGSC3.40.0420.0020.043
TSS.rat.Rnor_5.00.0350.0020.037
TSS.zebrafish.Zv80.0400.0040.044
TSS.zebrafish.Zv90.0450.0020.047
addAncestors0.3910.0170.418
addGeneIDs0.8650.2211.109
addMetadata0.3530.0230.399
annoGR000
annoPeaks0.9760.1001.109
annotatePeakInBatch4.4830.2344.815
annotatedPeak0.0310.0020.033
assignChromosomeRegion0.0010.0000.001
bdp000
binOverFeature0.2460.0090.256
binOverGene0.0000.0000.001
binOverRegions000
condenseMatrixByColnames0.0030.0000.003
convert2EntrezID0.1260.0020.128
countPatternInSeqs0.0480.0010.049
cumulativePercentage000
downstreams0.0070.0000.007
egOrgMap000
enrichedGO0.0010.0010.001
enrichmentPlot0.2430.0070.250
estFragmentLength000
estLibSize000
featureAlignedDistribution0.0660.0010.066
featureAlignedExtendSignal0.0000.0000.001
featureAlignedHeatmap0.0940.0020.097
featureAlignedSignal0.0520.0150.067
findEnhancers7.1300.2237.600
findMotifsInPromoterSeqs4.8550.1285.064
findOverlappingPeaks000
findOverlapsOfPeaks0.5420.0110.558
genomicElementDistribution0.0010.0000.000
genomicElementUpSetR000
getAllPeakSequence0.2150.0100.226
getAnnotation0.0000.0000.001
getEnrichedGO0.0040.0010.004
getEnrichedPATH000
getGO000
getGeneSeq0.0010.0010.000
getUniqueGOidCount0.0000.0000.001
getVennCounts0.0010.0000.000
hyperGtest000
makeVennDiagram0.0010.0000.001
mergePlusMinusPeaks0.0010.0010.000
metagenePlot1.2140.0521.274
myPeakList0.0090.0010.010
oligoFrequency0.0340.0020.043
oligoSummary000
peakPermTest0.0000.0000.001
peaks10.0020.0010.003
peaks20.0020.0010.002
peaks30.0020.0010.002
peaksNearBDP000
pie10.0020.0000.002
plotBinOverRegions0.0000.0010.000
preparePool000
reCenterPeaks0.0070.0000.007
summarizeOverlapsByBins2.6170.2162.888
summarizePatternInPeaks0.4200.1360.577
tileCount0.0760.0860.160
tileGRanges0.0100.0110.021
toGRanges0.0230.0170.041
translatePattern0.0000.0000.001
wgEncodeTfbsV30.1060.0180.129
write2FASTA0.0040.0020.008
xget0.0370.0110.049