Back to Multiple platform build/check report for BioC 3.22:   simplified   long
AB[C]DEFGHIJKLMNOPQRSTUVWXYZ

This page was generated on 2025-10-20 12:03 -0400 (Mon, 20 Oct 2025).

HostnameOSArch (*)R versionInstalled pkgs
nebbiolo2Linux (Ubuntu 24.04.3 LTS)x86_644.5.1 Patched (2025-08-23 r88802) -- "Great Square Root" 4887
lconwaymacOS 12.7.6 Montereyx86_644.5.1 Patched (2025-09-10 r88807) -- "Great Square Root" 4677
kjohnson3macOS 13.7.7 Venturaarm644.5.1 Patched (2025-09-10 r88807) -- "Great Square Root" 4622
taishanLinux (openEuler 24.03 LTS)aarch644.5.0 (2025-04-11) -- "How About a Twenty-Six" 4632
Click on any hostname to see more info about the system (e.g. compilers)      (*) as reported by 'uname -p', except on Windows and Mac OS X

Package 348/2353HostnameOS / ArchINSTALLBUILDCHECKBUILD BIN
ChIPpeakAnno 3.43.2  (landing page)
Jianhong Ou
Snapshot Date: 2025-10-19 13:45 -0400 (Sun, 19 Oct 2025)
git_url: https://git.bioconductor.org/packages/ChIPpeakAnno
git_branch: devel
git_last_commit: 7fc2367
git_last_commit_date: 2025-10-15 16:45:05 -0400 (Wed, 15 Oct 2025)
nebbiolo2Linux (Ubuntu 24.04.3 LTS) / x86_64  OK    OK    OK  UNNEEDED, same version is already published
lconwaymacOS 12.7.6 Monterey / x86_64  OK    OK    OK    OK  UNNEEDED, same version is already published
kjohnson3macOS 13.7.7 Ventura / arm64  OK    OK    OK    OK  UNNEEDED, same version is already published
taishanLinux (openEuler 24.03 LTS) / aarch64  OK    OK    OK  


CHECK results for ChIPpeakAnno on nebbiolo2

To the developers/maintainers of the ChIPpeakAnno package:
- Allow up to 24 hours (and sometimes 48 hours) for your latest push to git@git.bioconductor.org:packages/ChIPpeakAnno.git to reflect on this report. See Troubleshooting Build Report for more information.
- Use the following Renviron settings to reproduce errors and warnings.
- If 'R CMD check' started to fail recently on the Linux builder(s) over a missing dependency, add the missing dependency to 'Suggests:' in your DESCRIPTION file. See Renviron.bioc for more information.

raw results


Summary

Package: ChIPpeakAnno
Version: 3.43.2
Command: /home/biocbuild/bbs-3.22-bioc/R/bin/R CMD check --install=check:ChIPpeakAnno.install-out.txt --library=/home/biocbuild/bbs-3.22-bioc/R/site-library --timings ChIPpeakAnno_3.43.2.tar.gz
StartedAt: 2025-10-19 22:05:39 -0400 (Sun, 19 Oct 2025)
EndedAt: 2025-10-19 22:29:51 -0400 (Sun, 19 Oct 2025)
EllapsedTime: 1452.3 seconds
RetCode: 0
Status:   OK  
CheckDir: ChIPpeakAnno.Rcheck
Warnings: 0

Command output

##############################################################################
##############################################################################
###
### Running command:
###
###   /home/biocbuild/bbs-3.22-bioc/R/bin/R CMD check --install=check:ChIPpeakAnno.install-out.txt --library=/home/biocbuild/bbs-3.22-bioc/R/site-library --timings ChIPpeakAnno_3.43.2.tar.gz
###
##############################################################################
##############################################################################


* using log directory ‘/home/biocbuild/bbs-3.22-bioc/meat/ChIPpeakAnno.Rcheck’
* using R version 4.5.1 Patched (2025-08-23 r88802)
* using platform: x86_64-pc-linux-gnu
* R was compiled by
    gcc (Ubuntu 13.3.0-6ubuntu2~24.04) 13.3.0
    GNU Fortran (Ubuntu 13.3.0-6ubuntu2~24.04) 13.3.0
* running under: Ubuntu 24.04.3 LTS
* using session charset: UTF-8
* checking for file ‘ChIPpeakAnno/DESCRIPTION’ ... OK
* checking extension type ... Package
* this is package ‘ChIPpeakAnno’ version ‘3.43.2’
* package encoding: UTF-8
* checking package namespace information ... OK
* checking package dependencies ... INFO
Imports includes 29 non-default packages.
Importing from so many packages makes the package vulnerable to any of
them becoming unavailable.  Move as many as possible to Suggests and
use conditionally.
* checking if this is a source package ... OK
* checking if there is a namespace ... OK
* checking for hidden files and directories ... OK
* checking for portable file names ... OK
* checking for sufficient/correct file permissions ... OK
* checking whether package ‘ChIPpeakAnno’ can be installed ... OK
* checking installed package size ... INFO
  installed size is 21.1Mb
  sub-directories of 1Mb or more:
    R         1.0Mb
    data     12.6Mb
    extdata   7.2Mb
* checking package directory ... OK
* checking ‘build’ directory ... OK
* checking DESCRIPTION meta-information ... OK
* checking top-level files ... OK
* checking for left-over files ... OK
* checking index information ... OK
* checking package subdirectories ... OK
* checking code files for non-ASCII characters ... OK
* checking R files for syntax errors ... OK
* checking whether the package can be loaded ... OK
* checking whether the package can be loaded with stated dependencies ... OK
* checking whether the package can be unloaded cleanly ... OK
* checking whether the namespace can be loaded with stated dependencies ... OK
* checking whether the namespace can be unloaded cleanly ... OK
* checking loading without being on the library search path ... OK
* checking dependencies in R code ... OK
* checking S3 generic/method consistency ... OK
* checking replacement functions ... OK
* checking foreign function calls ... OK
* checking R code for possible problems ... OK
* checking Rd files ... OK
* checking Rd metadata ... OK
* checking Rd cross-references ... OK
* checking for missing documentation entries ... OK
* checking for code/documentation mismatches ... OK
* checking Rd \usage sections ... OK
* checking Rd contents ... OK
* checking for unstated dependencies in examples ... OK
* checking contents of ‘data’ directory ... OK
* checking data for non-ASCII characters ... OK
* checking LazyData ... OK
* checking data for ASCII and uncompressed saves ... OK
* checking files in ‘vignettes’ ... OK
* checking examples ... OK
Examples with CPU (user + system) or elapsed time > 5s
                           user system elapsed
findEnhancers            23.342  0.406  23.749
findMotifsInPromoterSeqs 13.009  0.161  13.287
annotatePeakInBatch      11.816  0.373  12.190
summarizeOverlapsByBins   5.129  0.398   5.259
* checking for unstated dependencies in ‘tests’ ... OK
* checking tests ...
  Running ‘runTests.R’
 OK
* checking for unstated dependencies in vignettes ... OK
* checking package vignettes ... OK
* checking re-building of vignette outputs ... OK
* checking PDF version of manual ... OK
* DONE

Status: OK


Installation output

ChIPpeakAnno.Rcheck/00install.out

##############################################################################
##############################################################################
###
### Running command:
###
###   /home/biocbuild/bbs-3.22-bioc/R/bin/R CMD INSTALL ChIPpeakAnno
###
##############################################################################
##############################################################################


* installing to library ‘/home/biocbuild/bbs-3.22-bioc/R/site-library’
* installing *source* package ‘ChIPpeakAnno’ ...
** this is package ‘ChIPpeakAnno’ version ‘3.43.2’
** using staged installation
** R
** data
*** moving datasets to lazyload DB
** inst
** byte-compile and prepare package for lazy loading
** help
*** installing help indices
** building package indices
** installing vignettes
** testing if installed package can be loaded from temporary location
** testing if installed package can be loaded from final location
** testing if installed package keeps a record of temporary installation path
* DONE (ChIPpeakAnno)

Tests output

ChIPpeakAnno.Rcheck/tests/runTests.Rout


R version 4.5.1 Patched (2025-08-23 r88802) -- "Great Square Root"
Copyright (C) 2025 The R Foundation for Statistical Computing
Platform: x86_64-pc-linux-gnu

R is free software and comes with ABSOLUTELY NO WARRANTY.
You are welcome to redistribute it under certain conditions.
Type 'license()' or 'licence()' for distribution details.

R is a collaborative project with many contributors.
Type 'contributors()' for more information and
'citation()' on how to cite R or R packages in publications.

Type 'demo()' for some demos, 'help()' for on-line help, or
'help.start()' for an HTML browser interface to help.
Type 'q()' to quit R.

> require("ChIPpeakAnno") || stop("unable to load Package:ChIPpeakAnno")
Loading required package: ChIPpeakAnno
Loading required package: IRanges
Loading required package: BiocGenerics
Loading required package: generics

Attaching package: 'generics'

The following objects are masked from 'package:base':

    as.difftime, as.factor, as.ordered, intersect, is.element, setdiff,
    setequal, union


Attaching package: 'BiocGenerics'

The following objects are masked from 'package:stats':

    IQR, mad, sd, var, xtabs

The following objects are masked from 'package:base':

    Filter, Find, Map, Position, Reduce, anyDuplicated, aperm, append,
    as.data.frame, basename, cbind, colnames, dirname, do.call,
    duplicated, eval, evalq, get, grep, grepl, is.unsorted, lapply,
    mapply, match, mget, order, paste, pmax, pmax.int, pmin, pmin.int,
    rank, rbind, rownames, sapply, saveRDS, table, tapply, unique,
    unsplit, which.max, which.min

Loading required package: S4Vectors
Loading required package: stats4

Attaching package: 'S4Vectors'

The following object is masked from 'package:utils':

    findMatches

The following objects are masked from 'package:base':

    I, expand.grid, unname

Loading required package: GenomicRanges
Loading required package: Seqinfo
[1] TRUE
> require("BSgenome.Drerio.UCSC.danRer7") || stop("unable to load Package:BSgenome.Drerio.UCSC.danRer7")
Loading required package: BSgenome.Drerio.UCSC.danRer7
Loading required package: BSgenome
Loading required package: Biostrings
Loading required package: XVector

Attaching package: 'Biostrings'

The following object is masked from 'package:base':

    strsplit

Loading required package: BiocIO
Loading required package: rtracklayer
[1] TRUE
> require("BSgenome.Hsapiens.UCSC.hg19") || stop("unable to load Package:BSgenome.Hsapiens.UCSC.hg19")
Loading required package: BSgenome.Hsapiens.UCSC.hg19
[1] TRUE
> require("org.Hs.eg.db") || stop("unable to load Package:org.Hs.eg.db")
Loading required package: org.Hs.eg.db
Loading required package: AnnotationDbi
Loading required package: Biobase
Welcome to Bioconductor

    Vignettes contain introductory material; view with
    'browseVignettes()'. To cite Bioconductor, see
    'citation("Biobase")', and for packages 'citation("pkgname")'.


[1] TRUE
> require("org.Ce.eg.db") || stop("unable to load Package:org.Ce.eg.db")
Loading required package: org.Ce.eg.db

[1] TRUE
> require("BSgenome.Celegans.UCSC.ce10") || stop("unable to load Package:BSgenome.Celegans.UCSC.ce10")
Loading required package: BSgenome.Celegans.UCSC.ce10
[1] TRUE
> require("EnsDb.Hsapiens.v79") || stop("unable to load Package:EnsDb.Hsapiens.v79")
Loading required package: EnsDb.Hsapiens.v79
Loading required package: ensembldb
Loading required package: GenomicFeatures
Loading required package: AnnotationFilter

Attaching package: 'ensembldb'

The following object is masked from 'package:stats':

    filter

[1] TRUE
> require("TxDb.Hsapiens.UCSC.hg38.knownGene") || stop("unable to load TxDb.Hsapiens.UCSC.hg38.knownGene")
Loading required package: TxDb.Hsapiens.UCSC.hg38.knownGene
[1] TRUE
> require("biomaRt") || stop("unable to load biomaRt")
Loading required package: biomaRt
[1] TRUE
> require("reactome.db") || stop("unable to load reactome.db")
Loading required package: reactome.db
[1] TRUE
> require("testthat") || stop("unable to load testthat")
Loading required package: testthat

Attaching package: 'testthat'

The following object is masked from 'package:AnnotationFilter':

    not

[1] TRUE
> test_check("ChIPpeakAnno")
INFO [2025-10-19 22:15:16] $cat.cex
INFO [2025-10-19 22:15:16] [1] 1
INFO [2025-10-19 22:15:16] 
INFO [2025-10-19 22:15:16] $cat.col
INFO [2025-10-19 22:15:16] [1] "black"
INFO [2025-10-19 22:15:16] 
INFO [2025-10-19 22:15:16] $cat.fontface
INFO [2025-10-19 22:15:16] [1] "plain"
INFO [2025-10-19 22:15:16] 
INFO [2025-10-19 22:15:16] $cat.fontfamily
INFO [2025-10-19 22:15:16] [1] "serif"
INFO [2025-10-19 22:15:16] 
INFO [2025-10-19 22:15:16] $x
INFO [2025-10-19 22:15:16] $x$TF1
INFO [2025-10-19 22:15:16] [1] 3 4 5
INFO [2025-10-19 22:15:16] 
INFO [2025-10-19 22:15:16] $x$TF2
INFO [2025-10-19 22:15:16] [1] 1 2 3 4 5
INFO [2025-10-19 22:15:16] 
INFO [2025-10-19 22:15:16] 
INFO [2025-10-19 22:15:16] $disable.logging
INFO [2025-10-19 22:15:16] [1] TRUE
INFO [2025-10-19 22:15:16] 
INFO [2025-10-19 22:15:16] $filename
INFO [2025-10-19 22:15:16] NULL
INFO [2025-10-19 22:15:16] 
INFO [2025-10-19 22:15:16] $cat.cex
INFO [2025-10-19 22:15:16] [1] 1
INFO [2025-10-19 22:15:16] 
INFO [2025-10-19 22:15:16] $cat.col
INFO [2025-10-19 22:15:16] [1] "black"
INFO [2025-10-19 22:15:16] 
INFO [2025-10-19 22:15:16] $cat.fontface
INFO [2025-10-19 22:15:16] [1] "plain"
INFO [2025-10-19 22:15:16] 
INFO [2025-10-19 22:15:16] $cat.fontfamily
INFO [2025-10-19 22:15:16] [1] "serif"
INFO [2025-10-19 22:15:16] 
INFO [2025-10-19 22:15:16] $x
INFO [2025-10-19 22:15:16] $x$TF1
INFO [2025-10-19 22:15:16] [1] 3 4 5
INFO [2025-10-19 22:15:16] 
INFO [2025-10-19 22:15:16] $x$TF2
INFO [2025-10-19 22:15:16] [1] 1 2 4 5
INFO [2025-10-19 22:15:16] 
INFO [2025-10-19 22:15:16] $x$TF3
INFO [2025-10-19 22:15:16] [1] 3 4 5
INFO [2025-10-19 22:15:16] 
INFO [2025-10-19 22:15:16] $x$TF4
INFO [2025-10-19 22:15:16] [1] 1 2 4 5
INFO [2025-10-19 22:15:16] 
INFO [2025-10-19 22:15:16] 
INFO [2025-10-19 22:15:16] $disable.logging
INFO [2025-10-19 22:15:16] [1] TRUE
INFO [2025-10-19 22:15:16] 
INFO [2025-10-19 22:15:16] $filename
INFO [2025-10-19 22:15:16] NULL
INFO [2025-10-19 22:15:16] 
INFO [2025-10-19 22:15:17] $scaled
INFO [2025-10-19 22:15:17] [1] FALSE
INFO [2025-10-19 22:15:17] 
INFO [2025-10-19 22:15:17] $euler.d
INFO [2025-10-19 22:15:17] [1] FALSE
INFO [2025-10-19 22:15:17] 
INFO [2025-10-19 22:15:17] $cat.cex
INFO [2025-10-19 22:15:17] [1] 1
INFO [2025-10-19 22:15:17] 
INFO [2025-10-19 22:15:17] $cat.col
INFO [2025-10-19 22:15:17] [1] "black"
INFO [2025-10-19 22:15:17] 
INFO [2025-10-19 22:15:17] $cat.fontface
INFO [2025-10-19 22:15:17] [1] "plain"
INFO [2025-10-19 22:15:17] 
INFO [2025-10-19 22:15:17] $cat.fontfamily
INFO [2025-10-19 22:15:17] [1] "serif"
INFO [2025-10-19 22:15:17] 
INFO [2025-10-19 22:15:17] $x
INFO [2025-10-19 22:15:17] $x$TF1
INFO [2025-10-19 22:15:17] [1] 1 2 3
INFO [2025-10-19 22:15:17] 
INFO [2025-10-19 22:15:17] $x$TF2
INFO [2025-10-19 22:15:17] [1] 1 2 3
INFO [2025-10-19 22:15:17] 
INFO [2025-10-19 22:15:17] 
INFO [2025-10-19 22:15:17] $disable.logging
INFO [2025-10-19 22:15:17] [1] TRUE
INFO [2025-10-19 22:15:17] 
INFO [2025-10-19 22:15:17] $filename
INFO [2025-10-19 22:15:17] NULL
INFO [2025-10-19 22:15:17] 
INFO [2025-10-19 22:15:17] $scaled
INFO [2025-10-19 22:15:17] [1] FALSE
INFO [2025-10-19 22:15:17] 
INFO [2025-10-19 22:15:17] $euler.d
INFO [2025-10-19 22:15:17] [1] FALSE
INFO [2025-10-19 22:15:17] 
INFO [2025-10-19 22:15:17] $cat.cex
INFO [2025-10-19 22:15:17] [1] 1
INFO [2025-10-19 22:15:17] 
INFO [2025-10-19 22:15:17] $cat.col
INFO [2025-10-19 22:15:17] [1] "black"
INFO [2025-10-19 22:15:17] 
INFO [2025-10-19 22:15:17] $cat.fontface
INFO [2025-10-19 22:15:17] [1] "plain"
INFO [2025-10-19 22:15:17] 
INFO [2025-10-19 22:15:17] $cat.fontfamily
INFO [2025-10-19 22:15:17] [1] "serif"
INFO [2025-10-19 22:15:17] 
INFO [2025-10-19 22:15:17] $x
INFO [2025-10-19 22:15:17] $x$TF1
INFO [2025-10-19 22:15:17] [1] 4 5 6
INFO [2025-10-19 22:15:17] 
INFO [2025-10-19 22:15:17] $x$TF2
INFO [2025-10-19 22:15:17] [1] 1 2 3
INFO [2025-10-19 22:15:17] 
INFO [2025-10-19 22:15:17] 
INFO [2025-10-19 22:15:17] $disable.logging
INFO [2025-10-19 22:15:17] [1] TRUE
INFO [2025-10-19 22:15:17] 
INFO [2025-10-19 22:15:17] $filename
INFO [2025-10-19 22:15:17] NULL
INFO [2025-10-19 22:15:17] 
INFO [2025-10-19 22:15:17] $scaled
INFO [2025-10-19 22:15:17] [1] FALSE
INFO [2025-10-19 22:15:17] 
INFO [2025-10-19 22:15:17] $euler.d
INFO [2025-10-19 22:15:17] [1] FALSE
INFO [2025-10-19 22:15:17] 
INFO [2025-10-19 22:15:17] $cat.cex
INFO [2025-10-19 22:15:17] [1] 1
INFO [2025-10-19 22:15:17] 
INFO [2025-10-19 22:15:17] $cat.col
INFO [2025-10-19 22:15:17] [1] "black"
INFO [2025-10-19 22:15:17] 
INFO [2025-10-19 22:15:17] $cat.fontface
INFO [2025-10-19 22:15:17] [1] "plain"
INFO [2025-10-19 22:15:17] 
INFO [2025-10-19 22:15:17] $cat.fontfamily
INFO [2025-10-19 22:15:17] [1] "serif"
INFO [2025-10-19 22:15:17] 
INFO [2025-10-19 22:15:17] $x
INFO [2025-10-19 22:15:17] $x$TF1
INFO [2025-10-19 22:15:17] [1] 4 5 6
INFO [2025-10-19 22:15:17] 
INFO [2025-10-19 22:15:17] $x$TF2
INFO [2025-10-19 22:15:17] [1] 1 2 3
INFO [2025-10-19 22:15:17] 
INFO [2025-10-19 22:15:17] 
INFO [2025-10-19 22:15:17] $disable.logging
INFO [2025-10-19 22:15:17] [1] TRUE
INFO [2025-10-19 22:15:17] 
INFO [2025-10-19 22:15:17] $filename
INFO [2025-10-19 22:15:17] NULL
INFO [2025-10-19 22:15:17] 
INFO [2025-10-19 22:15:17] $scaled
INFO [2025-10-19 22:15:17] [1] FALSE
INFO [2025-10-19 22:15:17] 
INFO [2025-10-19 22:15:17] $euler.d
INFO [2025-10-19 22:15:17] [1] FALSE
INFO [2025-10-19 22:15:17] 
INFO [2025-10-19 22:15:17] $cat.cex
INFO [2025-10-19 22:15:17] [1] 1
INFO [2025-10-19 22:15:17] 
INFO [2025-10-19 22:15:17] $cat.col
INFO [2025-10-19 22:15:17] [1] "black"
INFO [2025-10-19 22:15:17] 
INFO [2025-10-19 22:15:17] $cat.fontface
INFO [2025-10-19 22:15:17] [1] "plain"
INFO [2025-10-19 22:15:17] 
INFO [2025-10-19 22:15:17] $cat.fontfamily
INFO [2025-10-19 22:15:17] [1] "serif"
INFO [2025-10-19 22:15:17] 
INFO [2025-10-19 22:15:17] $x
INFO [2025-10-19 22:15:17] $x$TF1
INFO [2025-10-19 22:15:17] [1] 4 5 6
INFO [2025-10-19 22:15:17] 
INFO [2025-10-19 22:15:17] $x$TF2
INFO [2025-10-19 22:15:17] [1] 1 2 3
INFO [2025-10-19 22:15:17] 
INFO [2025-10-19 22:15:17] $x$TF3
INFO [2025-10-19 22:15:17] [1] 2 3 6
INFO [2025-10-19 22:15:17] 
INFO [2025-10-19 22:15:17] 
INFO [2025-10-19 22:15:17] $disable.logging
INFO [2025-10-19 22:15:17] [1] TRUE
INFO [2025-10-19 22:15:17] 
INFO [2025-10-19 22:15:17] $filename
INFO [2025-10-19 22:15:17] NULL
INFO [2025-10-19 22:15:17] 
INFO [2025-10-19 22:15:18] $scaled
INFO [2025-10-19 22:15:18] [1] FALSE
INFO [2025-10-19 22:15:18] 
INFO [2025-10-19 22:15:18] $euler.d
INFO [2025-10-19 22:15:18] [1] FALSE
INFO [2025-10-19 22:15:18] 
INFO [2025-10-19 22:15:18] $cat.cex
INFO [2025-10-19 22:15:18] [1] 1
INFO [2025-10-19 22:15:18] 
INFO [2025-10-19 22:15:18] $cat.col
INFO [2025-10-19 22:15:18] [1] "black"
INFO [2025-10-19 22:15:18] 
INFO [2025-10-19 22:15:18] $cat.fontface
INFO [2025-10-19 22:15:18] [1] "plain"
INFO [2025-10-19 22:15:18] 
INFO [2025-10-19 22:15:18] $cat.fontfamily
INFO [2025-10-19 22:15:18] [1] "serif"
INFO [2025-10-19 22:15:18] 
INFO [2025-10-19 22:15:18] $x
INFO [2025-10-19 22:15:18] $x$TF1
INFO [2025-10-19 22:15:18] [1] 3 4 5
INFO [2025-10-19 22:15:18] 
INFO [2025-10-19 22:15:18] $x$TF2
INFO [2025-10-19 22:15:18] [1] 1 2 5
INFO [2025-10-19 22:15:18] 
INFO [2025-10-19 22:15:18] $x$TF3
INFO [2025-10-19 22:15:18] [1] 1 2 5
INFO [2025-10-19 22:15:18] 
INFO [2025-10-19 22:15:18] 
INFO [2025-10-19 22:15:18] $disable.logging
INFO [2025-10-19 22:15:18] [1] TRUE
INFO [2025-10-19 22:15:18] 
INFO [2025-10-19 22:15:18] $filename
INFO [2025-10-19 22:15:18] NULL
INFO [2025-10-19 22:15:18] 
INFO [2025-10-19 22:15:18] $scaled
INFO [2025-10-19 22:15:18] [1] FALSE
INFO [2025-10-19 22:15:18] 
INFO [2025-10-19 22:15:18] $euler.d
INFO [2025-10-19 22:15:18] [1] FALSE
INFO [2025-10-19 22:15:18] 
INFO [2025-10-19 22:15:18] $cat.cex
INFO [2025-10-19 22:15:18] [1] 1
INFO [2025-10-19 22:15:18] 
INFO [2025-10-19 22:15:18] $cat.col
INFO [2025-10-19 22:15:18] [1] "black"
INFO [2025-10-19 22:15:18] 
INFO [2025-10-19 22:15:18] $cat.fontface
INFO [2025-10-19 22:15:18] [1] "plain"
INFO [2025-10-19 22:15:18] 
INFO [2025-10-19 22:15:18] $cat.fontfamily
INFO [2025-10-19 22:15:18] [1] "serif"
INFO [2025-10-19 22:15:18] 
INFO [2025-10-19 22:15:18] $x
INFO [2025-10-19 22:15:18] $x$TF1
INFO [2025-10-19 22:15:18] [1] 3 4 5
INFO [2025-10-19 22:15:18] 
INFO [2025-10-19 22:15:18] $x$TF2
INFO [2025-10-19 22:15:18] [1] 1 2 5
INFO [2025-10-19 22:15:18] 
INFO [2025-10-19 22:15:18] $x$TF3
INFO [2025-10-19 22:15:18] [1] 1 2 5
INFO [2025-10-19 22:15:18] 
INFO [2025-10-19 22:15:18] $x$TF4
INFO [2025-10-19 22:15:18] [1] 1 2 5
INFO [2025-10-19 22:15:18] 
INFO [2025-10-19 22:15:18] 
INFO [2025-10-19 22:15:18] $disable.logging
INFO [2025-10-19 22:15:18] [1] TRUE
INFO [2025-10-19 22:15:18] 
INFO [2025-10-19 22:15:18] $filename
INFO [2025-10-19 22:15:18] NULL
INFO [2025-10-19 22:15:18] 
[ FAIL 0 | WARN 2 | SKIP 6 | PASS 324 ]

══ Skipped tests (6) ═══════════════════════════════════════════════════════════
• empty test (6): 'test_binOverGene.R:1:1', 'test_binOverRegions.R:1:1',
  'test_enrichmentPlot.R:1:1', 'test_getAnnotation.R:1:1',
  'test_reCenterPeaks.R:1:1', 'test_write2FASTA.R:1:1'

[ FAIL 0 | WARN 2 | SKIP 6 | PASS 324 ]
> 
> proc.time()
   user  system elapsed 
166.774   2.535 170.341 

Example timings

ChIPpeakAnno.Rcheck/ChIPpeakAnno-Ex.timings

nameusersystemelapsed
ChIPpeakAnno-package000
ExonPlusUtr.human.GRCh373.2330.1643.397
HOT.spots0.1330.0190.152
IDRfilter000
Peaks.Ste12.Replicate10.0450.0030.047
Peaks.Ste12.Replicate20.0110.0000.011
Peaks.Ste12.Replicate30.0110.0000.011
TSS.human.GRCh370.1010.0080.109
TSS.human.GRCh380.2120.0080.220
TSS.human.NCBI360.1060.0000.106
TSS.mouse.GRCm380.0980.0070.104
TSS.mouse.NCBIM370.0840.0120.096
TSS.rat.RGSC3.40.0750.0070.082
TSS.rat.Rnor_5.00.0610.0090.070
TSS.zebrafish.Zv80.0710.0040.075
TSS.zebrafish.Zv90.0820.0040.086
addAncestors0.9010.0250.926
addGeneIDs0.7020.0310.734
addMetadata1.2320.0951.327
annoGR0.0000.0000.001
annoPeaks2.3840.2222.605
annotatePeakInBatch11.816 0.37312.190
annotatedPeak0.0650.0000.066
assignChromosomeRegion0.0000.0000.001
bdp000
binOverFeature0.7250.0030.729
binOverGene0.0000.0000.001
binOverRegions000
condenseMatrixByColnames0.0090.0000.009
convert2EntrezID0.2960.0010.297
countPatternInSeqs0.1320.0000.131
cumulativePercentage0.0000.0010.001
downstreams0.0190.0010.020
egOrgMap000
enrichedGO0.0020.0000.001
enrichmentPlot0.6940.0060.700
estFragmentLength0.0010.0000.000
estLibSize0.0000.0000.001
featureAlignedDistribution0.2050.0010.206
featureAlignedExtendSignal0.0010.0000.001
featureAlignedHeatmap0.2760.0120.289
featureAlignedSignal0.1650.0070.172
findEnhancers23.342 0.40623.749
findMotifsInPromoterSeqs13.009 0.16113.287
findOverlappingPeaks0.0010.0000.001
findOverlapsOfPeaks1.7040.0031.707
genomicElementDistribution0.0000.0000.001
genomicElementUpSetR0.0000.0000.001
getAllPeakSequence0.5050.0140.519
getAnnotation0.0010.0000.001
getEnrichedGO0.0080.0010.008
getEnrichedPATH0.0010.0000.000
getGO000
getGeneSeq0.0000.0000.001
getUniqueGOidCount0.0000.0010.001
getVennCounts0.0000.0010.000
hyperGtest0.0010.0000.000
makeVennDiagram0.0020.0000.002
mergePlusMinusPeaks0.0010.0000.000
metagenePlot2.8960.0332.929
myPeakList0.0140.0000.014
oligoFrequency0.0860.0020.089
oligoSummary0.0000.0000.001
peakPermTest0.0010.0000.001
peaks10.0080.0000.007
peaks20.0070.0000.007
peaks30.0070.0000.007
peaksNearBDP0.0000.0000.001
pie10.0040.0000.005
plotBinOverRegions000
preparePool0.0010.0000.000
reCenterPeaks0.0220.0010.023
summarizeOverlapsByBins5.1290.3985.259
summarizePatternInPeaks1.3850.1531.537
tileCount0.1950.2120.356
tileGRanges0.1370.1070.039
toGRanges0.0810.0040.085
translatePattern000
wgEncodeTfbsV30.2230.0080.232
write2FASTA0.0150.0010.016
xget0.1200.0090.129