| Back to Multiple platform build/check report for BioC 3.22: simplified long |
|
This page was generated on 2025-11-20 12:04 -0500 (Thu, 20 Nov 2025).
| Hostname | OS | Arch (*) | R version | Installed pkgs |
|---|---|---|---|---|
| nebbiolo2 | Linux (Ubuntu 24.04.3 LTS) | x86_64 | 4.5.2 (2025-10-31) -- "[Not] Part in a Rumble" | 4615 |
| merida1 | macOS 12.7.6 Monterey | x86_64 | 4.5.2 Patched (2025-11-05 r88990) -- "[Not] Part in a Rumble" | 4610 |
| kjohnson1 | macOS 13.7.5 Ventura | arm64 | 4.5.2 Patched (2025-11-04 r88984) -- "[Not] Part in a Rumble" | 4598 |
| taishan | Linux (openEuler 24.03 LTS) | aarch64 | 4.5.0 (2025-04-11) -- "How About a Twenty-Six" | 4668 |
| Click on any hostname to see more info about the system (e.g. compilers) (*) as reported by 'uname -p', except on Windows and Mac OS X | ||||
| Package 59/2361 | Hostname | OS / Arch | INSTALL | BUILD | CHECK | BUILD BIN | ||||||||
| AlpsNMR 4.12.0 (landing page) Sergio Oller Moreno
| nebbiolo2 | Linux (Ubuntu 24.04.3 LTS) / x86_64 | OK | OK | OK | |||||||||
| merida1 | macOS 12.7.6 Monterey / x86_64 | OK | OK | OK | OK | |||||||||
| kjohnson1 | macOS 13.7.5 Ventura / arm64 | OK | OK | OK | OK | |||||||||
| taishan | Linux (openEuler 24.03 LTS) / aarch64 | OK | ERROR | skipped | ||||||||||
|
To the developers/maintainers of the AlpsNMR package: - Allow up to 24 hours (and sometimes 48 hours) for your latest push to git@git.bioconductor.org:packages/AlpsNMR.git to reflect on this report. See Troubleshooting Build Report for more information. - Use the following Renviron settings to reproduce errors and warnings. - If 'R CMD check' started to fail recently on the Linux builder(s) over a missing dependency, add the missing dependency to 'Suggests:' in your DESCRIPTION file. See Renviron.bioc for more information. |
| Package: AlpsNMR |
| Version: 4.12.0 |
| Command: /Library/Frameworks/R.framework/Resources/bin/R CMD check --install=check:AlpsNMR.install-out.txt --library=/Library/Frameworks/R.framework/Resources/library --no-vignettes --timings AlpsNMR_4.12.0.tar.gz |
| StartedAt: 2025-11-18 03:41:31 -0500 (Tue, 18 Nov 2025) |
| EndedAt: 2025-11-18 03:48:14 -0500 (Tue, 18 Nov 2025) |
| EllapsedTime: 403.2 seconds |
| RetCode: 0 |
| Status: OK |
| CheckDir: AlpsNMR.Rcheck |
| Warnings: 0 |
##############################################################################
##############################################################################
###
### Running command:
###
### /Library/Frameworks/R.framework/Resources/bin/R CMD check --install=check:AlpsNMR.install-out.txt --library=/Library/Frameworks/R.framework/Resources/library --no-vignettes --timings AlpsNMR_4.12.0.tar.gz
###
##############################################################################
##############################################################################
* using log directory ‘/Users/biocbuild/bbs-3.22-bioc/meat/AlpsNMR.Rcheck’
* using R version 4.5.2 Patched (2025-11-05 r88990)
* using platform: x86_64-apple-darwin20
* R was compiled by
Apple clang version 14.0.0 (clang-1400.0.29.202)
GNU Fortran (GCC) 14.2.0
* running under: macOS Monterey 12.7.6
* using session charset: UTF-8
* using option ‘--no-vignettes’
* checking for file ‘AlpsNMR/DESCRIPTION’ ... OK
* checking extension type ... Package
* this is package ‘AlpsNMR’ version ‘4.12.0’
* package encoding: UTF-8
* checking package namespace information ... OK
* checking package dependencies ... INFO
Imports includes 26 non-default packages.
Importing from so many packages makes the package vulnerable to any of
them becoming unavailable. Move as many as possible to Suggests and
use conditionally.
* checking if this is a source package ... OK
* checking if there is a namespace ... OK
* checking for hidden files and directories ... OK
* checking for portable file names ... OK
* checking for sufficient/correct file permissions ... OK
* checking whether package ‘AlpsNMR’ can be installed ... OK
* checking installed package size ... OK
* checking package directory ... OK
* checking ‘build’ directory ... OK
* checking DESCRIPTION meta-information ... OK
* checking top-level files ... OK
* checking for left-over files ... OK
* checking index information ... OK
* checking package subdirectories ... OK
* checking code files for non-ASCII characters ... OK
* checking R files for syntax errors ... OK
* checking whether the package can be loaded ... OK
* checking whether the package can be loaded with stated dependencies ... OK
* checking whether the package can be unloaded cleanly ... OK
* checking whether the namespace can be loaded with stated dependencies ... OK
* checking whether the namespace can be unloaded cleanly ... OK
* checking dependencies in R code ... OK
* checking S3 generic/method consistency ... OK
* checking replacement functions ... OK
* checking foreign function calls ... OK
* checking R code for possible problems ... OK
* checking Rd files ... OK
* checking Rd metadata ... OK
* checking Rd cross-references ... NOTE
Non-topic package-anchored link(s) in Rd file 'reexports.Rd':
‘[magrittr:pipe]{%>%}’
See section 'Cross-references' in the 'Writing R Extensions' manual.
Found the following Rd file(s) with Rd \link{} targets missing package
anchors:
filter.nmr_dataset_family.Rd: dplyr
Please provide package anchors for all Rd \link{} targets not in the
package itself and the base packages.
* checking for missing documentation entries ... OK
* checking for code/documentation mismatches ... OK
* checking Rd \usage sections ... OK
* checking Rd contents ... OK
* checking for unstated dependencies in examples ... OK
* checking contents of ‘data’ directory ... OK
* checking data for non-ASCII characters ... OK
* checking data for ASCII and uncompressed saves ... OK
* checking sizes of PDF files under ‘inst/doc’ ... OK
* checking files in ‘vignettes’ ... OK
* checking examples ... OK
Examples with CPU (user + system) or elapsed time > 5s
user system elapsed
Peak_detection 20.579 4.942 19.618
permutation_test_plot 12.488 5.988 4.724
nmr_pca_outliers_robust 15.540 1.256 17.458
SummarizedExperiment_to_nmr_data_1r 13.557 1.529 14.462
filter.nmr_dataset_family 5.454 5.358 5.477
nmr_meta_add 4.407 2.299 3.853
nmr_interpolate_1D 3.883 2.680 3.175
validate_nmr_dataset 3.836 2.556 3.055
nmr_pca_build_model 3.937 2.171 3.381
nmr_read_samples 3.362 2.028 2.550
bp_VIP_analysis 3.606 1.715 2.187
* checking for unstated dependencies in ‘tests’ ... OK
* checking tests ...
Running ‘testthat.R’
OK
* checking for unstated dependencies in vignettes ... OK
* checking package vignettes ... OK
* checking running R code from vignettes ... SKIPPED
* checking re-building of vignette outputs ... SKIPPED
* checking PDF version of manual ... OK
* DONE
Status: 1 NOTE
See
‘/Users/biocbuild/bbs-3.22-bioc/meat/AlpsNMR.Rcheck/00check.log’
for details.
AlpsNMR.Rcheck/00install.out
############################################################################## ############################################################################## ### ### Running command: ### ### /Library/Frameworks/R.framework/Resources/bin/R CMD INSTALL AlpsNMR ### ############################################################################## ############################################################################## * installing to library ‘/Library/Frameworks/R.framework/Versions/4.5-x86_64/Resources/library’ * installing *source* package ‘AlpsNMR’ ... ** this is package ‘AlpsNMR’ version ‘4.12.0’ ** using staged installation ** R ** data ** inst ** byte-compile and prepare package for lazy loading ** help *** installing help indices *** copying figures ** building package indices ** installing vignettes ** testing if installed package can be loaded from temporary location ** testing if installed package can be loaded from final location ** testing if installed package keeps a record of temporary installation path * DONE (AlpsNMR)
AlpsNMR.Rcheck/tests/testthat.Rout
R version 4.5.2 Patched (2025-11-05 r88990) -- "[Not] Part in a Rumble"
Copyright (C) 2025 The R Foundation for Statistical Computing
Platform: x86_64-apple-darwin20
R is free software and comes with ABSOLUTELY NO WARRANTY.
You are welcome to redistribute it under certain conditions.
Type 'license()' or 'licence()' for distribution details.
R is a collaborative project with many contributors.
Type 'contributors()' for more information and
'citation()' on how to cite R or R packages in publications.
Type 'demo()' for some demos, 'help()' for on-line help, or
'help.start()' for an HTML browser interface to help.
Type 'q()' to quit R.
> library(testthat)
> library(AlpsNMR)
Attaching package: 'AlpsNMR'
The following object is masked from 'package:stats':
filter
>
> test_check("AlpsNMR")
[ FAIL 0 | WARN 0 | SKIP 1 | PASS 93 ]
══ Skipped tests (1) ═══════════════════════════════════════════════════════════
• On Bioconductor (1): 'test_rDolphin.R:2:5'
[ FAIL 0 | WARN 0 | SKIP 1 | PASS 93 ]
>
> proc.time()
user system elapsed
51.118 20.260 49.915
AlpsNMR.Rcheck/AlpsNMR-Ex.timings
| name | user | system | elapsed | |
| AlpsNMR-package | 3.317 | 0.829 | 3.017 | |
| HMDB_blood | 0.011 | 0.005 | 0.017 | |
| HMDB_cell | 0.005 | 0.002 | 0.008 | |
| HMDB_urine | 0.010 | 0.005 | 0.015 | |
| Parameters_blood | 0.004 | 0.004 | 0.007 | |
| Parameters_cell | 0.003 | 0.002 | 0.006 | |
| Parameters_urine | 0.003 | 0.003 | 0.007 | |
| Peak_detection | 20.579 | 4.942 | 19.618 | |
| Pipelines | 0.003 | 0.002 | 0.005 | |
| ROI_blood | 0.007 | 0.003 | 0.011 | |
| ROI_cell | 0.007 | 0.003 | 0.010 | |
| ROI_urine | 0.007 | 0.003 | 0.010 | |
| SummarizedExperiment_to_nmr_data_1r | 13.557 | 1.529 | 14.462 | |
| SummarizedExperiment_to_nmr_dataset_peak_table | 2.753 | 1.636 | 2.639 | |
| bp_VIP_analysis | 3.606 | 1.715 | 2.187 | |
| bp_kfold_VIP_analysis | 2.224 | 1.044 | 1.485 | |
| download_MTBLS242 | 0.000 | 0.000 | 0.001 | |
| file_lister | 0.168 | 0.033 | 0.204 | |
| files_to_rDolphin | 0.000 | 0.002 | 0.002 | |
| filter.nmr_dataset_family | 5.454 | 5.358 | 5.477 | |
| format.nmr_dataset | 1.725 | 1.141 | 1.339 | |
| format.nmr_dataset_1D | 1.819 | 1.076 | 1.419 | |
| format.nmr_dataset_peak_table | 1.984 | 1.201 | 1.607 | |
| get_integration_with_metadata | 0.066 | 0.014 | 0.086 | |
| hmdb | 0.112 | 0.019 | 0.144 | |
| is.nmr_dataset | 1.725 | 1.124 | 1.317 | |
| is.nmr_dataset_1D | 1.395 | 0.892 | 1.568 | |
| is.nmr_dataset_peak_table | 2.410 | 1.543 | 1.726 | |
| load_and_save_functions | 1.290 | 0.801 | 1.377 | |
| models_stability_plot_bootstrap | 0.003 | 0.003 | 0.008 | |
| models_stability_plot_plsda | 1.317 | 0.929 | 0.775 | |
| new_nmr_dataset | 0.002 | 0.001 | 0.004 | |
| new_nmr_dataset_1D | 0.002 | 0.002 | 0.004 | |
| new_nmr_dataset_peak_table | 1.574 | 0.937 | 1.774 | |
| nmr_autophase | 0.974 | 0.611 | 0.851 | |
| nmr_baseline_estimation | 0.018 | 0.010 | 0.027 | |
| nmr_baseline_removal | 0.009 | 0.002 | 0.012 | |
| nmr_baseline_threshold | 0.002 | 0.001 | 0.003 | |
| nmr_baseline_threshold_plot | 0.725 | 0.110 | 0.877 | |
| nmr_batman | 0.005 | 0.003 | 0.008 | |
| nmr_batman_options | 0.000 | 0.001 | 0.001 | |
| nmr_build_peak_table | 0.073 | 0.010 | 0.088 | |
| nmr_data | 0.120 | 0.019 | 0.153 | |
| nmr_data_1r_to_SummarizedExperiment | 2.278 | 1.116 | 1.971 | |
| nmr_data_analysis | 0.936 | 0.685 | 0.823 | |
| nmr_dataset | 0.002 | 0.001 | 0.003 | |
| nmr_dataset_1D | 0.002 | 0.001 | 0.003 | |
| nmr_dataset_peak_table_to_SummarizedExperiment | 2.334 | 1.379 | 2.274 | |
| nmr_exclude_region | 0.011 | 0.003 | 0.016 | |
| nmr_export_data_1r | 1.974 | 1.366 | 1.654 | |
| nmr_get_peak_distances | 0.016 | 0.003 | 0.018 | |
| nmr_identify_regions_blood | 0.028 | 0.006 | 0.035 | |
| nmr_identify_regions_cell | 0.025 | 0.006 | 0.033 | |
| nmr_identify_regions_urine | 0.036 | 0.007 | 0.048 | |
| nmr_integrate_regions | 0.014 | 0.003 | 0.017 | |
| nmr_interpolate_1D | 3.883 | 2.680 | 3.175 | |
| nmr_meta_add | 4.407 | 2.299 | 3.853 | |
| nmr_meta_export | 1.619 | 0.916 | 1.256 | |
| nmr_meta_get | 1.879 | 1.194 | 1.562 | |
| nmr_meta_get_column | 1.763 | 1.086 | 1.378 | |
| nmr_meta_groups | 1.707 | 0.924 | 1.285 | |
| nmr_normalize | 0.827 | 0.129 | 1.069 | |
| nmr_pca_build_model | 3.937 | 2.171 | 3.381 | |
| nmr_pca_outliers | 2.852 | 1.208 | 2.901 | |
| nmr_pca_outliers_filter | 1.991 | 0.973 | 1.715 | |
| nmr_pca_outliers_plot | 0.000 | 0.000 | 0.001 | |
| nmr_pca_outliers_robust | 15.540 | 1.256 | 17.458 | |
| nmr_pca_plots | 1.215 | 0.030 | 1.348 | |
| nmr_peak_clustering | 0.167 | 0.003 | 0.186 | |
| nmr_ppm_resolution | 0.014 | 0.004 | 0.017 | |
| nmr_read_bruker_fid | 0.000 | 0.001 | 0.001 | |
| nmr_read_samples | 3.362 | 2.028 | 2.550 | |
| nmr_zip_bruker_samples | 0.313 | 0.067 | 0.391 | |
| peaklist_accept_peaks | 0.005 | 0.002 | 0.006 | |
| permutation_test_model | 1.716 | 1.201 | 4.323 | |
| permutation_test_plot | 12.488 | 5.988 | 4.724 | |
| plot.nmr_dataset_1D | 2.190 | 0.967 | 0.031 | |
| plot_bootstrap_multimodel | 0.004 | 0.013 | 0.017 | |
| plot_interactive | 1.973 | 1.400 | 1.606 | |
| plot_plsda_multimodel | 0.534 | 0.620 | 0.626 | |
| plot_plsda_samples | 0.225 | 0.174 | 0.498 | |
| plot_vip_scores | 0.003 | 0.004 | 0.007 | |
| plot_webgl | 0.003 | 0.003 | 0.005 | |
| plsda_auroc_vip_compare | 1.276 | 0.650 | 1.779 | |
| plsda_auroc_vip_method | 0.001 | 0.001 | 0.001 | |
| ppm_resolution | 0.004 | 0.002 | 0.006 | |
| print.nmr_dataset | 1.682 | 0.980 | 1.259 | |
| print.nmr_dataset_1D | 2.051 | 1.445 | 1.711 | |
| print.nmr_dataset_peak_table | 1.854 | 0.974 | 1.520 | |
| random_subsampling | 0.004 | 0.011 | 0.015 | |
| save_files_to_rDolphin | 0.000 | 0.001 | 0.001 | |
| save_profiling_output | 0.000 | 0.001 | 0.001 | |
| sub-.nmr_dataset | 1.841 | 1.229 | 1.379 | |
| sub-.nmr_dataset_1D | 1.977 | 1.311 | 1.587 | |
| sub-.nmr_dataset_peak_table | 2.020 | 1.121 | 2.033 | |
| tidy.nmr_dataset_1D | 2.155 | 1.362 | 1.911 | |
| to_ASICS | 2.179 | 0.316 | 2.542 | |
| to_ChemoSpec | 2.560 | 2.056 | 2.314 | |
| validate_nmr_dataset | 3.836 | 2.556 | 3.055 | |
| validate_nmr_dataset_family | 1.992 | 1.376 | 1.633 | |
| validate_nmr_dataset_peak_table | 0.002 | 0.000 | 0.003 | |
| zzz | 0.000 | 0.000 | 2.004 | |