Back to Multiple platform build/check report for BioC 3.22:   simplified   long
[A]BCDEFGHIJKLMNOPQRSTUVWXYZ

This page was generated on 2025-10-20 12:03 -0400 (Mon, 20 Oct 2025).

HostnameOSArch (*)R versionInstalled pkgs
nebbiolo2Linux (Ubuntu 24.04.3 LTS)x86_644.5.1 Patched (2025-08-23 r88802) -- "Great Square Root" 4887
lconwaymacOS 12.7.6 Montereyx86_644.5.1 Patched (2025-09-10 r88807) -- "Great Square Root" 4677
kjohnson3macOS 13.7.7 Venturaarm644.5.1 Patched (2025-09-10 r88807) -- "Great Square Root" 4622
taishanLinux (openEuler 24.03 LTS)aarch644.5.0 (2025-04-11) -- "How About a Twenty-Six" 4632
Click on any hostname to see more info about the system (e.g. compilers)      (*) as reported by 'uname -p', except on Windows and Mac OS X

Package 59/2353HostnameOS / ArchINSTALLBUILDCHECKBUILD BIN
AlpsNMR 4.11.1  (landing page)
Sergio Oller Moreno
Snapshot Date: 2025-10-19 13:45 -0400 (Sun, 19 Oct 2025)
git_url: https://git.bioconductor.org/packages/AlpsNMR
git_branch: devel
git_last_commit: 205bd1b
git_last_commit_date: 2025-09-24 17:19:41 -0400 (Wed, 24 Sep 2025)
nebbiolo2Linux (Ubuntu 24.04.3 LTS) / x86_64  OK    OK    OK  UNNEEDED, same version is already published
lconwaymacOS 12.7.6 Monterey / x86_64  OK    OK    OK    OK  UNNEEDED, same version is already published
kjohnson3macOS 13.7.7 Ventura / arm64  OK    OK    OK    OK  UNNEEDED, same version is already published
taishanLinux (openEuler 24.03 LTS) / aarch64  OK    ERROR  skipped


CHECK results for AlpsNMR on nebbiolo2

To the developers/maintainers of the AlpsNMR package:
- Allow up to 24 hours (and sometimes 48 hours) for your latest push to git@git.bioconductor.org:packages/AlpsNMR.git to reflect on this report. See Troubleshooting Build Report for more information.
- Use the following Renviron settings to reproduce errors and warnings.
- If 'R CMD check' started to fail recently on the Linux builder(s) over a missing dependency, add the missing dependency to 'Suggests:' in your DESCRIPTION file. See Renviron.bioc for more information.

raw results


Summary

Package: AlpsNMR
Version: 4.11.1
Command: /home/biocbuild/bbs-3.22-bioc/R/bin/R CMD check --install=check:AlpsNMR.install-out.txt --library=/home/biocbuild/bbs-3.22-bioc/R/site-library --timings AlpsNMR_4.11.1.tar.gz
StartedAt: 2025-10-19 20:58:22 -0400 (Sun, 19 Oct 2025)
EndedAt: 2025-10-19 21:03:02 -0400 (Sun, 19 Oct 2025)
EllapsedTime: 280.3 seconds
RetCode: 0
Status:   OK  
CheckDir: AlpsNMR.Rcheck
Warnings: 0

Command output

##############################################################################
##############################################################################
###
### Running command:
###
###   /home/biocbuild/bbs-3.22-bioc/R/bin/R CMD check --install=check:AlpsNMR.install-out.txt --library=/home/biocbuild/bbs-3.22-bioc/R/site-library --timings AlpsNMR_4.11.1.tar.gz
###
##############################################################################
##############################################################################


* using log directory ‘/home/biocbuild/bbs-3.22-bioc/meat/AlpsNMR.Rcheck’
* using R version 4.5.1 Patched (2025-08-23 r88802)
* using platform: x86_64-pc-linux-gnu
* R was compiled by
    gcc (Ubuntu 13.3.0-6ubuntu2~24.04) 13.3.0
    GNU Fortran (Ubuntu 13.3.0-6ubuntu2~24.04) 13.3.0
* running under: Ubuntu 24.04.3 LTS
* using session charset: UTF-8
* checking for file ‘AlpsNMR/DESCRIPTION’ ... OK
* checking extension type ... Package
* this is package ‘AlpsNMR’ version ‘4.11.1’
* package encoding: UTF-8
* checking package namespace information ... OK
* checking package dependencies ... INFO
Imports includes 26 non-default packages.
Importing from so many packages makes the package vulnerable to any of
them becoming unavailable.  Move as many as possible to Suggests and
use conditionally.
* checking if this is a source package ... OK
* checking if there is a namespace ... OK
* checking for hidden files and directories ... OK
* checking for portable file names ... OK
* checking for sufficient/correct file permissions ... OK
* checking whether package ‘AlpsNMR’ can be installed ... OK
* checking installed package size ... OK
* checking package directory ... OK
* checking ‘build’ directory ... OK
* checking DESCRIPTION meta-information ... OK
* checking top-level files ... OK
* checking for left-over files ... OK
* checking index information ... OK
* checking package subdirectories ... OK
* checking code files for non-ASCII characters ... OK
* checking R files for syntax errors ... OK
* checking whether the package can be loaded ... OK
* checking whether the package can be loaded with stated dependencies ... OK
* checking whether the package can be unloaded cleanly ... OK
* checking whether the namespace can be loaded with stated dependencies ... OK
* checking whether the namespace can be unloaded cleanly ... OK
* checking loading without being on the library search path ... OK
* checking dependencies in R code ... OK
* checking S3 generic/method consistency ... OK
* checking replacement functions ... OK
* checking foreign function calls ... OK
* checking R code for possible problems ... OK
* checking Rd files ... OK
* checking Rd metadata ... OK
* checking Rd cross-references ... NOTE
Non-topic package-anchored link(s) in Rd file 'reexports.Rd':
  ‘[magrittr:pipe]{%>%}’

See section 'Cross-references' in the 'Writing R Extensions' manual.

Found the following Rd file(s) with Rd \link{} targets missing package
anchors:
  filter.nmr_dataset_family.Rd: dplyr
Please provide package anchors for all Rd \link{} targets not in the
package itself and the base packages.
* checking for missing documentation entries ... OK
* checking for code/documentation mismatches ... OK
* checking Rd \usage sections ... OK
* checking Rd contents ... OK
* checking for unstated dependencies in examples ... OK
* checking contents of ‘data’ directory ... OK
* checking data for non-ASCII characters ... OK
* checking data for ASCII and uncompressed saves ... OK
* checking files in ‘vignettes’ ... OK
* checking examples ... OK
Examples with CPU (user + system) or elapsed time > 5s
                                     user system elapsed
Peak_detection                      7.265  1.763   6.636
SummarizedExperiment_to_nmr_data_1r 6.875  1.518   7.749
nmr_interpolate_1D                  4.028  3.581   3.773
nmr_pca_outliers_robust             4.782  1.072   5.035
* checking for unstated dependencies in ‘tests’ ... OK
* checking tests ...
  Running ‘testthat.R’
 OK
* checking for unstated dependencies in vignettes ... OK
* checking package vignettes ... OK
* checking re-building of vignette outputs ... OK
* checking PDF version of manual ... OK
* DONE

Status: 1 NOTE
See
  ‘/home/biocbuild/bbs-3.22-bioc/meat/AlpsNMR.Rcheck/00check.log’
for details.


Installation output

AlpsNMR.Rcheck/00install.out

##############################################################################
##############################################################################
###
### Running command:
###
###   /home/biocbuild/bbs-3.22-bioc/R/bin/R CMD INSTALL AlpsNMR
###
##############################################################################
##############################################################################


* installing to library ‘/home/biocbuild/bbs-3.22-bioc/R/site-library’
* installing *source* package ‘AlpsNMR’ ...
** this is package ‘AlpsNMR’ version ‘4.11.1’
** using staged installation
** R
** data
** inst
** byte-compile and prepare package for lazy loading
** help
*** installing help indices
*** copying figures
** building package indices
** installing vignettes
** testing if installed package can be loaded from temporary location
** testing if installed package can be loaded from final location
** testing if installed package keeps a record of temporary installation path
* DONE (AlpsNMR)

Tests output

AlpsNMR.Rcheck/tests/testthat.Rout


R version 4.5.1 Patched (2025-08-23 r88802) -- "Great Square Root"
Copyright (C) 2025 The R Foundation for Statistical Computing
Platform: x86_64-pc-linux-gnu

R is free software and comes with ABSOLUTELY NO WARRANTY.
You are welcome to redistribute it under certain conditions.
Type 'license()' or 'licence()' for distribution details.

R is a collaborative project with many contributors.
Type 'contributors()' for more information and
'citation()' on how to cite R or R packages in publications.

Type 'demo()' for some demos, 'help()' for on-line help, or
'help.start()' for an HTML browser interface to help.
Type 'q()' to quit R.

> library(testthat)
> library(AlpsNMR)

Attaching package: 'AlpsNMR'

The following object is masked from 'package:stats':

    filter

> 
> test_check("AlpsNMR")
[ FAIL 0 | WARN 0 | SKIP 1 | PASS 93 ]

══ Skipped tests (1) ═══════════════════════════════════════════════════════════
• On Bioconductor (1): 'test_rDolphin.R:2:5'

[ FAIL 0 | WARN 0 | SKIP 1 | PASS 93 ]
> 
> proc.time()
   user  system elapsed 
 20.959   8.059  20.790 

Example timings

AlpsNMR.Rcheck/AlpsNMR-Ex.timings

nameusersystemelapsed
AlpsNMR-package1.7560.2931.565
HMDB_blood0.0060.0000.006
HMDB_cell0.0020.0000.002
HMDB_urine0.0040.0000.004
Parameters_blood0.0020.0000.002
Parameters_cell0.0020.0000.001
Parameters_urine0.0000.0000.001
Peak_detection7.2651.7636.636
Pipelines0.0010.0000.001
ROI_blood0.0030.0000.002
ROI_cell0.0030.0000.002
ROI_urine0.0030.0000.002
SummarizedExperiment_to_nmr_data_1r6.8751.5187.749
SummarizedExperiment_to_nmr_dataset_peak_table1.0030.5250.868
bp_VIP_analysis1.4130.8030.851
bp_kfold_VIP_analysis0.7530.5030.526
download_MTBLS242000
file_lister0.0600.0110.071
files_to_rDolphin000
filter.nmr_dataset_family1.5590.7101.513
format.nmr_dataset0.6760.4390.508
format.nmr_dataset_1D0.7140.4820.567
format.nmr_dataset_peak_table0.7980.4480.621
get_integration_with_metadata0.0270.0030.030
hmdb0.0450.0020.047
is.nmr_dataset0.6370.4680.494
is.nmr_dataset_1D0.7590.5190.624
is.nmr_dataset_peak_table0.8520.4720.661
load_and_save_functions0.7250.5950.611
models_stability_plot_bootstrap0.0020.0000.002
models_stability_plot_plsda0.3430.4010.372
new_nmr_dataset0.0020.0000.002
new_nmr_dataset_1D0.0260.0380.001
new_nmr_dataset_peak_table0.7930.6000.714
nmr_autophase0.1950.0890.263
nmr_baseline_estimation0.0080.0010.009
nmr_baseline_removal0.0040.0000.005
nmr_baseline_threshold0.0010.0000.001
nmr_baseline_threshold_plot0.2750.0610.337
nmr_batman0.0030.0000.003
nmr_batman_options0.0000.0000.001
nmr_build_peak_table0.0320.0090.040
nmr_data0.0580.0240.082
nmr_data_1r_to_SummarizedExperiment0.9740.4860.849
nmr_data_analysis0.3750.4740.425
nmr_dataset0.0000.0000.001
nmr_dataset_1D0.0000.0010.001
nmr_dataset_peak_table_to_SummarizedExperiment0.9610.7180.921
nmr_exclude_region0.0050.0010.006
nmr_export_data_1r0.7350.4910.601
nmr_get_peak_distances0.0070.0010.009
nmr_identify_regions_blood0.0130.0010.015
nmr_identify_regions_cell0.0080.0010.010
nmr_identify_regions_urine0.0120.0020.014
nmr_integrate_regions0.0070.0000.006
nmr_interpolate_1D4.0283.5813.773
nmr_meta_add1.6640.9601.412
nmr_meta_export0.7030.5250.509
nmr_meta_get0.6650.5180.552
nmr_meta_get_column0.6940.6300.617
nmr_meta_groups0.6780.5140.542
nmr_normalize0.3340.0680.402
nmr_pca_build_model1.7201.3991.501
nmr_pca_outliers0.8640.6450.701
nmr_pca_outliers_filter1.0210.6560.861
nmr_pca_outliers_plot000
nmr_pca_outliers_robust4.7821.0725.035
nmr_pca_plots0.4770.0220.499
nmr_peak_clustering0.0690.0020.071
nmr_ppm_resolution0.0070.0000.007
nmr_read_bruker_fid000
nmr_read_samples1.3001.1621.060
nmr_zip_bruker_samples0.2540.0140.269
peaklist_accept_peaks0.0030.0000.003
permutation_test_model2.3311.5541.859
permutation_test_plot2.3311.7221.568
plot.nmr_dataset_1D0.0020.0000.002
plot_bootstrap_multimodel0.0020.0000.003
plot_interactive2.4911.2640.701
plot_plsda_multimodel0.1990.4180.336
plot_plsda_samples0.1160.1580.210
plot_vip_scores0.0020.0000.002
plot_webgl0.0010.0000.001
plsda_auroc_vip_compare0.4980.4340.750
plsda_auroc_vip_method000
ppm_resolution0.0020.0020.004
print.nmr_dataset0.7960.8240.715
print.nmr_dataset_1D0.7360.6170.628
print.nmr_dataset_peak_table0.8580.6670.809
random_subsampling0.0010.0000.002
save_files_to_rDolphin000
save_profiling_output0.0000.0000.001
sub-.nmr_dataset0.7180.6140.584
sub-.nmr_dataset_1D0.7600.6340.671
sub-.nmr_dataset_peak_table0.8980.8510.828
tidy.nmr_dataset_1D0.8750.6610.720
to_ASICS0.8690.1351.004
to_ChemoSpec1.0960.9931.016
validate_nmr_dataset1.8861.7381.617
validate_nmr_dataset_family0.7460.5980.630
validate_nmr_dataset_peak_table0.0010.0000.000
zzz0.0010.0002.002