Back to Multiple platform build/check report for BioC 3.21: simplified long |
|
This page was generated on 2025-10-16 11:39 -0400 (Thu, 16 Oct 2025).
Hostname | OS | Arch (*) | R version | Installed pkgs |
---|---|---|---|---|
nebbiolo1 | Linux (Ubuntu 24.04.3 LTS) | x86_64 | 4.5.1 (2025-06-13) -- "Great Square Root" | 4833 |
merida1 | macOS 12.7.6 Monterey | x86_64 | 4.5.1 RC (2025-06-05 r88288) -- "Great Square Root" | 4614 |
kjohnson1 | macOS 13.7.5 Ventura | arm64 | 4.5.1 Patched (2025-06-14 r88325) -- "Great Square Root" | 4555 |
kunpeng2 | Linux (openEuler 24.03 LTS) | aarch64 | R Under development (unstable) (2025-02-19 r87757) -- "Unsuffered Consequences" | 4586 |
Click on any hostname to see more info about the system (e.g. compilers) (*) as reported by 'uname -p', except on Windows and Mac OS X |
Package 1974/2341 | Hostname | OS / Arch | INSTALL | BUILD | CHECK | BUILD BIN | ||||||||
sesame 1.26.0 (landing page) Wanding Zhou
| nebbiolo1 | Linux (Ubuntu 24.04.3 LTS) / x86_64 | OK | OK | OK | ![]() | ||||||||
merida1 | macOS 12.7.6 Monterey / x86_64 | OK | OK | OK | OK | ![]() | ||||||||
kjohnson1 | macOS 13.7.5 Ventura / arm64 | OK | OK | OK | OK | ![]() | ||||||||
kunpeng2 | Linux (openEuler 24.03 LTS) / aarch64 | OK | OK | OK | ||||||||||
To the developers/maintainers of the sesame package: - Allow up to 24 hours (and sometimes 48 hours) for your latest push to git@git.bioconductor.org:packages/sesame.git to reflect on this report. See Troubleshooting Build Report for more information. - Use the following Renviron settings to reproduce errors and warnings. - If 'R CMD check' started to fail recently on the Linux builder(s) over a missing dependency, add the missing dependency to 'Suggests:' in your DESCRIPTION file. See Renviron.bioc for more information. |
Package: sesame |
Version: 1.26.0 |
Command: /Library/Frameworks/R.framework/Resources/bin/R CMD check --install=check:sesame.install-out.txt --library=/Library/Frameworks/R.framework/Resources/library --no-vignettes --timings sesame_1.26.0.tar.gz |
StartedAt: 2025-10-14 10:20:24 -0400 (Tue, 14 Oct 2025) |
EndedAt: 2025-10-14 10:42:16 -0400 (Tue, 14 Oct 2025) |
EllapsedTime: 1312.0 seconds |
RetCode: 0 |
Status: OK |
CheckDir: sesame.Rcheck |
Warnings: 0 |
############################################################################## ############################################################################## ### ### Running command: ### ### /Library/Frameworks/R.framework/Resources/bin/R CMD check --install=check:sesame.install-out.txt --library=/Library/Frameworks/R.framework/Resources/library --no-vignettes --timings sesame_1.26.0.tar.gz ### ############################################################################## ############################################################################## * using log directory ‘/Users/biocbuild/bbs-3.21-bioc/meat/sesame.Rcheck’ * using R version 4.5.1 RC (2025-06-05 r88288) * using platform: x86_64-apple-darwin20 * R was compiled by Apple clang version 14.0.0 (clang-1400.0.29.202) GNU Fortran (GCC) 14.2.0 * running under: macOS Monterey 12.7.6 * using session charset: UTF-8 * using option ‘--no-vignettes’ * checking for file ‘sesame/DESCRIPTION’ ... OK * checking extension type ... Package * this is package ‘sesame’ version ‘1.26.0’ * package encoding: UTF-8 * checking package namespace information ... OK * checking package dependencies ... OK * checking if this is a source package ... OK * checking if there is a namespace ... OK * checking for hidden files and directories ... OK * checking for portable file names ... OK * checking for sufficient/correct file permissions ... OK * checking whether package ‘sesame’ can be installed ... OK * checking installed package size ... OK * checking package directory ... OK * checking ‘build’ directory ... OK * checking DESCRIPTION meta-information ... OK * checking top-level files ... OK * checking for left-over files ... OK * checking index information ... OK * checking package subdirectories ... OK * checking code files for non-ASCII characters ... OK * checking R files for syntax errors ... OK * checking whether the package can be loaded ... OK * checking whether the package can be loaded with stated dependencies ... OK * checking whether the package can be unloaded cleanly ... OK * checking whether the namespace can be loaded with stated dependencies ... OK * checking whether the namespace can be unloaded cleanly ... OK * checking whether startup messages can be suppressed ... OK * checking dependencies in R code ... OK * checking S3 generic/method consistency ... OK * checking replacement functions ... OK * checking foreign function calls ... OK * checking R code for possible problems ... OK * checking Rd files ... OK * checking Rd metadata ... OK * checking Rd cross-references ... OK * checking for missing documentation entries ... OK * checking for code/documentation mismatches ... OK * checking Rd \usage sections ... OK * checking Rd contents ... OK * checking for unstated dependencies in examples ... OK * checking files in ‘vignettes’ ... OK * checking examples ... OK Examples with CPU (user + system) or elapsed time > 5s user system elapsed imputeBetasByGenomicNeighbors 59.629 1.838 66.514 inferSex 36.260 1.293 37.739 sesameQC_calcStats 34.663 1.472 36.427 sesameQC_plotHeatSNPs 29.268 1.549 31.003 imputeBetas 27.492 1.811 29.482 compareMouseStrainReference 27.586 0.511 28.140 compareReference 27.077 0.644 27.952 diffRefSet 24.433 0.718 25.335 inferSpecies 23.178 1.014 24.536 ELBAR 20.613 3.395 24.086 matchDesign 21.637 0.893 22.812 sesameQC_plotBar 19.894 0.800 20.936 getRefSet 19.031 0.633 19.716 DML 16.291 1.652 17.970 visualizeGene 15.063 0.870 16.112 sesameQC_plotBetaByDesign 14.182 1.381 15.619 DMR 15.198 0.359 15.617 sdf_read_table 14.671 0.629 15.355 deidentify 13.698 0.367 14.095 inferStrain 13.074 0.801 13.927 inferTissue 11.740 1.343 13.268 reIdentify 11.316 0.266 11.760 estimateLeukocyte 10.230 0.652 12.503 getMask 9.711 0.752 10.485 dyeBiasCorrMostBalanced 9.925 0.403 10.550 openSesame 9.520 0.625 10.220 createUCSCtrack 9.071 0.395 9.515 dyeBiasNL 8.708 0.583 9.318 prepSesame 8.428 0.751 9.379 probeSuccessRate 8.164 0.650 8.840 bisConversionControl 6.445 0.343 6.805 noMasked 5.771 0.284 6.066 sesameQC_rankStats 5.516 0.497 6.047 scrubSoft 4.963 0.761 5.802 updateSigDF 4.984 0.572 5.597 sdf_write_table 5.087 0.303 5.453 parseGEOsignalMU 4.951 0.257 5.244 mapToMammal40 4.695 0.479 5.184 summaryExtractTest 4.205 0.873 5.103 meanIntensity 4.388 0.605 5.008 * checking for unstated dependencies in ‘tests’ ... OK * checking tests ... Running ‘testthat.R’ OK * checking for unstated dependencies in vignettes ... OK * checking package vignettes ... OK * checking running R code from vignettes ... SKIPPED * checking re-building of vignette outputs ... SKIPPED * checking PDF version of manual ... OK * DONE Status: OK
sesame.Rcheck/00install.out
############################################################################## ############################################################################## ### ### Running command: ### ### /Library/Frameworks/R.framework/Resources/bin/R CMD INSTALL sesame ### ############################################################################## ############################################################################## * installing to library ‘/Library/Frameworks/R.framework/Versions/4.5-x86_64/Resources/library’ * installing *source* package ‘sesame’ ... ** this is package ‘sesame’ version ‘1.26.0’ ** using staged installation ** R ** inst ** byte-compile and prepare package for lazy loading ** help *** installing help indices ** building package indices ** installing vignettes ** testing if installed package can be loaded from temporary location ** testing if installed package can be loaded from final location ** testing if installed package keeps a record of temporary installation path * DONE (sesame)
sesame.Rcheck/tests/testthat.Rout
R version 4.5.1 RC (2025-06-05 r88288) -- "Great Square Root" Copyright (C) 2025 The R Foundation for Statistical Computing Platform: x86_64-apple-darwin20 R is free software and comes with ABSOLUTELY NO WARRANTY. You are welcome to redistribute it under certain conditions. Type 'license()' or 'licence()' for distribution details. R is a collaborative project with many contributors. Type 'contributors()' for more information and 'citation()' on how to cite R or R packages in publications. Type 'demo()' for some demos, 'help()' for on-line help, or 'help.start()' for an HTML browser interface to help. Type 'q()' to quit R. > library(testthat) > library(sesame) Loading required package: sesameData Loading required package: ExperimentHub Loading required package: BiocGenerics Loading required package: generics Attaching package: 'generics' The following objects are masked from 'package:base': as.difftime, as.factor, as.ordered, intersect, is.element, setdiff, setequal, union Attaching package: 'BiocGenerics' The following objects are masked from 'package:stats': IQR, mad, sd, var, xtabs The following objects are masked from 'package:base': Filter, Find, Map, Position, Reduce, anyDuplicated, aperm, append, as.data.frame, basename, cbind, colnames, dirname, do.call, duplicated, eval, evalq, get, grep, grepl, is.unsorted, lapply, mapply, match, mget, order, paste, pmax, pmax.int, pmin, pmin.int, rank, rbind, rownames, sapply, saveRDS, table, tapply, unique, unsplit, which.max, which.min Loading required package: AnnotationHub Loading required package: BiocFileCache Loading required package: dbplyr Loading sesameData. ---------------------------------------------------------- | SEnsible Step-wise Analysis of DNA MEthylation (SeSAMe) | -------------------------------------------------------- | Please cache auxiliary data by "sesameDataCache()". | This needs to be done only once per SeSAMe installation. ---------------------------------------------------------- > > test_check("sesame") [ FAIL 0 | WARN 0 | SKIP 0 | PASS 5 ] > > proc.time() user system elapsed 35.283 2.786 38.307
sesame.Rcheck/sesame-Ex.timings
name | user | system | elapsed | |
BetaValueToMValue | 0.000 | 0.000 | 0.001 | |
DML | 16.291 | 1.652 | 17.970 | |
DMLpredict | 2.314 | 0.157 | 2.474 | |
DMR | 15.198 | 0.359 | 15.617 | |
ELBAR | 20.613 | 3.395 | 24.086 | |
MValueToBetaValue | 0.001 | 0.000 | 0.001 | |
SigDF | 0.531 | 0.104 | 0.639 | |
addMask | 0.136 | 0.000 | 0.138 | |
betasCollapseToPfx | 0.027 | 0.001 | 0.027 | |
bisConversionControl | 6.445 | 0.343 | 6.805 | |
calcEffectSize | 2.049 | 0.173 | 2.272 | |
checkLevels | 3.890 | 0.251 | 4.146 | |
cnSegmentation | 0.487 | 0.122 | 0.611 | |
compareMouseStrainReference | 27.586 | 0.511 | 28.140 | |
compareMouseTissueReference | 0.000 | 0.001 | 0.000 | |
compareReference | 27.077 | 0.644 | 27.952 | |
controls | 3.399 | 0.315 | 3.727 | |
createUCSCtrack | 9.071 | 0.395 | 9.515 | |
deidentify | 13.698 | 0.367 | 14.095 | |
detectionPnegEcdf | 2.127 | 0.042 | 2.173 | |
diffRefSet | 24.433 | 0.718 | 25.335 | |
dmContrasts | 3.003 | 0.259 | 3.317 | |
dyeBiasCorr | 4.583 | 0.335 | 4.951 | |
dyeBiasCorrMostBalanced | 9.925 | 0.403 | 10.550 | |
dyeBiasL | 3.084 | 0.153 | 3.244 | |
dyeBiasNL | 8.708 | 0.583 | 9.318 | |
estimateLeukocyte | 10.230 | 0.652 | 12.503 | |
formatVCF | 3.628 | 0.369 | 4.369 | |
getAFTypeIbySumAlleles | 2.976 | 0.276 | 3.319 | |
getAFs | 1.530 | 0.159 | 1.708 | |
getBetas | 1.279 | 0.111 | 1.393 | |
getMask | 9.711 | 0.752 | 10.485 | |
getRefSet | 19.031 | 0.633 | 19.716 | |
imputeBetas | 27.492 | 1.811 | 29.482 | |
imputeBetasByGenomicNeighbors | 59.629 | 1.838 | 66.514 | |
imputeBetasMatrixByMean | 0.002 | 0.001 | 0.003 | |
inferEthnicity | 0.001 | 0.000 | 0.002 | |
inferInfiniumIChannel | 0.798 | 1.353 | 2.159 | |
inferSex | 36.260 | 1.293 | 37.739 | |
inferSpecies | 23.178 | 1.014 | 24.536 | |
inferStrain | 13.074 | 0.801 | 13.927 | |
inferTissue | 11.740 | 1.343 | 13.268 | |
initFileSet | 2.083 | 0.241 | 2.328 | |
listAvailableMasks | 2.159 | 0.210 | 2.372 | |
mLiftOver | 0.001 | 0.004 | 0.005 | |
mapFileSet | 0.057 | 0.007 | 0.064 | |
mapToMammal40 | 4.695 | 0.479 | 5.184 | |
matchDesign | 21.637 | 0.893 | 22.812 | |
meanIntensity | 4.388 | 0.605 | 5.008 | |
medianTotalIntensity | 1.333 | 0.098 | 1.433 | |
noMasked | 5.771 | 0.284 | 6.066 | |
noob | 3.550 | 0.632 | 4.186 | |
openSesame | 9.520 | 0.625 | 10.220 | |
openSesameToFile | 3.085 | 0.289 | 3.395 | |
pOOBAH | 2.280 | 0.005 | 2.293 | |
palgen | 0.069 | 0.010 | 0.080 | |
parseGEOsignalMU | 4.951 | 0.257 | 5.244 | |
predictAge | 3.828 | 0.172 | 4.047 | |
predictAgeHorvath353 | 0 | 0 | 0 | |
predictAgeSkinBlood | 0.000 | 0.001 | 0.001 | |
predictMouseAgeInMonth | 0.000 | 0.000 | 0.001 | |
prefixMask | 1.253 | 0.003 | 1.264 | |
prefixMaskButC | 0.356 | 0.002 | 0.359 | |
prefixMaskButCG | 0.136 | 0.001 | 0.140 | |
prepSesame | 8.428 | 0.751 | 9.379 | |
prepSesameList | 0.002 | 0.003 | 0.005 | |
print.DMLSummary | 3.892 | 0.746 | 4.655 | |
print.fileSet | 2.023 | 0.250 | 2.281 | |
probeID_designType | 0.001 | 0.001 | 0.001 | |
probeSuccessRate | 8.164 | 0.650 | 8.840 | |
qualityMask | 3.346 | 0.476 | 3.845 | |
reIdentify | 11.316 | 0.266 | 11.760 | |
readFileSet | 0.084 | 0.005 | 0.090 | |
readIDATpair | 0.195 | 0.003 | 0.198 | |
recommendedMaskNames | 0.000 | 0.001 | 0.001 | |
resetMask | 0.648 | 0.094 | 0.746 | |
scrub | 3.508 | 0.387 | 3.899 | |
scrubSoft | 4.963 | 0.761 | 5.802 | |
sdfPlatform | 0.537 | 0.108 | 0.755 | |
sdf_read_table | 14.671 | 0.629 | 15.355 | |
sdf_write_table | 5.087 | 0.303 | 5.453 | |
searchIDATprefixes | 0.007 | 0.004 | 0.011 | |
sesame-package | 3.892 | 0.419 | 4.323 | |
sesameAnno_attachManifest | 0.000 | 0.001 | 0.001 | |
sesameAnno_buildAddressFile | 0.001 | 0.000 | 0.001 | |
sesameAnno_buildManifestGRanges | 0.001 | 0.001 | 0.001 | |
sesameAnno_download | 0.000 | 0.000 | 0.001 | |
sesameAnno_readManifestTSV | 0.000 | 0.001 | 0.001 | |
sesameQC_calcStats | 34.663 | 1.472 | 36.427 | |
sesameQC_getStats | 3.699 | 0.117 | 3.843 | |
sesameQC_plotBar | 19.894 | 0.800 | 20.936 | |
sesameQC_plotBetaByDesign | 14.182 | 1.381 | 15.619 | |
sesameQC_plotHeatSNPs | 29.268 | 1.549 | 31.003 | |
sesameQC_plotIntensVsBetas | 3.204 | 0.432 | 3.677 | |
sesameQC_plotRedGrnQQ | 1.979 | 0.208 | 2.208 | |
sesameQC_rankStats | 5.516 | 0.497 | 6.047 | |
sesameQCtoDF | 3.334 | 0.009 | 3.418 | |
sesame_checkVersion | 0.006 | 0.002 | 0.007 | |
sesamize | 0 | 0 | 0 | |
setMask | 0.468 | 0.080 | 0.550 | |
signalMU | 1.260 | 0.100 | 1.369 | |
sliceFileSet | 0.058 | 0.010 | 0.069 | |
summaryExtractTest | 4.205 | 0.873 | 5.103 | |
totalIntensities | 4.031 | 0.474 | 4.524 | |
updateSigDF | 4.984 | 0.572 | 5.597 | |
visualizeGene | 15.063 | 0.870 | 16.112 | |
visualizeProbes | 2.536 | 0.025 | 2.594 | |
visualizeRegion | 0.727 | 0.004 | 0.732 | |
visualizeSegments | 2.250 | 0.538 | 2.798 | |