Back to Multiple platform build/check report for BioC 3.21:   simplified   long
ABCDEFGHIJKLMNOPQR[S]TUVWXYZ

This page was generated on 2025-10-16 11:41 -0400 (Thu, 16 Oct 2025).

HostnameOSArch (*)R versionInstalled pkgs
nebbiolo1Linux (Ubuntu 24.04.3 LTS)x86_644.5.1 (2025-06-13) -- "Great Square Root" 4833
merida1macOS 12.7.6 Montereyx86_644.5.1 RC (2025-06-05 r88288) -- "Great Square Root" 4614
kjohnson1macOS 13.7.5 Venturaarm644.5.1 Patched (2025-06-14 r88325) -- "Great Square Root" 4555
kunpeng2Linux (openEuler 24.03 LTS)aarch64R Under development (unstable) (2025-02-19 r87757) -- "Unsuffered Consequences" 4586
Click on any hostname to see more info about the system (e.g. compilers)      (*) as reported by 'uname -p', except on Windows and Mac OS X

Package 1974/2341HostnameOS / ArchINSTALLBUILDCHECKBUILD BIN
sesame 1.26.0  (landing page)
Wanding Zhou
Snapshot Date: 2025-10-13 13:40 -0400 (Mon, 13 Oct 2025)
git_url: https://git.bioconductor.org/packages/sesame
git_branch: RELEASE_3_21
git_last_commit: bc933e0
git_last_commit_date: 2025-04-15 11:34:53 -0400 (Tue, 15 Apr 2025)
nebbiolo1Linux (Ubuntu 24.04.3 LTS) / x86_64  OK    OK    OK  UNNEEDED, same version is already published
merida1macOS 12.7.6 Monterey / x86_64  OK    OK    OK    OK  UNNEEDED, same version is already published
kjohnson1macOS 13.7.5 Ventura / arm64  OK    OK    OK    OK  UNNEEDED, same version is already published
kunpeng2Linux (openEuler 24.03 LTS) / aarch64  OK    OK    OK  


CHECK results for sesame on kunpeng2

To the developers/maintainers of the sesame package:
- Allow up to 24 hours (and sometimes 48 hours) for your latest push to git@git.bioconductor.org:packages/sesame.git to reflect on this report. See Troubleshooting Build Report for more information.
- Use the following Renviron settings to reproduce errors and warnings.
- If 'R CMD check' started to fail recently on the Linux builder(s) over a missing dependency, add the missing dependency to 'Suggests:' in your DESCRIPTION file. See Renviron.bioc for more information.
- See Martin Grigorov's blog post for how to debug Linux ARM64 related issues on a x86_64 host.

raw results


Summary

Package: sesame
Version: 1.26.0
Command: /home/biocbuild/R/R/bin/R CMD check --install=check:sesame.install-out.txt --library=/home/biocbuild/R/R/site-library --no-vignettes --timings sesame_1.26.0.tar.gz
StartedAt: 2025-10-14 14:12:54 -0000 (Tue, 14 Oct 2025)
EndedAt: 2025-10-14 14:29:59 -0000 (Tue, 14 Oct 2025)
EllapsedTime: 1025.6 seconds
RetCode: 0
Status:   OK  
CheckDir: sesame.Rcheck
Warnings: 0

Command output

##############################################################################
##############################################################################
###
### Running command:
###
###   /home/biocbuild/R/R/bin/R CMD check --install=check:sesame.install-out.txt --library=/home/biocbuild/R/R/site-library --no-vignettes --timings sesame_1.26.0.tar.gz
###
##############################################################################
##############################################################################


* using log directory ‘/home/biocbuild/bbs-3.21-bioc/meat/sesame.Rcheck’
* using R Under development (unstable) (2025-02-19 r87757)
* using platform: aarch64-unknown-linux-gnu
* R was compiled by
    aarch64-unknown-linux-gnu-gcc (GCC) 14.2.0
    GNU Fortran (GCC) 14.2.0
* running under: openEuler 24.03 (LTS-SP1)
* using session charset: UTF-8
* using option ‘--no-vignettes’
* checking for file ‘sesame/DESCRIPTION’ ... OK
* checking extension type ... Package
* this is package ‘sesame’ version ‘1.26.0’
* package encoding: UTF-8
* checking package namespace information ... OK
* checking package dependencies ... OK
* checking if this is a source package ... OK
* checking if there is a namespace ... OK
* checking for hidden files and directories ... OK
* checking for portable file names ... OK
* checking for sufficient/correct file permissions ... OK
* checking whether package ‘sesame’ can be installed ... OK
* checking installed package size ... OK
* checking package directory ... OK
* checking ‘build’ directory ... OK
* checking DESCRIPTION meta-information ... OK
* checking top-level files ... OK
* checking for left-over files ... OK
* checking index information ... OK
* checking package subdirectories ... OK
* checking code files for non-ASCII characters ... OK
* checking R files for syntax errors ... OK
* checking whether the package can be loaded ... OK
* checking whether the package can be loaded with stated dependencies ... OK
* checking whether the package can be unloaded cleanly ... OK
* checking whether the namespace can be loaded with stated dependencies ... OK
* checking whether the namespace can be unloaded cleanly ... OK
* checking loading without being on the library search path ... OK
* checking whether startup messages can be suppressed ... OK
* checking dependencies in R code ... OK
* checking S3 generic/method consistency ... OK
* checking replacement functions ... OK
* checking foreign function calls ... OK
* checking R code for possible problems ... OK
* checking Rd files ... OK
* checking Rd metadata ... OK
* checking Rd cross-references ... OK
* checking for missing documentation entries ... OK
* checking for code/documentation mismatches ... OK
* checking Rd \usage sections ... OK
* checking Rd contents ... OK
* checking for unstated dependencies in examples ... OK
* checking files in ‘vignettes’ ... OK
* checking examples ... OK
Examples with CPU (user + system) or elapsed time > 5s
                                user system elapsed
imputeBetasByGenomicNeighbors 44.886  0.594  51.367
inferSex                      29.077  0.231  33.339
sesameQC_calcStats            28.792  0.215  34.076
imputeBetas                   28.525  0.423  35.639
sesameQC_plotHeatSNPs         24.126  0.219  27.951
ELBAR                         23.294  0.081  26.639
inferSpecies                  18.305  0.678  21.964
sesameQC_plotBetaByDesign     18.272  0.195  20.511
diffRefSet                    17.393  0.227  19.048
matchDesign                   17.014  0.140  19.398
compareMouseStrainReference   16.957  0.123  18.309
compareReference              16.012  0.144  18.272
sesameQC_plotBar              12.983  0.239  15.114
getRefSet                     12.982  0.136  15.388
DMR                           10.808  0.275  12.687
inferStrain                   10.066  0.415  11.956
visualizeGene                  9.935  0.144  11.408
deidentify                     9.378  0.104  11.037
DML                            8.967  0.376  10.312
inferTissue                    9.148  0.163  10.283
sdf_read_table                 8.862  0.160   9.985
dyeBiasNL                      8.597  0.088   9.410
estimateLeukocyte              7.931  0.124   9.738
dyeBiasCorrMostBalanced        6.917  0.148   8.543
getMask                        6.797  0.160   7.684
reIdentify                     6.809  0.091   7.132
openSesame                     6.576  0.111   8.251
createUCSCtrack                6.307  0.159   7.546
probeSuccessRate               6.340  0.088   6.697
scrubSoft                      6.299  0.031   7.165
sesameQC_rankStats             5.312  0.080   5.942
prepSesame                     5.105  0.052   5.561
bisConversionControl           4.979  0.104   5.443
noMasked                       4.649  0.080   5.337
checkLevels                    4.617  0.040   5.250
* checking for unstated dependencies in ‘tests’ ... OK
* checking tests ...
  Running ‘testthat.R’
 OK
* checking for unstated dependencies in vignettes ... OK
* checking package vignettes ... OK
* checking running R code from vignettes ... SKIPPED
* checking re-building of vignette outputs ... SKIPPED
* checking PDF version of manual ... OK
* DONE

Status: OK


Installation output

sesame.Rcheck/00install.out

##############################################################################
##############################################################################
###
### Running command:
###
###   /home/biocbuild/R/R/bin/R CMD INSTALL sesame
###
##############################################################################
##############################################################################


* installing to library ‘/home/biocbuild/R/R-devel_2025-02-19/site-library’
* installing *source* package ‘sesame’ ...
** this is package ‘sesame’ version ‘1.26.0’
** using staged installation
** R
** inst
** byte-compile and prepare package for lazy loading
** help
*** installing help indices
** building package indices
** installing vignettes
** testing if installed package can be loaded from temporary location
** testing if installed package can be loaded from final location
** testing if installed package keeps a record of temporary installation path
* DONE (sesame)

Tests output

sesame.Rcheck/tests/testthat.Rout


R Under development (unstable) (2025-02-19 r87757) -- "Unsuffered Consequences"
Copyright (C) 2025 The R Foundation for Statistical Computing
Platform: aarch64-unknown-linux-gnu

R is free software and comes with ABSOLUTELY NO WARRANTY.
You are welcome to redistribute it under certain conditions.
Type 'license()' or 'licence()' for distribution details.

R is a collaborative project with many contributors.
Type 'contributors()' for more information and
'citation()' on how to cite R or R packages in publications.

Type 'demo()' for some demos, 'help()' for on-line help, or
'help.start()' for an HTML browser interface to help.
Type 'q()' to quit R.

> library(testthat)
> library(sesame)
Loading required package: sesameData
Loading required package: ExperimentHub
Loading required package: BiocGenerics
Loading required package: generics

Attaching package: 'generics'

The following objects are masked from 'package:base':

    as.difftime, as.factor, as.ordered, intersect, is.element, setdiff,
    setequal, union


Attaching package: 'BiocGenerics'

The following objects are masked from 'package:stats':

    IQR, mad, sd, var, xtabs

The following objects are masked from 'package:base':

    Filter, Find, Map, Position, Reduce, anyDuplicated, aperm, append,
    as.data.frame, basename, cbind, colnames, dirname, do.call,
    duplicated, eval, evalq, get, grep, grepl, is.unsorted, lapply,
    mapply, match, mget, order, paste, pmax, pmax.int, pmin, pmin.int,
    rank, rbind, rownames, sapply, saveRDS, table, tapply, unique,
    unsplit, which.max, which.min

Loading required package: AnnotationHub
Loading required package: BiocFileCache
Loading required package: dbplyr
Loading sesameData.

----------------------------------------------------------
| SEnsible Step-wise Analysis of DNA MEthylation (SeSAMe)
| --------------------------------------------------------
| Please cache auxiliary data by "sesameDataCache()".
| This needs to be done only once per SeSAMe installation.
----------------------------------------------------------

> 
> test_check("sesame")
[ FAIL 0 | WARN 0 | SKIP 0 | PASS 5 ]
> 
> proc.time()
   user  system elapsed 
 24.153   0.830  28.246 

Example timings

sesame.Rcheck/sesame-Ex.timings

nameusersystemelapsed
BetaValueToMValue000
DML 8.967 0.37610.312
DMLpredict1.5890.0632.157
DMR10.808 0.27512.687
ELBAR23.294 0.08126.639
MValueToBetaValue000
SigDF0.3410.0240.366
addMask0.1140.0000.119
betasCollapseToPfx0.0150.0000.015
bisConversionControl4.9790.1045.443
calcEffectSize1.3500.0281.386
checkLevels4.6170.0405.250
cnSegmentation0.3750.0200.399
compareMouseStrainReference16.957 0.12318.309
compareMouseTissueReference000
compareReference16.012 0.14418.272
controls2.3110.0402.531
createUCSCtrack6.3070.1597.546
deidentify 9.378 0.10411.037
detectionPnegEcdf1.2080.0241.233
diffRefSet17.393 0.22719.048
dmContrasts2.3100.0552.469
dyeBiasCorr3.5130.0804.319
dyeBiasCorrMostBalanced6.9170.1488.543
dyeBiasL3.0980.0273.385
dyeBiasNL8.5970.0889.410
estimateLeukocyte7.9310.1249.738
formatVCF2.2950.0522.696
getAFTypeIbySumAlleles1.9380.0552.038
getAFs1.3390.0161.360
getBetas1.1470.0081.157
getMask6.7970.1607.684
getRefSet12.982 0.13615.388
imputeBetas28.525 0.42335.639
imputeBetasByGenomicNeighbors44.886 0.59451.367
imputeBetasMatrixByMean0.0020.0000.002
inferEthnicity0.0010.0000.001
inferInfiniumIChannel0.3340.0950.431
inferSex29.077 0.23133.339
inferSpecies18.305 0.67821.964
inferStrain10.066 0.41511.956
inferTissue 9.148 0.16310.283
initFileSet1.4040.0441.734
listAvailableMasks1.5600.0561.708
mLiftOver0.0000.0000.001
mapFileSet0.0360.0000.037
mapToMammal403.8240.1114.141
matchDesign17.014 0.14019.398
meanIntensity3.3630.0843.603
medianTotalIntensity1.3110.0271.485
noMasked4.6490.0805.337
noob3.7610.0244.078
openSesame6.5760.1118.251
openSesameToFile2.1560.0202.444
pOOBAH1.7050.0081.868
palgen0.0480.0000.100
parseGEOsignalMU3.6590.0764.405
predictAge2.5310.0282.916
predictAgeHorvath3530.0010.0000.001
predictAgeSkinBlood000
predictMouseAgeInMonth000
prefixMask0.5310.0120.544
prefixMaskButC0.1570.0000.158
prefixMaskButCG0.070.000.07
prepSesame5.1050.0525.561
prepSesameList0.0020.0000.002
print.DMLSummary3.2200.1123.620
print.fileSet1.4320.0351.595
probeID_designType000
probeSuccessRate6.3400.0886.697
qualityMask2.5320.0673.068
reIdentify6.8090.0917.132
readFileSet0.060.000.06
readIDATpair0.1540.0000.154
recommendedMaskNames0.0010.0000.000
resetMask0.4830.0240.508
scrub4.0080.0284.647
scrubSoft6.2990.0317.165
sdfPlatform0.3430.0310.375
sdf_read_table8.8620.1609.985
sdf_write_table2.3210.0802.650
searchIDATprefixes0.0060.0000.028
sesame-package3.1200.0843.479
sesameAnno_attachManifest0.0000.0000.001
sesameAnno_buildAddressFile000
sesameAnno_buildManifestGRanges000
sesameAnno_download000
sesameAnno_readManifestTSV000
sesameQC_calcStats28.792 0.21534.076
sesameQC_getStats2.3470.0002.719
sesameQC_plotBar12.983 0.23915.114
sesameQC_plotBetaByDesign18.272 0.19520.511
sesameQC_plotHeatSNPs24.126 0.21927.951
sesameQC_plotIntensVsBetas3.3710.0563.695
sesameQC_plotRedGrnQQ1.7140.0442.102
sesameQC_rankStats5.3120.0805.942
sesameQCtoDF2.3890.0162.555
sesame_checkVersion0.0040.0000.004
sesamize000
setMask0.1470.0000.147
signalMU1.4620.0201.682
sliceFileSet0.0420.0000.042
summaryExtractTest3.4070.1193.934
totalIntensities3.0230.0543.504
updateSigDF3.8930.1604.257
visualizeGene 9.935 0.14411.408
visualizeProbes1.6940.0041.787
visualizeRegion0.5010.0000.503
visualizeSegments1.9670.0232.057