Back to Multiple platform build/check report for BioC 3.21:   simplified   long
ABCDEFGHIJKL[M]NOPQRSTUVWXYZ

This page was generated on 2025-10-09 11:41 -0400 (Thu, 09 Oct 2025).

HostnameOSArch (*)R versionInstalled pkgs
nebbiolo1Linux (Ubuntu 24.04.3 LTS)x86_644.5.1 (2025-06-13) -- "Great Square Root" 4832
merida1macOS 12.7.5 Montereyx86_644.5.1 RC (2025-06-05 r88288) -- "Great Square Root" 4613
kjohnson1macOS 13.6.6 Venturaarm644.5.1 Patched (2025-06-14 r88325) -- "Great Square Root" 4554
kunpeng2Linux (openEuler 24.03 LTS)aarch64R Under development (unstable) (2025-02-19 r87757) -- "Unsuffered Consequences" 4585
Click on any hostname to see more info about the system (e.g. compilers)      (*) as reported by 'uname -p', except on Windows and Mac OS X

Package 1411/2341HostnameOS / ArchINSTALLBUILDCHECKBUILD BIN
musicatk 2.2.1  (landing page)
Joshua D. Campbell
Snapshot Date: 2025-10-06 13:40 -0400 (Mon, 06 Oct 2025)
git_url: https://git.bioconductor.org/packages/musicatk
git_branch: RELEASE_3_21
git_last_commit: d92d323
git_last_commit_date: 2025-07-15 20:34:01 -0400 (Tue, 15 Jul 2025)
nebbiolo1Linux (Ubuntu 24.04.3 LTS) / x86_64  OK    OK    OK  UNNEEDED, same version is already published
merida1macOS 12.7.5 Monterey / x86_64  OK    OK    OK    OK  UNNEEDED, same version is already published
kjohnson1macOS 13.6.6 Ventura / arm64  OK    OK    OK    OK  UNNEEDED, same version is already published
kunpeng2Linux (openEuler 24.03 LTS) / aarch64  OK    OK    OK  


CHECK results for musicatk on kunpeng2

To the developers/maintainers of the musicatk package:
- Allow up to 24 hours (and sometimes 48 hours) for your latest push to git@git.bioconductor.org:packages/musicatk.git to reflect on this report. See Troubleshooting Build Report for more information.
- Use the following Renviron settings to reproduce errors and warnings.
- If 'R CMD check' started to fail recently on the Linux builder(s) over a missing dependency, add the missing dependency to 'Suggests:' in your DESCRIPTION file. See Renviron.bioc for more information.
- See Martin Grigorov's blog post for how to debug Linux ARM64 related issues on a x86_64 host.

raw results


Summary

Package: musicatk
Version: 2.2.1
Command: /home/biocbuild/R/R/bin/R CMD check --install=check:musicatk.install-out.txt --library=/home/biocbuild/R/R/site-library --no-vignettes --timings musicatk_2.2.1.tar.gz
StartedAt: 2025-10-07 12:13:18 -0000 (Tue, 07 Oct 2025)
EndedAt: 2025-10-07 12:32:27 -0000 (Tue, 07 Oct 2025)
EllapsedTime: 1148.3 seconds
RetCode: 0
Status:   OK  
CheckDir: musicatk.Rcheck
Warnings: 0

Command output

##############################################################################
##############################################################################
###
### Running command:
###
###   /home/biocbuild/R/R/bin/R CMD check --install=check:musicatk.install-out.txt --library=/home/biocbuild/R/R/site-library --no-vignettes --timings musicatk_2.2.1.tar.gz
###
##############################################################################
##############################################################################


* using log directory ‘/home/biocbuild/bbs-3.21-bioc/meat/musicatk.Rcheck’
* using R Under development (unstable) (2025-02-19 r87757)
* using platform: aarch64-unknown-linux-gnu
* R was compiled by
    aarch64-unknown-linux-gnu-gcc (GCC) 14.2.0
    GNU Fortran (GCC) 14.2.0
* running under: openEuler 24.03 (LTS-SP1)
* using session charset: UTF-8
* using option ‘--no-vignettes’
* checking for file ‘musicatk/DESCRIPTION’ ... OK
* checking extension type ... Package
* this is package ‘musicatk’ version ‘2.2.1’
* package encoding: UTF-8
* checking package namespace information ... OK
* checking package dependencies ... INFO
Imports includes 44 non-default packages.
Importing from so many packages makes the package vulnerable to any of
them becoming unavailable.  Move as many as possible to Suggests and
use conditionally.
* checking if this is a source package ... OK
* checking if there is a namespace ... OK
* checking for hidden files and directories ... OK
* checking for portable file names ... OK
* checking for sufficient/correct file permissions ... OK
* checking whether package ‘musicatk’ can be installed ... OK
* checking installed package size ... OK
* checking package directory ... OK
* checking ‘build’ directory ... OK
* checking DESCRIPTION meta-information ... OK
* checking top-level files ... OK
* checking for left-over files ... OK
* checking index information ... OK
* checking package subdirectories ... OK
* checking code files for non-ASCII characters ... OK
* checking R files for syntax errors ... OK
* checking whether the package can be loaded ... OK
* checking whether the package can be loaded with stated dependencies ... OK
* checking whether the package can be unloaded cleanly ... OK
* checking whether the namespace can be loaded with stated dependencies ... OK
* checking whether the namespace can be unloaded cleanly ... OK
* checking loading without being on the library search path ... OK
* checking dependencies in R code ... OK
* checking S3 generic/method consistency ... OK
* checking replacement functions ... OK
* checking foreign function calls ... OK
* checking R code for possible problems ... OK
* checking Rd files ... OK
* checking Rd metadata ... OK
* checking Rd cross-references ... NOTE
Found the following Rd file(s) with Rd \link{} targets missing package
anchors:
  add_flank_to_variants.Rd: BSgenome-class
  build_standard_table.Rd: BSgenome-class
  create_musica_from_variants.Rd: BSgenome-class
  create_sbs192_table.Rd: BSgenome-class
  create_sbs96_table.Rd: BSgenome-class
  extract_variants.Rd: CollapsedVCF-class, ExpandedVCF-class, MAF-class
  variants.Rd: data.table-class
Please provide package anchors for all Rd \link{} targets not in the
package itself and the base packages.
* checking for missing documentation entries ... OK
* checking for code/documentation mismatches ... OK
* checking Rd \usage sections ... OK
* checking Rd contents ... OK
* checking for unstated dependencies in examples ... OK
* checking contents of ‘data’ directory ... OK
* checking data for non-ASCII characters ... OK
* checking LazyData ... OK
* checking data for ASCII and uncompressed saves ... OK
* checking files in ‘vignettes’ ... OK
* checking examples ... OK
Examples with CPU (user + system) or elapsed time > 5s
                        user system elapsed
plot_k_comparison    251.785  2.655 300.553
compare_k_vals       226.957  1.147 270.297
build_standard_table   9.774  0.757  12.625
plot_cluster           6.274  0.036   8.091
create_umap            5.924  0.015   6.638
extract_variants       5.841  0.052   7.261
plot_umap              5.561  0.163   7.524
* checking for unstated dependencies in ‘tests’ ... OK
* checking tests ...
  Running ‘testthat.R’
 OK
* checking for unstated dependencies in vignettes ... OK
* checking package vignettes ... OK
* checking running R code from vignettes ... SKIPPED
* checking re-building of vignette outputs ... SKIPPED
* checking PDF version of manual ... OK
* DONE

Status: 1 NOTE
See
  ‘/home/biocbuild/bbs-3.21-bioc/meat/musicatk.Rcheck/00check.log’
for details.


Installation output

musicatk.Rcheck/00install.out

##############################################################################
##############################################################################
###
### Running command:
###
###   /home/biocbuild/R/R/bin/R CMD INSTALL musicatk
###
##############################################################################
##############################################################################


* installing to library ‘/home/biocbuild/R/R-devel_2025-02-19/site-library’
* installing *source* package ‘musicatk’ ...
** this is package ‘musicatk’ version ‘2.2.1’
** using staged installation
** R
** data
*** moving datasets to lazyload DB
** inst
** byte-compile and prepare package for lazy loading
** help
*** installing help indices
** building package indices
** installing vignettes
** testing if installed package can be loaded from temporary location
** testing if installed package can be loaded from final location
** testing if installed package keeps a record of temporary installation path
* DONE (musicatk)

Tests output

musicatk.Rcheck/tests/testthat.Rout


R Under development (unstable) (2025-02-19 r87757) -- "Unsuffered Consequences"
Copyright (C) 2025 The R Foundation for Statistical Computing
Platform: aarch64-unknown-linux-gnu

R is free software and comes with ABSOLUTELY NO WARRANTY.
You are welcome to redistribute it under certain conditions.
Type 'license()' or 'licence()' for distribution details.

R is a collaborative project with many contributors.
Type 'contributors()' for more information and
'citation()' on how to cite R or R packages in publications.

Type 'demo()' for some demos, 'help()' for on-line help, or
'help.start()' for an HTML browser interface to help.
Type 'q()' to quit R.

> library("testthat")
> library("musicatk")
Loading required package: NMF
Loading required package: registry
Loading required package: rngtools
Loading required package: cluster
NMF - BioConductor layer [OK] | Shared memory capabilities [NO: bigmemory] | Cores 2/2
  To enable shared memory capabilities, try: install.extras('
NMF
')

Attaching package: 'NMF'

The following object is masked from 'package:generics':

    fit

The following object is masked from 'package:testthat':

    compare

> 
> test_check("musicatk")
[ FAIL 0 | WARN 2 | SKIP 0 | PASS 41 ]

[ FAIL 0 | WARN 2 | SKIP 0 | PASS 41 ]
> 
> proc.time()
   user  system elapsed 
 26.610   0.933  32.549 

Example timings

musicatk.Rcheck/musicatk-Ex.timings

nameusersystemelapsed
add_flank_to_variants3.8020.2554.616
add_result0.0750.0000.075
add_variant_type0.020.000.02
annotate_replication_strand0.1570.0080.165
annotate_transcript_strand1.4730.0281.692
annotate_variant_length0.0160.0000.016
annotate_variant_type0.0030.0000.003
auto_predict_grid4.1800.0594.747
build_custom_table1.1970.0161.221
build_standard_table 9.774 0.75712.625
built_tables0.0020.0000.003
cluster_exposure0.0160.0040.042
combine_count_tables3.1900.1634.196
combine_predict_grid0.8220.0161.102
compare_cosmic_v24.0860.0124.849
compare_cosmic_v32.4150.0202.738
compare_k_vals226.957 1.147270.297
compare_results2.5810.0633.040
cosmic_v2_subtype_map0.0010.0000.001
create_musica_from_counts0.0050.0000.005
create_musica_from_variants1.0810.1573.477
create_umap5.9240.0156.638
credible_intervals0.0030.0000.003
discover_signatures0.9640.0761.181
drop_annotation0.0030.0000.006
exposure_differential_analysis0.0130.0000.013
exposures0.0260.0000.026
extract_count_tables0.0050.0000.005
extract_variants5.8410.0527.261
extract_variants_from_maf0.1570.0000.158
extract_variants_from_maf_file0.1340.0080.142
extract_variants_from_matrix0.160.000.16
extract_variants_from_vcf0.9070.0040.913
extract_variants_from_vcf_file0.6140.0040.633
generate_result_grid0.5310.0000.540
get_modality0.0080.0000.011
get_model0.0060.0000.009
get_result_list_entry0.0030.0040.006
hyperparameter0.0020.0000.002
k_select1.0790.0041.178
metrics0.0000.0030.003
modality0.0020.0000.002
model_id0.0020.0000.002
musicatk000
name_signatures0.0460.0000.046
num_signatures0.0020.0000.003
other_parameters0.0030.0000.003
parameter0.0020.0000.002
pipe0.0030.0000.003
plot_cluster6.2740.0368.091
plot_differential_analysis0.2580.0000.258
plot_exposures0.4320.0000.666
plot_heatmap1.0370.0161.109
plot_k_comparison251.785 2.655300.553
plot_sample_counts0.7680.0200.795
plot_sample_reconstruction_error1.1280.0471.672
plot_signatures1.1960.0321.292
plot_umap5.5610.1637.524
predict_exposure1.8630.0842.186
rc0.0030.0000.003
result_list0.0040.0000.004
samp_annot0.0050.0030.007
sample_names0.0000.0030.003
select_genome000
signatures0.0240.0040.028
subset_musica_by_annotation0.0060.0000.011
subset_musica_by_counts0.0100.0040.025
subset_variant_by_type0.0040.0040.016
subset_variants_by_samples0.0070.0000.015
table_selected0.0020.0000.002
tables0.0050.0000.013
umap0.0020.0000.007
variants0.0070.0000.007