Back to Multiple platform build/check report for BioC 3.21:   simplified   long
AB[C]DEFGHIJKLMNOPQRSTUVWXYZ

This page was generated on 2025-10-16 11:38 -0400 (Thu, 16 Oct 2025).

HostnameOSArch (*)R versionInstalled pkgs
nebbiolo1Linux (Ubuntu 24.04.3 LTS)x86_644.5.1 (2025-06-13) -- "Great Square Root" 4833
merida1macOS 12.7.6 Montereyx86_644.5.1 RC (2025-06-05 r88288) -- "Great Square Root" 4614
kjohnson1macOS 13.7.5 Venturaarm644.5.1 Patched (2025-06-14 r88325) -- "Great Square Root" 4555
kunpeng2Linux (openEuler 24.03 LTS)aarch64R Under development (unstable) (2025-02-19 r87757) -- "Unsuffered Consequences" 4586
Click on any hostname to see more info about the system (e.g. compilers)      (*) as reported by 'uname -p', except on Windows and Mac OS X

Package 393/2341HostnameOS / ArchINSTALLBUILDCHECKBUILD BIN
cn.mops 1.54.0  (landing page)
Gundula Povysil
Snapshot Date: 2025-10-13 13:40 -0400 (Mon, 13 Oct 2025)
git_url: https://git.bioconductor.org/packages/cn.mops
git_branch: RELEASE_3_21
git_last_commit: e09a8be
git_last_commit_date: 2025-04-15 10:11:35 -0400 (Tue, 15 Apr 2025)
nebbiolo1Linux (Ubuntu 24.04.3 LTS) / x86_64  OK    OK    OK  UNNEEDED, same version is already published
merida1macOS 12.7.6 Monterey / x86_64  OK    OK    OK    OK  UNNEEDED, same version is already published
kjohnson1macOS 13.7.5 Ventura / arm64  OK    OK    OK    OK  UNNEEDED, same version is already published
kunpeng2Linux (openEuler 24.03 LTS) / aarch64  OK    OK    OK  


CHECK results for cn.mops on merida1

To the developers/maintainers of the cn.mops package:
- Allow up to 24 hours (and sometimes 48 hours) for your latest push to git@git.bioconductor.org:packages/cn.mops.git to reflect on this report. See Troubleshooting Build Report for more information.
- Use the following Renviron settings to reproduce errors and warnings.
- If 'R CMD check' started to fail recently on the Linux builder(s) over a missing dependency, add the missing dependency to 'Suggests:' in your DESCRIPTION file. See Renviron.bioc for more information.

raw results


Summary

Package: cn.mops
Version: 1.54.0
Command: /Library/Frameworks/R.framework/Resources/bin/R CMD check --install=check:cn.mops.install-out.txt --library=/Library/Frameworks/R.framework/Resources/library --no-vignettes --timings cn.mops_1.54.0.tar.gz
StartedAt: 2025-10-14 01:40:36 -0400 (Tue, 14 Oct 2025)
EndedAt: 2025-10-14 01:47:48 -0400 (Tue, 14 Oct 2025)
EllapsedTime: 432.3 seconds
RetCode: 0
Status:   OK  
CheckDir: cn.mops.Rcheck
Warnings: 0

Command output

##############################################################################
##############################################################################
###
### Running command:
###
###   /Library/Frameworks/R.framework/Resources/bin/R CMD check --install=check:cn.mops.install-out.txt --library=/Library/Frameworks/R.framework/Resources/library --no-vignettes --timings cn.mops_1.54.0.tar.gz
###
##############################################################################
##############################################################################


* using log directory ‘/Users/biocbuild/bbs-3.21-bioc/meat/cn.mops.Rcheck’
* using R version 4.5.1 RC (2025-06-05 r88288)
* using platform: x86_64-apple-darwin20
* R was compiled by
    Apple clang version 14.0.0 (clang-1400.0.29.202)
    GNU Fortran (GCC) 14.2.0
* running under: macOS Monterey 12.7.6
* using session charset: UTF-8
* using option ‘--no-vignettes’
* checking for file ‘cn.mops/DESCRIPTION’ ... OK
* checking extension type ... Package
* this is package ‘cn.mops’ version ‘1.54.0’
* checking package namespace information ... OK
* checking package dependencies ... OK
* checking if this is a source package ... OK
* checking if there is a namespace ... OK
* checking for hidden files and directories ... OK
* checking for portable file names ... OK
* checking for sufficient/correct file permissions ... OK
* checking whether package ‘cn.mops’ can be installed ... OK
* used C compiler: ‘Apple clang version 14.0.0 (clang-1400.0.29.202)’
* used C++ compiler: ‘Apple clang version 14.0.0 (clang-1400.0.29.202)’
* used SDK: ‘MacOSX11.3.sdk’
* checking installed package size ... OK
* checking package directory ... OK
* checking ‘build’ directory ... OK
* checking DESCRIPTION meta-information ... OK
* checking top-level files ... OK
* checking for left-over files ... OK
* checking index information ... OK
* checking package subdirectories ... OK
* checking code files for non-ASCII characters ... OK
* checking R files for syntax errors ... OK
* checking whether the package can be loaded ... OK
* checking whether the package can be loaded with stated dependencies ... OK
* checking whether the package can be unloaded cleanly ... OK
* checking whether the namespace can be loaded with stated dependencies ... OK
* checking whether the namespace can be unloaded cleanly ... OK
* checking whether startup messages can be suppressed ... OK
* checking dependencies in R code ... OK
* checking S3 generic/method consistency ... OK
* checking replacement functions ... OK
* checking foreign function calls ... OK
* checking R code for possible problems ... OK
* checking Rd files ... OK
* checking Rd metadata ... OK
* checking Rd cross-references ... OK
* checking for missing documentation entries ... OK
* checking for code/documentation mismatches ... OK
* checking Rd \usage sections ... OK
* checking Rd contents ... OK
* checking for unstated dependencies in examples ... OK
* checking contents of ‘data’ directory ... OK
* checking data for non-ASCII characters ... OK
* checking data for ASCII and uncompressed saves ... OK
* checking line endings in C/C++/Fortran sources/headers ... OK
* checking compiled code ... NOTE
Note: information on .o files is not available
* checking sizes of PDF files under ‘inst/doc’ ... OK
* checking files in ‘vignettes’ ... OK
* checking examples ... OK
Examples with CPU (user + system) or elapsed time > 5s
                                                      user system elapsed
referencecn.mops                                    16.457  0.093  38.979
calcFractionalCopyNumbers-CNVDetectionResult-method 13.253  0.125  15.735
calcFractionalCopyNumbers                           12.958  0.066  15.353
cn.mops                                             12.515  0.256  42.002
exomecn.mops                                         5.674  0.058   6.885
haplocn.mops                                         2.384  0.065  25.269
getReadCountsFromBAM                                 0.977  0.029  12.875
getSegmentReadCountsFromBAM                          0.629  0.023  13.044
* checking for unstated dependencies in vignettes ... OK
* checking package vignettes ... OK
* checking running R code from vignettes ... SKIPPED
* checking re-building of vignette outputs ... SKIPPED
* checking PDF version of manual ... OK
* DONE

Status: 1 NOTE
See
  ‘/Users/biocbuild/bbs-3.21-bioc/meat/cn.mops.Rcheck/00check.log’
for details.


Installation output

cn.mops.Rcheck/00install.out

##############################################################################
##############################################################################
###
### Running command:
###
###   /Library/Frameworks/R.framework/Resources/bin/R CMD INSTALL cn.mops
###
##############################################################################
##############################################################################


* installing to library ‘/Library/Frameworks/R.framework/Versions/4.5-x86_64/Resources/library’
* installing *source* package ‘cn.mops’ ...
** this is package ‘cn.mops’ version ‘1.54.0’
** using staged installation
** libs
using C compiler: ‘Apple clang version 14.0.0 (clang-1400.0.29.202)’
using C++ compiler: ‘Apple clang version 14.0.0 (clang-1400.0.29.202)’
using SDK: ‘MacOSX11.3.sdk’
clang -arch x86_64 -I"/Library/Frameworks/R.framework/Resources/include" -DNDEBUG   -I/opt/R/x86_64/include    -fPIC  -falign-functions=64 -Wall -g -O2  -c R_init_cnmops.c -o R_init_cnmops.o
clang++ -arch x86_64 -std=gnu++17 -I"/Library/Frameworks/R.framework/Resources/include" -DNDEBUG   -I/opt/R/x86_64/include    -fPIC  -falign-functions=64 -Wall -g -O2   -c cnmops.cpp -o cnmops.o
clang++ -arch x86_64 -std=gnu++17 -I"/Library/Frameworks/R.framework/Resources/include" -DNDEBUG   -I/opt/R/x86_64/include    -fPIC  -falign-functions=64 -Wall -g -O2   -c segment.cpp -o segment.o
segment.cpp:61:31: warning: variable 'maxStatistic' set but not used [-Wunused-but-set-variable]
        double newStatistic,meanDiff,maxStatistic,DOF,a,b,eps1;
                                     ^
segment.cpp:64:9: warning: unused variable 'Rf_beta' [-Wunused-variable]
        double beta,nn;
               ^
/Library/Frameworks/R.framework/Resources/include/Rmath.h:221:15: note: expanded from macro 'beta'
#define beta            Rf_beta
                        ^
segment.cpp:62:40: warning: variable 'maxIdx' set but not used [-Wunused-but-set-variable]
        double newPValue, maxPValue,oldPValue,maxIdx;
                                              ^
segment.cpp:60:9: warning: variable 'oldStatistic' set but not used [-Wunused-but-set-variable]
        double oldStatistic, meanLeft,meanRight,varLeft,varRight;
               ^
segment.cpp:59:20: warning: variable 'globalSd' set but not used [-Wunused-but-set-variable]
        double globalMean,globalSd,diff,M2,globalVariance;
                          ^
5 warnings generated.
clang++ -arch x86_64 -std=gnu++17 -dynamiclib -Wl,-headerpad_max_install_names -undefined dynamic_lookup -L/Library/Frameworks/R.framework/Resources/lib -L/opt/R/x86_64/lib -o cn.mops.so R_init_cnmops.o cnmops.o segment.o -F/Library/Frameworks/R.framework/.. -framework R
installing to /Library/Frameworks/R.framework/Versions/4.5-x86_64/Resources/library/00LOCK-cn.mops/00new/cn.mops/libs
** R
** data
** inst
** byte-compile and prepare package for lazy loading
** help
*** installing help indices
** building package indices
** installing vignettes
** testing if installed package can be loaded from temporary location
** checking absolute paths in shared objects and dynamic libraries
** testing if installed package can be loaded from final location
** testing if installed package keeps a record of temporary installation path
* DONE (cn.mops)

Tests output


Example timings

cn.mops.Rcheck/cn.mops-Ex.timings

nameusersystemelapsed
CNVDetectionResult0.0020.0020.005
calcFractionalCopyNumbers-CNVDetectionResult-method13.253 0.12515.735
calcFractionalCopyNumbers12.958 0.06615.353
calcIntegerCopyNumbers-CNVDetectionResult-method0.8940.0141.072
calcIntegerCopyNumbers0.8280.0160.988
cn.mops12.515 0.25642.002
cnvr-CNVDetectionResult-method0.4670.0160.544
cnvr0.4500.0110.560
cnvs-CNVDetectionResult-method0.4680.0120.579
cnvs0.4550.0120.552
exomecn.mops5.6740.0586.885
getReadCountsFromBAM 0.977 0.02912.875
getSegmentReadCountsFromBAM 0.629 0.02313.044
gr-CNVDetectionResult-method0.4880.0190.599
gr0.4820.0180.698
haplocn.mops 2.384 0.06525.269
individualCall-CNVDetectionResult-method0.4960.0120.523
individualCall0.4930.0130.608
iniCall-CNVDetectionResult-method0.4650.0110.531
iniCall0.4890.0130.529
integerCopyNumber-CNVDetectionResult-method0.4800.0140.548
integerCopyNumber0.4860.0150.592
localAssessments-CNVDetectionResult-method0.4900.0120.553
localAssessments0.4800.0150.574
makeRobustCNVR0.8400.0140.995
normalizeChromosomes0.3460.0210.416
normalizeGenome0.7100.0340.814
normalizedData-CNVDetectionResult-method0.4790.0140.536
normalizedData0.4760.0230.535
params-CNVDetectionResult-method0.4590.0380.604
params0.4670.0410.609
posteriorProbs-CNVDetectionResult-method0.4480.0120.544
posteriorProbs0.4510.0110.555
referencecn.mops16.457 0.09338.979
sampleNames-CNVDetectionResult-method0.4330.0140.457
sampleNames0.4470.0110.509
segment0.0430.0010.049
segmentation-CNVDetectionResult-method0.4690.0130.515
segmentation0.4680.0140.528
segplot-CNVDetectionResult-method2.0800.0172.160
segplot2.0880.0172.159
singlecn.mops1.8010.0161.864