Back to Multiple platform build/check report for BioC 3.21:   simplified   long
AB[C]DEFGHIJKLMNOPQRSTUVWXYZ

This page was generated on 2025-10-16 11:41 -0400 (Thu, 16 Oct 2025).

HostnameOSArch (*)R versionInstalled pkgs
nebbiolo1Linux (Ubuntu 24.04.3 LTS)x86_644.5.1 (2025-06-13) -- "Great Square Root" 4833
merida1macOS 12.7.6 Montereyx86_644.5.1 RC (2025-06-05 r88288) -- "Great Square Root" 4614
kjohnson1macOS 13.7.5 Venturaarm644.5.1 Patched (2025-06-14 r88325) -- "Great Square Root" 4555
kunpeng2Linux (openEuler 24.03 LTS)aarch64R Under development (unstable) (2025-02-19 r87757) -- "Unsuffered Consequences" 4586
Click on any hostname to see more info about the system (e.g. compilers)      (*) as reported by 'uname -p', except on Windows and Mac OS X

Package 393/2341HostnameOS / ArchINSTALLBUILDCHECKBUILD BIN
cn.mops 1.54.0  (landing page)
Gundula Povysil
Snapshot Date: 2025-10-13 13:40 -0400 (Mon, 13 Oct 2025)
git_url: https://git.bioconductor.org/packages/cn.mops
git_branch: RELEASE_3_21
git_last_commit: e09a8be
git_last_commit_date: 2025-04-15 10:11:35 -0400 (Tue, 15 Apr 2025)
nebbiolo1Linux (Ubuntu 24.04.3 LTS) / x86_64  OK    OK    OK  UNNEEDED, same version is already published
merida1macOS 12.7.6 Monterey / x86_64  OK    OK    OK    OK  UNNEEDED, same version is already published
kjohnson1macOS 13.7.5 Ventura / arm64  OK    OK    OK    OK  UNNEEDED, same version is already published
kunpeng2Linux (openEuler 24.03 LTS) / aarch64  OK    OK    OK  


CHECK results for cn.mops on kunpeng2

To the developers/maintainers of the cn.mops package:
- Allow up to 24 hours (and sometimes 48 hours) for your latest push to git@git.bioconductor.org:packages/cn.mops.git to reflect on this report. See Troubleshooting Build Report for more information.
- Use the following Renviron settings to reproduce errors and warnings.
- If 'R CMD check' started to fail recently on the Linux builder(s) over a missing dependency, add the missing dependency to 'Suggests:' in your DESCRIPTION file. See Renviron.bioc for more information.
- See Martin Grigorov's blog post for how to debug Linux ARM64 related issues on a x86_64 host.

raw results


Summary

Package: cn.mops
Version: 1.54.0
Command: /home/biocbuild/R/R/bin/R CMD check --install=check:cn.mops.install-out.txt --library=/home/biocbuild/R/R/site-library --no-vignettes --timings cn.mops_1.54.0.tar.gz
StartedAt: 2025-10-14 07:38:43 -0000 (Tue, 14 Oct 2025)
EndedAt: 2025-10-14 07:43:14 -0000 (Tue, 14 Oct 2025)
EllapsedTime: 270.3 seconds
RetCode: 0
Status:   OK  
CheckDir: cn.mops.Rcheck
Warnings: 0

Command output

##############################################################################
##############################################################################
###
### Running command:
###
###   /home/biocbuild/R/R/bin/R CMD check --install=check:cn.mops.install-out.txt --library=/home/biocbuild/R/R/site-library --no-vignettes --timings cn.mops_1.54.0.tar.gz
###
##############################################################################
##############################################################################


* using log directory ‘/home/biocbuild/bbs-3.21-bioc/meat/cn.mops.Rcheck’
* using R Under development (unstable) (2025-02-19 r87757)
* using platform: aarch64-unknown-linux-gnu
* R was compiled by
    aarch64-unknown-linux-gnu-gcc (GCC) 14.2.0
    GNU Fortran (GCC) 14.2.0
* running under: openEuler 24.03 (LTS-SP1)
* using session charset: UTF-8
* using option ‘--no-vignettes’
* checking for file ‘cn.mops/DESCRIPTION’ ... OK
* checking extension type ... Package
* this is package ‘cn.mops’ version ‘1.54.0’
* checking package namespace information ... OK
* checking package dependencies ... OK
* checking if this is a source package ... OK
* checking if there is a namespace ... OK
* checking for hidden files and directories ... OK
* checking for portable file names ... OK
* checking for sufficient/correct file permissions ... OK
* checking whether package ‘cn.mops’ can be installed ... OK
* used C compiler: ‘aarch64-unknown-linux-gnu-gcc (GCC) 14.2.0’
* used C++ compiler: ‘aarch64-unknown-linux-gnu-g++ (GCC) 14.2.0’
* checking installed package size ... OK
* checking package directory ... OK
* checking ‘build’ directory ... OK
* checking DESCRIPTION meta-information ... OK
* checking top-level files ... OK
* checking for left-over files ... OK
* checking index information ... OK
* checking package subdirectories ... OK
* checking code files for non-ASCII characters ... OK
* checking R files for syntax errors ... OK
* checking whether the package can be loaded ... OK
* checking whether the package can be loaded with stated dependencies ... OK
* checking whether the package can be unloaded cleanly ... OK
* checking whether the namespace can be loaded with stated dependencies ... OK
* checking whether the namespace can be unloaded cleanly ... OK
* checking loading without being on the library search path ... OK
* checking whether startup messages can be suppressed ... OK
* checking dependencies in R code ... OK
* checking S3 generic/method consistency ... OK
* checking replacement functions ... OK
* checking foreign function calls ... OK
* checking R code for possible problems ... OK
* checking Rd files ... OK
* checking Rd metadata ... OK
* checking Rd cross-references ... OK
* checking for missing documentation entries ... OK
* checking for code/documentation mismatches ... OK
* checking Rd \usage sections ... OK
* checking Rd contents ... OK
* checking for unstated dependencies in examples ... OK
* checking contents of ‘data’ directory ... OK
* checking data for non-ASCII characters ... OK
* checking data for ASCII and uncompressed saves ... OK
* checking line endings in C/C++/Fortran sources/headers ... OK
* checking compiled code ... NOTE
Note: information on .o files is not available
* checking files in ‘vignettes’ ... OK
* checking examples ... OK
Examples with CPU (user + system) or elapsed time > 5s
                                                      user system elapsed
referencecn.mops                                    28.443  0.098  39.540
calcFractionalCopyNumbers-CNVDetectionResult-method 16.920  0.008  16.950
calcFractionalCopyNumbers                           16.694  0.008  16.720
cn.mops                                              8.356  0.019  22.481
haplocn.mops                                         1.498  0.243  12.971
getReadCountsFromBAM                                 0.584  0.004   6.285
getSegmentReadCountsFromBAM                          0.403  0.004   6.038
* checking for unstated dependencies in vignettes ... OK
* checking package vignettes ... OK
* checking running R code from vignettes ... SKIPPED
* checking re-building of vignette outputs ... SKIPPED
* checking PDF version of manual ... OK
* DONE

Status: 1 NOTE
See
  ‘/home/biocbuild/bbs-3.21-bioc/meat/cn.mops.Rcheck/00check.log’
for details.


Installation output

cn.mops.Rcheck/00install.out

##############################################################################
##############################################################################
###
### Running command:
###
###   /home/biocbuild/R/R/bin/R CMD INSTALL cn.mops
###
##############################################################################
##############################################################################


* installing to library ‘/home/biocbuild/R/R-devel_2025-02-19/site-library’
* installing *source* package ‘cn.mops’ ...
** this is package ‘cn.mops’ version ‘1.54.0’
** using staged installation
** libs
using C compiler: ‘aarch64-unknown-linux-gnu-gcc (GCC) 14.2.0’
using C++ compiler: ‘aarch64-unknown-linux-gnu-g++ (GCC) 14.2.0’
/opt/ohpc/pub/compiler/gcc/14.2.0/bin/aarch64-unknown-linux-gnu-gcc -std=gnu23 -I"/home/biocbuild/R/R/include" -DNDEBUG   -I/usr/local/include    -fPIC  -g -O2  -Wall -Werror=format-security -c R_init_cnmops.c -o R_init_cnmops.o
/opt/ohpc/pub/compiler/gcc/14.2.0/bin/aarch64-unknown-linux-gnu-g++ -std=gnu++17 -I"/home/biocbuild/R/R/include" -DNDEBUG   -I/usr/local/include    -fPIC  -g -O2  -Wall -Werror=format-security  -c cnmops.cpp -o cnmops.o
/opt/ohpc/pub/compiler/gcc/14.2.0/bin/aarch64-unknown-linux-gnu-g++ -std=gnu++17 -I"/home/biocbuild/R/R/include" -DNDEBUG   -I/usr/local/include    -fPIC  -g -O2  -Wall -Werror=format-security  -c segment.cpp -o segment.o
segment.cpp: In function ‘SEXPREC* segment(SEXP, SEXP, SEXP, SEXP, SEXP, SEXP)’:
segment.cpp:59:27: warning: variable ‘globalSd’ set but not used [-Wunused-but-set-variable]
   59 |         double globalMean,globalSd,diff,M2,globalVariance;
      |                           ^~~~~~~~
segment.cpp:60:16: warning: variable ‘oldStatistic’ set but not used [-Wunused-but-set-variable]
   60 |         double oldStatistic, meanLeft,meanRight,varLeft,varRight;
      |                ^~~~~~~~~~~~
segment.cpp:61:38: warning: variable ‘maxStatistic’ set but not used [-Wunused-but-set-variable]
   61 |         double newStatistic,meanDiff,maxStatistic,DOF,a,b,eps1;
      |                                      ^~~~~~~~~~~~
segment.cpp:62:47: warning: variable ‘maxIdx’ set but not used [-Wunused-but-set-variable]
   62 |         double newPValue, maxPValue,oldPValue,maxIdx;
      |                                               ^~~~~~
In file included from segment.cpp:10:
/home/biocbuild/R/R/include/Rmath.h:211:25: warning: unused variable ‘Rf_beta’ [-Wunused-variable]
  211 | #define beta            Rf_beta
      |                         ^~~~~~~
segment.cpp:64:16: note: in expansion of macro ‘beta’
   64 |         double beta,nn;
      |                ^~~~
/opt/ohpc/pub/compiler/gcc/14.2.0/bin/aarch64-unknown-linux-gnu-g++ -std=gnu++17 -shared -L/home/biocbuild/R/R/lib -L/usr/local/lib -o cn.mops.so R_init_cnmops.o cnmops.o segment.o -L/home/biocbuild/R/R/lib -lR
installing to /home/biocbuild/R/R-devel_2025-02-19/site-library/00LOCK-cn.mops/00new/cn.mops/libs
** R
** data
** inst
** byte-compile and prepare package for lazy loading
** help
*** installing help indices
** building package indices
** installing vignettes
** testing if installed package can be loaded from temporary location
** checking absolute paths in shared objects and dynamic libraries
** testing if installed package can be loaded from final location
** testing if installed package keeps a record of temporary installation path
* DONE (cn.mops)

Tests output


Example timings

cn.mops.Rcheck/cn.mops-Ex.timings

nameusersystemelapsed
CNVDetectionResult0.0010.0000.001
calcFractionalCopyNumbers-CNVDetectionResult-method16.920 0.00816.950
calcFractionalCopyNumbers16.694 0.00816.720
calcIntegerCopyNumbers-CNVDetectionResult-method0.5450.0030.550
calcIntegerCopyNumbers0.5080.0000.510
cn.mops 8.356 0.01922.481
cnvr-CNVDetectionResult-method0.2820.0080.290
cnvr0.2800.0000.281
cnvs-CNVDetectionResult-method0.2810.0040.286
cnvs0.2710.0000.272
exomecn.mops3.4660.0163.490
getReadCountsFromBAM0.5840.0046.285
getSegmentReadCountsFromBAM0.4030.0046.038
gr-CNVDetectionResult-method0.3090.0000.309
gr0.3130.0080.322
haplocn.mops 1.498 0.24312.971
individualCall-CNVDetectionResult-method0.3150.1160.432
individualCall0.2870.0160.304
iniCall-CNVDetectionResult-method0.2790.0240.304
iniCall0.3070.0360.344
integerCopyNumber-CNVDetectionResult-method0.2880.0110.300
integerCopyNumber0.2760.0200.297
localAssessments-CNVDetectionResult-method0.2780.0080.287
localAssessments0.2990.0000.299
makeRobustCNVR0.5060.0040.511
normalizeChromosomes0.2610.0280.290
normalizeGenome0.6560.2040.862
normalizedData-CNVDetectionResult-method0.2750.0080.284
normalizedData0.2850.0080.294
params-CNVDetectionResult-method0.2670.0070.277
params0.2760.0000.277
posteriorProbs-CNVDetectionResult-method0.2730.0000.273
posteriorProbs0.2600.0030.265
referencecn.mops28.443 0.09839.540
sampleNames-CNVDetectionResult-method0.2910.0560.348
sampleNames0.3020.0160.320
segment0.0290.0000.029
segmentation-CNVDetectionResult-method0.2800.0000.281
segmentation0.2990.0000.300
segplot-CNVDetectionResult-method1.2690.1991.473
segplot1.2810.0161.301
singlecn.mops0.9570.0641.024