Back to Multiple platform build/check report for BioC 3.21:   simplified   long
ABCDEFGHIJKLMNOPQR[S]TUVWXYZ

This page was generated on 2025-10-16 11:41 -0400 (Thu, 16 Oct 2025).

HostnameOSArch (*)R versionInstalled pkgs
nebbiolo1Linux (Ubuntu 24.04.3 LTS)x86_644.5.1 (2025-06-13) -- "Great Square Root" 4833
merida1macOS 12.7.6 Montereyx86_644.5.1 RC (2025-06-05 r88288) -- "Great Square Root" 4614
kjohnson1macOS 13.7.5 Venturaarm644.5.1 Patched (2025-06-14 r88325) -- "Great Square Root" 4555
kunpeng2Linux (openEuler 24.03 LTS)aarch64R Under development (unstable) (2025-02-19 r87757) -- "Unsuffered Consequences" 4586
Click on any hostname to see more info about the system (e.g. compilers)      (*) as reported by 'uname -p', except on Windows and Mac OS X

Package 1986/2341HostnameOS / ArchINSTALLBUILDCHECKBUILD BIN
SIAMCAT 2.12.0  (landing page)
Jakob Wirbel
Snapshot Date: 2025-10-13 13:40 -0400 (Mon, 13 Oct 2025)
git_url: https://git.bioconductor.org/packages/SIAMCAT
git_branch: RELEASE_3_21
git_last_commit: 6395cf0
git_last_commit_date: 2025-04-15 11:33:48 -0400 (Tue, 15 Apr 2025)
nebbiolo1Linux (Ubuntu 24.04.3 LTS) / x86_64  OK    OK    OK  UNNEEDED, same version is already published
merida1macOS 12.7.6 Monterey / x86_64  OK    OK    OK    OK  UNNEEDED, same version is already published
kjohnson1macOS 13.7.5 Ventura / arm64  OK    OK    OK    OK  UNNEEDED, same version is already published
kunpeng2Linux (openEuler 24.03 LTS) / aarch64  OK    OK    OK  


CHECK results for SIAMCAT on kunpeng2

To the developers/maintainers of the SIAMCAT package:
- Allow up to 24 hours (and sometimes 48 hours) for your latest push to git@git.bioconductor.org:packages/SIAMCAT.git to reflect on this report. See Troubleshooting Build Report for more information.
- Use the following Renviron settings to reproduce errors and warnings.
- If 'R CMD check' started to fail recently on the Linux builder(s) over a missing dependency, add the missing dependency to 'Suggests:' in your DESCRIPTION file. See Renviron.bioc for more information.
- See Martin Grigorov's blog post for how to debug Linux ARM64 related issues on a x86_64 host.

raw results


Summary

Package: SIAMCAT
Version: 2.12.0
Command: /home/biocbuild/R/R/bin/R CMD check --install=check:SIAMCAT.install-out.txt --library=/home/biocbuild/R/R/site-library --no-vignettes --timings SIAMCAT_2.12.0.tar.gz
StartedAt: 2025-10-14 14:15:00 -0000 (Tue, 14 Oct 2025)
EndedAt: 2025-10-14 14:22:10 -0000 (Tue, 14 Oct 2025)
EllapsedTime: 429.6 seconds
RetCode: 0
Status:   OK  
CheckDir: SIAMCAT.Rcheck
Warnings: 0

Command output

##############################################################################
##############################################################################
###
### Running command:
###
###   /home/biocbuild/R/R/bin/R CMD check --install=check:SIAMCAT.install-out.txt --library=/home/biocbuild/R/R/site-library --no-vignettes --timings SIAMCAT_2.12.0.tar.gz
###
##############################################################################
##############################################################################


* using log directory ‘/home/biocbuild/bbs-3.21-bioc/meat/SIAMCAT.Rcheck’
* using R Under development (unstable) (2025-02-19 r87757)
* using platform: aarch64-unknown-linux-gnu
* R was compiled by
    aarch64-unknown-linux-gnu-gcc (GCC) 14.2.0
    GNU Fortran (GCC) 14.2.0
* running under: openEuler 24.03 (LTS-SP1)
* using session charset: UTF-8
* using option ‘--no-vignettes’
* checking for file ‘SIAMCAT/DESCRIPTION’ ... OK
* checking extension type ... Package
* this is package ‘SIAMCAT’ version ‘2.12.0’
* package encoding: UTF-8
* checking package namespace information ... OK
* checking package dependencies ... OK
* checking if this is a source package ... OK
* checking if there is a namespace ... OK
* checking for hidden files and directories ... NOTE
Found the following hidden files and directories:
  .travis.yml
These were most likely included in error. See section ‘Package
structure’ in the ‘Writing R Extensions’ manual.
* checking for portable file names ... OK
* checking for sufficient/correct file permissions ... OK
* checking whether package ‘SIAMCAT’ can be installed ... OK
* checking installed package size ... INFO
  installed size is  5.1Mb
  sub-directories of 1Mb or more:
    extdata   2.1Mb
    help      1.9Mb
* checking package directory ... OK
* checking ‘build’ directory ... OK
* checking DESCRIPTION meta-information ... OK
* checking top-level files ... OK
* checking for left-over files ... OK
* checking index information ... OK
* checking package subdirectories ... OK
* checking code files for non-ASCII characters ... OK
* checking R files for syntax errors ... OK
* checking whether the package can be loaded ... OK
* checking whether the package can be loaded with stated dependencies ... OK
* checking whether the package can be unloaded cleanly ... OK
* checking whether the namespace can be loaded with stated dependencies ... OK
* checking whether the namespace can be unloaded cleanly ... OK
* checking loading without being on the library search path ... OK
* checking dependencies in R code ... OK
* checking S3 generic/method consistency ... OK
* checking replacement functions ... OK
* checking foreign function calls ... OK
* checking R code for possible problems ... OK
* checking Rd files ... OK
* checking Rd metadata ... OK
* checking Rd cross-references ... NOTE
Found the following Rd file(s) with Rd \link{} targets missing package
anchors:
  check.associations.Rd: lmerTest
  summarize.features.Rd: phyloseq
  train.model.Rd: mlr3learners, glmnet, LiblineaR
Please provide package anchors for all Rd \link{} targets not in the
package itself and the base packages.
* checking for missing documentation entries ... OK
* checking for code/documentation mismatches ... OK
* checking Rd \usage sections ... OK
* checking Rd contents ... OK
* checking for unstated dependencies in examples ... OK
* checking contents of ‘data’ directory ... OK
* checking data for non-ASCII characters ... OK
* checking LazyData ... OK
* checking data for ASCII and uncompressed saves ... OK
* checking files in ‘vignettes’ ... OK
* checking examples ... OK
Examples with CPU (user + system) or elapsed time > 5s
                            user system elapsed
assign-model_list         31.982  0.579  36.542
model.interpretation.plot 31.474  0.335  34.818
make.predictions          31.225  0.309  35.268
train.model               30.574  0.268  34.401
* checking for unstated dependencies in vignettes ... OK
* checking package vignettes ... OK
* checking running R code from vignettes ... SKIPPED
* checking re-building of vignette outputs ... SKIPPED
* checking PDF version of manual ... OK
* DONE

Status: 2 NOTEs
See
  ‘/home/biocbuild/bbs-3.21-bioc/meat/SIAMCAT.Rcheck/00check.log’
for details.


Installation output

SIAMCAT.Rcheck/00install.out

##############################################################################
##############################################################################
###
### Running command:
###
###   /home/biocbuild/R/R/bin/R CMD INSTALL SIAMCAT
###
##############################################################################
##############################################################################


* installing to library ‘/home/biocbuild/R/R-devel_2025-02-19/site-library’
* installing *source* package ‘SIAMCAT’ ...
** this is package ‘SIAMCAT’ version ‘2.12.0’
** using staged installation
** R
** data
*** moving datasets to lazyload DB
** inst
** byte-compile and prepare package for lazy loading
** help
*** installing help indices
*** copying figures
** building package indices
** installing vignettes
** testing if installed package can be loaded from temporary location
** testing if installed package can be loaded from final location
** testing if installed package keeps a record of temporary installation path
* DONE (SIAMCAT)

Tests output


Example timings

SIAMCAT.Rcheck/SIAMCAT-Ex.timings

nameusersystemelapsed
accessSlot0.0090.0000.009
add.meta.pred0.0310.0040.036
assign-associations0.0080.0000.009
assign-data_split0.0080.0000.009
assign-eval_data0.0310.0000.032
assign-filt_feat0.0040.0040.008
assign-label0.0080.0000.008
assign-meta0.0360.0000.036
assign-model_list31.982 0.57936.542
assign-norm_feat0.0080.0000.008
assign-orig_feat0.0150.0000.015
assign-physeq0.0090.0000.009
assign-pred_matrix0.0040.0040.008
assoc_param-methods0.0210.0000.021
association.plot0.2570.0040.261
associations-methods0.0090.0000.010
check.associations0.010.000.01
check.confounders0.5710.0120.712
create.data.split0.0290.0000.028
create.label0.0030.0000.003
data_split-methods0.0060.0000.006
eval_data-methods0.0060.0000.006
evaluate.predictions2.2240.0082.467
feature_type-methods0.0070.0000.006
feature_weights-methods0.0070.0000.006
filt_feat-methods0.0070.0000.006
filt_params-methods0.0320.0000.031
filter.features0.0180.0000.017
filter.label0.0080.0000.008
get.filt_feat.matrix0.0060.0000.006
get.norm_feat.matrix0.0060.0000.006
get.orig_feat.matrix0.0070.0000.015
label-methods0.0060.0000.010
make.predictions31.225 0.30935.268
meta-methods0.0230.0000.023
model.evaluation.plot0.0260.0040.030
model.interpretation.plot31.474 0.33534.818
model_list-methods0.0060.0000.006
model_type-methods0.0060.0000.006
models-methods0.0060.0000.006
norm_feat-methods0.0060.0000.006
norm_params-methods0.0060.0000.006
normalize.features0.0170.0000.017
orig_feat-methods0.0070.0000.012
physeq-methods0.0110.0000.024
pred_matrix-methods0.0070.0000.015
read.label0.0120.0000.012
read.lefse0.9090.0361.041
select.samples0.0800.0040.084
siamcat0.3510.0000.352
siamcat.to.lefse0.020.000.02
siamcat.to.maaslin0.0230.0000.039
summarize.features4.0470.0684.306
train.model30.574 0.26834.401
validate.data0.0230.0010.024
volcano.plot0.0110.0030.014
weight_matrix-methods0.0020.0040.007