Back to Multiple platform build/check report for BioC 3.21:   simplified   long
ABCDEFGHIJKLMNOPQR[S]TUVWXYZ

This page was generated on 2025-10-16 11:40 -0400 (Thu, 16 Oct 2025).

HostnameOSArch (*)R versionInstalled pkgs
nebbiolo1Linux (Ubuntu 24.04.3 LTS)x86_644.5.1 (2025-06-13) -- "Great Square Root" 4833
merida1macOS 12.7.6 Montereyx86_644.5.1 RC (2025-06-05 r88288) -- "Great Square Root" 4614
kjohnson1macOS 13.7.5 Venturaarm644.5.1 Patched (2025-06-14 r88325) -- "Great Square Root" 4555
kunpeng2Linux (openEuler 24.03 LTS)aarch64R Under development (unstable) (2025-02-19 r87757) -- "Unsuffered Consequences" 4586
Click on any hostname to see more info about the system (e.g. compilers)      (*) as reported by 'uname -p', except on Windows and Mac OS X

Package 1986/2341HostnameOS / ArchINSTALLBUILDCHECKBUILD BIN
SIAMCAT 2.12.0  (landing page)
Jakob Wirbel
Snapshot Date: 2025-10-13 13:40 -0400 (Mon, 13 Oct 2025)
git_url: https://git.bioconductor.org/packages/SIAMCAT
git_branch: RELEASE_3_21
git_last_commit: 6395cf0
git_last_commit_date: 2025-04-15 11:33:48 -0400 (Tue, 15 Apr 2025)
nebbiolo1Linux (Ubuntu 24.04.3 LTS) / x86_64  OK    OK    OK  UNNEEDED, same version is already published
merida1macOS 12.7.6 Monterey / x86_64  OK    OK    OK    OK  UNNEEDED, same version is already published
kjohnson1macOS 13.7.5 Ventura / arm64  OK    OK    OK    OK  UNNEEDED, same version is already published
kunpeng2Linux (openEuler 24.03 LTS) / aarch64  OK    OK    OK  


CHECK results for SIAMCAT on kjohnson1

To the developers/maintainers of the SIAMCAT package:
- Allow up to 24 hours (and sometimes 48 hours) for your latest push to git@git.bioconductor.org:packages/SIAMCAT.git to reflect on this report. See Troubleshooting Build Report for more information.
- Use the following Renviron settings to reproduce errors and warnings.
- If 'R CMD check' started to fail recently on the Linux builder(s) over a missing dependency, add the missing dependency to 'Suggests:' in your DESCRIPTION file. See Renviron.bioc for more information.

raw results


Summary

Package: SIAMCAT
Version: 2.12.0
Command: /Library/Frameworks/R.framework/Resources/bin/R CMD check --install=check:SIAMCAT.install-out.txt --library=/Library/Frameworks/R.framework/Resources/library --no-vignettes --timings SIAMCAT_2.12.0.tar.gz
StartedAt: 2025-10-15 12:30:18 -0400 (Wed, 15 Oct 2025)
EndedAt: 2025-10-15 12:35:44 -0400 (Wed, 15 Oct 2025)
EllapsedTime: 326.6 seconds
RetCode: 0
Status:   OK  
CheckDir: SIAMCAT.Rcheck
Warnings: 0

Command output

##############################################################################
##############################################################################
###
### Running command:
###
###   /Library/Frameworks/R.framework/Resources/bin/R CMD check --install=check:SIAMCAT.install-out.txt --library=/Library/Frameworks/R.framework/Resources/library --no-vignettes --timings SIAMCAT_2.12.0.tar.gz
###
##############################################################################
##############################################################################


* using log directory ‘/Users/biocbuild/bbs-3.21-bioc/meat/SIAMCAT.Rcheck’
* using R version 4.5.1 Patched (2025-06-14 r88325)
* using platform: aarch64-apple-darwin20
* R was compiled by
    Apple clang version 16.0.0 (clang-1600.0.26.6)
    GNU Fortran (GCC) 14.2.0
* running under: macOS Ventura 13.7.5
* using session charset: UTF-8
* using option ‘--no-vignettes’
* checking for file ‘SIAMCAT/DESCRIPTION’ ... OK
* checking extension type ... Package
* this is package ‘SIAMCAT’ version ‘2.12.0’
* package encoding: UTF-8
* checking package namespace information ... OK
* checking package dependencies ... OK
* checking if this is a source package ... OK
* checking if there is a namespace ... OK
* checking for hidden files and directories ... NOTE
Found the following hidden files and directories:
  .travis.yml
These were most likely included in error. See section ‘Package
structure’ in the ‘Writing R Extensions’ manual.
* checking for portable file names ... OK
* checking for sufficient/correct file permissions ... OK
* checking whether package ‘SIAMCAT’ can be installed ... OK
* checking installed package size ... INFO
  installed size is  5.1Mb
  sub-directories of 1Mb or more:
    extdata   2.1Mb
    help      1.9Mb
* checking package directory ... OK
* checking ‘build’ directory ... OK
* checking DESCRIPTION meta-information ... OK
* checking top-level files ... OK
* checking for left-over files ... OK
* checking index information ... OK
* checking package subdirectories ... OK
* checking code files for non-ASCII characters ... OK
* checking R files for syntax errors ... OK
* checking whether the package can be loaded ... OK
* checking whether the package can be loaded with stated dependencies ... OK
* checking whether the package can be unloaded cleanly ... OK
* checking whether the namespace can be loaded with stated dependencies ... OK
* checking whether the namespace can be unloaded cleanly ... OK
* checking dependencies in R code ... OK
* checking S3 generic/method consistency ... OK
* checking replacement functions ... OK
* checking foreign function calls ... OK
* checking R code for possible problems ... OK
* checking Rd files ... OK
* checking Rd metadata ... OK
* checking Rd cross-references ... NOTE
Found the following Rd file(s) with Rd \link{} targets missing package
anchors:
  check.associations.Rd: lmerTest
  summarize.features.Rd: phyloseq
  train.model.Rd: mlr3learners, glmnet, LiblineaR
Please provide package anchors for all Rd \link{} targets not in the
package itself and the base packages.
* checking for missing documentation entries ... OK
* checking for code/documentation mismatches ... OK
* checking Rd \usage sections ... OK
* checking Rd contents ... OK
* checking for unstated dependencies in examples ... OK
* checking contents of ‘data’ directory ... OK
* checking data for non-ASCII characters ... OK
* checking LazyData ... OK
* checking data for ASCII and uncompressed saves ... OK
* checking files in ‘vignettes’ ... OK
* checking examples ... OK
Examples with CPU (user + system) or elapsed time > 5s
                            user system elapsed
make.predictions          25.600  0.426  26.417
assign-model_list         25.179  0.472  26.110
model.interpretation.plot 24.866  0.441  25.659
train.model               24.375  0.468  25.222
* checking for unstated dependencies in vignettes ... OK
* checking package vignettes ... OK
* checking running R code from vignettes ... SKIPPED
* checking re-building of vignette outputs ... SKIPPED
* checking PDF version of manual ... OK
* DONE

Status: 2 NOTEs
See
  ‘/Users/biocbuild/bbs-3.21-bioc/meat/SIAMCAT.Rcheck/00check.log’
for details.


Installation output

SIAMCAT.Rcheck/00install.out

##############################################################################
##############################################################################
###
### Running command:
###
###   /Library/Frameworks/R.framework/Resources/bin/R CMD INSTALL SIAMCAT
###
##############################################################################
##############################################################################


* installing to library ‘/Library/Frameworks/R.framework/Versions/4.5-arm64/Resources/library’
* installing *source* package ‘SIAMCAT’ ...
** this is package ‘SIAMCAT’ version ‘2.12.0’
** using staged installation
** R
** data
*** moving datasets to lazyload DB
** inst
** byte-compile and prepare package for lazy loading
** help
*** installing help indices
*** copying figures
** building package indices
** installing vignettes
** testing if installed package can be loaded from temporary location
** testing if installed package can be loaded from final location
** testing if installed package keeps a record of temporary installation path
* DONE (SIAMCAT)

Tests output


Example timings

SIAMCAT.Rcheck/SIAMCAT-Ex.timings

nameusersystemelapsed
accessSlot0.0080.0050.013
add.meta.pred0.0280.0030.033
assign-associations0.0070.0020.009
assign-data_split0.0070.0020.009
assign-eval_data0.0070.0030.009
assign-filt_feat0.0070.0030.009
assign-label0.0060.0020.009
assign-meta0.0280.0020.032
assign-model_list25.179 0.47226.110
assign-norm_feat0.0070.0020.009
assign-orig_feat0.0110.0020.012
assign-physeq0.0070.0030.009
assign-pred_matrix0.0070.0020.009
assoc_param-methods0.0050.0030.008
association.plot0.2680.0160.291
associations-methods0.0090.0020.011
check.associations0.0090.0020.012
check.confounders0.4550.0250.486
create.data.split0.0220.0030.024
create.label0.0030.0020.005
data_split-methods0.0060.0020.008
eval_data-methods0.0050.0020.009
evaluate.predictions1.7830.0951.894
feature_type-methods0.0060.0030.009
feature_weights-methods0.0770.0130.096
filt_feat-methods0.0060.0020.008
filt_params-methods0.0060.0030.011
filter.features0.0170.0030.020
filter.label0.0070.0030.010
get.filt_feat.matrix0.0070.0020.010
get.norm_feat.matrix0.0060.0010.007
get.orig_feat.matrix0.0060.0020.008
label-methods0.0050.0030.008
make.predictions25.600 0.42626.417
meta-methods0.0220.0040.025
model.evaluation.plot0.0250.0100.034
model.interpretation.plot24.866 0.44125.659
model_list-methods0.0060.0020.009
model_type-methods0.0050.0020.008
models-methods0.0060.0020.009
norm_feat-methods0.0060.0020.008
norm_params-methods0.0050.0030.009
normalize.features0.0140.0030.019
orig_feat-methods0.0070.0020.009
physeq-methods0.0090.0020.011
pred_matrix-methods0.0070.0020.008
read.label0.0090.0020.011
read.lefse0.6250.0290.668
select.samples0.0840.0050.091
siamcat0.3220.0200.346
siamcat.to.lefse0.0250.0040.030
siamcat.to.maaslin0.0260.0040.034
summarize.features2.2070.3352.573
train.model24.375 0.46825.222
validate.data0.0200.0030.022
volcano.plot0.0120.0030.015
weight_matrix-methods0.0060.0020.007