Back to Multiple platform build/check report for BioC 3.21:   simplified   long
ABCDEFGHIJKLMNOPQ[R]STUVWXYZ

This page was generated on 2025-10-16 11:41 -0400 (Thu, 16 Oct 2025).

HostnameOSArch (*)R versionInstalled pkgs
nebbiolo1Linux (Ubuntu 24.04.3 LTS)x86_644.5.1 (2025-06-13) -- "Great Square Root" 4833
merida1macOS 12.7.6 Montereyx86_644.5.1 RC (2025-06-05 r88288) -- "Great Square Root" 4614
kjohnson1macOS 13.7.5 Venturaarm644.5.1 Patched (2025-06-14 r88325) -- "Great Square Root" 4555
kunpeng2Linux (openEuler 24.03 LTS)aarch64R Under development (unstable) (2025-02-19 r87757) -- "Unsuffered Consequences" 4586
Click on any hostname to see more info about the system (e.g. compilers)      (*) as reported by 'uname -p', except on Windows and Mac OS X

Package 1685/2341HostnameOS / ArchINSTALLBUILDCHECKBUILD BIN
RAIDS 1.6.1  (landing page)
Pascal Belleau
Snapshot Date: 2025-10-13 13:40 -0400 (Mon, 13 Oct 2025)
git_url: https://git.bioconductor.org/packages/RAIDS
git_branch: RELEASE_3_21
git_last_commit: cf24404
git_last_commit_date: 2025-04-15 22:57:27 -0400 (Tue, 15 Apr 2025)
nebbiolo1Linux (Ubuntu 24.04.3 LTS) / x86_64  OK    OK    OK  UNNEEDED, same version is already published
merida1macOS 12.7.6 Monterey / x86_64  OK    OK    OK    OK  UNNEEDED, same version is already published
kjohnson1macOS 13.7.5 Ventura / arm64  OK    OK    OK    OK  UNNEEDED, same version is already published
kunpeng2Linux (openEuler 24.03 LTS) / aarch64  OK    OK    OK  


CHECK results for RAIDS on kunpeng2

To the developers/maintainers of the RAIDS package:
- Allow up to 24 hours (and sometimes 48 hours) for your latest push to git@git.bioconductor.org:packages/RAIDS.git to reflect on this report. See Troubleshooting Build Report for more information.
- Use the following Renviron settings to reproduce errors and warnings.
- If 'R CMD check' started to fail recently on the Linux builder(s) over a missing dependency, add the missing dependency to 'Suggests:' in your DESCRIPTION file. See Renviron.bioc for more information.
- See Martin Grigorov's blog post for how to debug Linux ARM64 related issues on a x86_64 host.

raw results


Summary

Package: RAIDS
Version: 1.6.1
Command: /home/biocbuild/R/R/bin/R CMD check --install=check:RAIDS.install-out.txt --library=/home/biocbuild/R/R/site-library --no-vignettes --timings RAIDS_1.6.1.tar.gz
StartedAt: 2025-10-14 13:00:41 -0000 (Tue, 14 Oct 2025)
EndedAt: 2025-10-14 13:09:59 -0000 (Tue, 14 Oct 2025)
EllapsedTime: 558.9 seconds
RetCode: 0
Status:   OK  
CheckDir: RAIDS.Rcheck
Warnings: 0

Command output

##############################################################################
##############################################################################
###
### Running command:
###
###   /home/biocbuild/R/R/bin/R CMD check --install=check:RAIDS.install-out.txt --library=/home/biocbuild/R/R/site-library --no-vignettes --timings RAIDS_1.6.1.tar.gz
###
##############################################################################
##############################################################################


* using log directory ‘/home/biocbuild/bbs-3.21-bioc/meat/RAIDS.Rcheck’
* using R Under development (unstable) (2025-02-19 r87757)
* using platform: aarch64-unknown-linux-gnu
* R was compiled by
    aarch64-unknown-linux-gnu-gcc (GCC) 14.2.0
    GNU Fortran (GCC) 14.2.0
* running under: openEuler 24.03 (LTS-SP1)
* using session charset: UTF-8
* using option ‘--no-vignettes’
* checking for file ‘RAIDS/DESCRIPTION’ ... OK
* checking extension type ... Package
* this is package ‘RAIDS’ version ‘1.6.1’
* package encoding: UTF-8
* checking package namespace information ... OK
* checking package dependencies ... OK
* checking if this is a source package ... OK
* checking if there is a namespace ... OK
* checking for hidden files and directories ... OK
* checking for portable file names ... OK
* checking for sufficient/correct file permissions ... OK
* checking whether package ‘RAIDS’ can be installed ... OK
* checking installed package size ... OK
* checking package directory ... OK
* checking ‘build’ directory ... OK
* checking DESCRIPTION meta-information ... OK
* checking top-level files ... OK
* checking for left-over files ... OK
* checking index information ... OK
* checking package subdirectories ... OK
* checking code files for non-ASCII characters ... OK
* checking R files for syntax errors ... OK
* checking whether the package can be loaded ... OK
* checking whether the package can be loaded with stated dependencies ... OK
* checking whether the package can be unloaded cleanly ... OK
* checking whether the namespace can be loaded with stated dependencies ... OK
* checking whether the namespace can be unloaded cleanly ... OK
* checking loading without being on the library search path ... OK
* checking dependencies in R code ... OK
* checking S3 generic/method consistency ... OK
* checking replacement functions ... OK
* checking foreign function calls ... OK
* checking R code for possible problems ... OK
* checking Rd files ... OK
* checking Rd metadata ... OK
* checking Rd cross-references ... OK
* checking for missing documentation entries ... OK
* checking for code/documentation mismatches ... OK
* checking Rd \usage sections ... NOTE
Documented arguments not in \usage in Rd file 'wrapperAncestry.Rd':
  ‘pathGeno’

Functions with \usage entries need to have the appropriate \alias
entries, and all their arguments documented.
The \usage entries must correspond to syntactically valid R code.
See chapter ‘Writing R documentation files’ in the ‘Writing R
Extensions’ manual.
* checking Rd contents ... OK
* checking for unstated dependencies in examples ... OK
* checking contents of ‘data’ directory ... OK
* checking data for non-ASCII characters ... OK
* checking data for ASCII and uncompressed saves ... OK
* checking files in ‘vignettes’ ... OK
* checking examples ... OK
Examples with CPU (user + system) or elapsed time > 5s
                                   user system elapsed
computeAncestryFromSyntheticFile 10.208  0.243  10.475
readSNVVCF                        7.980  0.040   8.051
selParaPCAUpQuartile              7.334  0.072   7.429
* checking for unstated dependencies in ‘tests’ ... OK
* checking tests ...
  Running ‘testthat.R’
 OK
* checking for unstated dependencies in vignettes ... OK
* checking package vignettes ... OK
* checking running R code from vignettes ... SKIPPED
* checking re-building of vignette outputs ... SKIPPED
* checking PDF version of manual ... OK
* DONE

Status: 1 NOTE
See
  ‘/home/biocbuild/bbs-3.21-bioc/meat/RAIDS.Rcheck/00check.log’
for details.


Installation output

RAIDS.Rcheck/00install.out

##############################################################################
##############################################################################
###
### Running command:
###
###   /home/biocbuild/R/R/bin/R CMD INSTALL RAIDS
###
##############################################################################
##############################################################################


* installing to library ‘/home/biocbuild/R/R-devel_2025-02-19/site-library’
* installing *source* package ‘RAIDS’ ...
** this is package ‘RAIDS’ version ‘1.6.1’
** using staged installation
** R
** data
** inst
** byte-compile and prepare package for lazy loading
** help
*** installing help indices
** building package indices
** installing vignettes
** testing if installed package can be loaded from temporary location
** testing if installed package can be loaded from final location
** testing if installed package keeps a record of temporary installation path
* DONE (RAIDS)

Tests output

RAIDS.Rcheck/tests/testthat.Rout


R Under development (unstable) (2025-02-19 r87757) -- "Unsuffered Consequences"
Copyright (C) 2025 The R Foundation for Statistical Computing
Platform: aarch64-unknown-linux-gnu

R is free software and comes with ABSOLUTELY NO WARRANTY.
You are welcome to redistribute it under certain conditions.
Type 'license()' or 'licence()' for distribution details.

R is a collaborative project with many contributors.
Type 'contributors()' for more information and
'citation()' on how to cite R or R packages in publications.

Type 'demo()' for some demos, 'help()' for on-line help, or
'help.start()' for an HTML browser interface to help.
Type 'q()' to quit R.

> library(testthat)
> library(RAIDS)
Loading required package: gdsfmt
Loading required package: SNPRelate
Loading required package: GENESIS
Loading required package: dplyr

Attaching package: 'dplyr'

The following object is masked from 'package:testthat':

    matches

The following objects are masked from 'package:stats':

    filter, lag

The following objects are masked from 'package:base':

    intersect, setdiff, setequal, union

Loading required package: Rsamtools
Loading required package: GenomeInfoDb
Loading required package: BiocGenerics
Loading required package: generics

Attaching package: 'generics'

The following object is masked from 'package:dplyr':

    explain

The following objects are masked from 'package:base':

    as.difftime, as.factor, as.ordered, intersect, is.element, setdiff,
    setequal, union


Attaching package: 'BiocGenerics'

The following object is masked from 'package:dplyr':

    combine

The following objects are masked from 'package:stats':

    IQR, mad, sd, var, xtabs

The following objects are masked from 'package:base':

    Filter, Find, Map, Position, Reduce, anyDuplicated, aperm, append,
    as.data.frame, basename, cbind, colnames, dirname, do.call,
    duplicated, eval, evalq, get, grep, grepl, is.unsorted, lapply,
    mapply, match, mget, order, paste, pmax, pmax.int, pmin, pmin.int,
    rank, rbind, rownames, sapply, saveRDS, table, tapply, unique,
    unsplit, which.max, which.min

Loading required package: S4Vectors
Loading required package: stats4

Attaching package: 'S4Vectors'

The following objects are masked from 'package:dplyr':

    first, rename

The following object is masked from 'package:utils':

    findMatches

The following objects are masked from 'package:base':

    I, expand.grid, unname

Loading required package: IRanges

Attaching package: 'IRanges'

The following objects are masked from 'package:dplyr':

    collapse, desc, slice

Loading required package: GenomicRanges
Loading required package: Biostrings
Loading required package: XVector

Attaching package: 'Biostrings'

The following object is masked from 'package:base':

    strsplit

> 
> ## Run all unit tests
> test_check("RAIDS")

Attaching package: 'Matrix'

The following object is masked from 'package:S4Vectors':

    expand

[ FAIL 0 | WARN 0 | SKIP 0 | PASS 445 ]
> 
> proc.time()
   user  system elapsed 
 46.170   1.644  47.931 

Example timings

RAIDS.Rcheck/RAIDS-Ex.timings

nameusersystemelapsed
add1KG2SampleGDS0.0790.0110.121
addBlockFromDetFile0.0020.0010.005
addBlockInGDSAnnot0.0060.0000.008
addGDS1KGLDBlock0.0000.0020.002
addGDSRef0.0020.0020.005
addGDSStudyPruning0.0010.0000.002
addGeneBlockGDSRefAnnot1.1410.0841.254
addGeneBlockRefAnnot0.0020.0000.002
addRef2GDS1KG0.0050.0000.006
addStudy1Kg0.0120.0000.013
addStudyGDSSample0.0090.0000.010
addUpdateLap0.0010.0000.003
addUpdateSegment0.0010.0000.004
appendGDSRefSample0.0080.0000.009
appendGDSSampleOnly0.0010.0000.003
appendGDSgenotype0.0210.0000.029
appendGDSgenotypeMat0.0020.0000.002
calcAFMLRNA0.0070.0000.007
computeAlleleFraction0.0030.0000.003
computeAllelicFractionDNA0.1890.0040.196
computeAllelicFractionRNA0.3330.0120.348
computeAllelicImbDNAChr0.0080.0000.008
computeAncestryFromSynthetic0.0160.0040.022
computeAncestryFromSyntheticFile10.208 0.24310.475
computeKNNRefSample0.0250.0000.025
computeKNNRefSynthetic3.5790.1243.713
computeLOHBlocksDNAChr0.0090.0040.013
computePCAMultiSynthetic0.0120.0000.012
computePCARefRMMulti1.7140.0091.726
computePCARefSample2.0590.0072.068
computePoolSyntheticAncestryGr2.1610.0322.197
computeSyntheticConfMat0.0150.0040.019
computeSyntheticROC0.0500.0080.058
createAUROCGraph1.4810.0601.547
createAccuracyGraph1.2850.0001.289
createProfile0.0690.0040.076
createStudy2GDS1KG0.0700.0000.072
demoKnownSuperPop1KG2.1590.0232.189
demoPCA1KG0.0050.0040.009
demoPCASyntheticProfiles2.1780.0002.191
demoPedigreeEx10.0230.0000.022
estimateAllelicFraction0.1220.0000.122
extractNucleotide0.0010.0000.000
generateGDS1KG0.0120.0040.017
generateGDS1KGgenotypeFromSNPPileup0.0600.0000.064
generateGDSRefSample0.0050.0000.006
generateGDSSNPinfo0.0060.0000.006
generateGDSgenotype0.0180.0000.018
generateGeneBlock0.0020.0000.001
generateMapSnvSel0.0040.0000.005
generatePhase1KG2GDS0.0140.0040.018
generatePhaseRef0.0130.0040.017
generateProfileGDS0.0590.0000.060
getBlockIDs0.0020.0020.002
getRef1KGPop0.0020.0020.004
getRefSuperPop0.0040.0000.004
getTableSNV0.0110.0040.016
groupChr1KGSNV0.0550.0150.073
identifyRelative0.0100.0010.011
identifyRelativeRef0.0080.0000.008
inferAncestry0.0190.0000.019
inferAncestryDNA0.0180.0000.019
inferAncestryGeneAware0.0180.0000.018
matKNNSynthetic0.0490.0040.053
pedSynthetic0.0530.0000.053
prepPed1KG0.0060.0000.007
prepPedSynthetic1KG0.0020.0040.007
prepSynthetic0.0150.0000.015
processBlockChr0.0030.0000.004
processPileupChrBin4.0430.0844.135
profileAncestry0.0210.0040.024
pruning1KGbyChr0.0050.0000.005
pruningSample0.0570.0040.062
readSNVBAM0.0010.0000.001
readSNVFileGeneric0.0040.0000.005
readSNVPileupFile0.0420.0000.044
readSNVVCF7.9800.0408.051
runExomeAncestry0.0220.0000.022
runIBDKING0.0700.0000.075
runLDPruning0.0260.0080.035
runProfileAncestry0.0160.0080.024
runRNAAncestry0.0220.0000.023
runWrapperAncestry0.0230.0000.024
selParaPCAUpQuartile7.3340.0727.429
select1KGPop0.0070.0000.006
select1KGPopForSynthetic0.0070.0000.007
snpPositionDemo0.0000.0040.004
snvListVCF0.0050.0000.005
splitSelectByPop0.0020.0000.001
syntheticGeno0.0390.0040.043
tableBlockAF0.0290.0030.033
testAlleleFractionChange0.0020.0010.002
testEmptyBox0.0020.0000.002
validateAdd1KG2SampleGDS0.0020.0000.002
validateAddStudy1Kg0.0000.0020.002
validateCharacterString000
validateComputeAncestryFromSyntheticFile0.0020.0010.002
validateComputeKNNRefSample0.0050.0000.005
validateComputeKNNRefSynthetic0.0070.0000.007
validateComputePCAMultiSynthetic0.0040.0000.005
validateComputePCARefSample0.0010.0000.001
validateComputePoolSyntheticAncestryGr0.0010.0000.001
validateComputeSyntheticRoc0.0100.0030.014
validateCreateAccuracyGraph0.0010.0000.001
validateCreateStudy2GDS1KG0.0020.0000.002
validateDataRefSynParameter0.0010.0000.001
validateEstimateAllelicFraction0.0010.0020.003
validateGDSClass0.0010.0000.002
validateGenerateGDS1KG0.0020.0000.002
validateLogical000
validatePEDStudyParameter0.0010.0000.001
validatePepSynthetic0.0020.0000.002
validatePositiveIntegerVector000
validatePrepPed1KG0.0010.0000.001
validateProfileGDSExist0.0010.0000.001
validatePruningSample0.0010.0000.001
validateRunExomeOrRNAAncestry0.0050.0000.005
validateSingleRatio000
validateStudyDataFrameParameter000
validateSyntheticGeno0.0020.0000.002
validatecreateProfile0.0030.0000.002
wrapperAncestry0.0160.0090.025