Back to Multiple platform build/check report for BioC 3.21:   simplified   long
ABCDEFGHIJKLMNOPQ[R]STUVWXYZ

This page was generated on 2025-10-16 11:40 -0400 (Thu, 16 Oct 2025).

HostnameOSArch (*)R versionInstalled pkgs
nebbiolo1Linux (Ubuntu 24.04.3 LTS)x86_644.5.1 (2025-06-13) -- "Great Square Root" 4833
merida1macOS 12.7.6 Montereyx86_644.5.1 RC (2025-06-05 r88288) -- "Great Square Root" 4614
kjohnson1macOS 13.7.5 Venturaarm644.5.1 Patched (2025-06-14 r88325) -- "Great Square Root" 4555
kunpeng2Linux (openEuler 24.03 LTS)aarch64R Under development (unstable) (2025-02-19 r87757) -- "Unsuffered Consequences" 4586
Click on any hostname to see more info about the system (e.g. compilers)      (*) as reported by 'uname -p', except on Windows and Mac OS X

Package 1685/2341HostnameOS / ArchINSTALLBUILDCHECKBUILD BIN
RAIDS 1.6.1  (landing page)
Pascal Belleau
Snapshot Date: 2025-10-13 13:40 -0400 (Mon, 13 Oct 2025)
git_url: https://git.bioconductor.org/packages/RAIDS
git_branch: RELEASE_3_21
git_last_commit: cf24404
git_last_commit_date: 2025-04-15 22:57:27 -0400 (Tue, 15 Apr 2025)
nebbiolo1Linux (Ubuntu 24.04.3 LTS) / x86_64  OK    OK    OK  UNNEEDED, same version is already published
merida1macOS 12.7.6 Monterey / x86_64  OK    OK    OK    OK  UNNEEDED, same version is already published
kjohnson1macOS 13.7.5 Ventura / arm64  OK    OK    OK    OK  UNNEEDED, same version is already published
kunpeng2Linux (openEuler 24.03 LTS) / aarch64  OK    OK    OK  


CHECK results for RAIDS on kjohnson1

To the developers/maintainers of the RAIDS package:
- Allow up to 24 hours (and sometimes 48 hours) for your latest push to git@git.bioconductor.org:packages/RAIDS.git to reflect on this report. See Troubleshooting Build Report for more information.
- Use the following Renviron settings to reproduce errors and warnings.
- If 'R CMD check' started to fail recently on the Linux builder(s) over a missing dependency, add the missing dependency to 'Suggests:' in your DESCRIPTION file. See Renviron.bioc for more information.

raw results


Summary

Package: RAIDS
Version: 1.6.1
Command: /Library/Frameworks/R.framework/Resources/bin/R CMD check --install=check:RAIDS.install-out.txt --library=/Library/Frameworks/R.framework/Resources/library --no-vignettes --timings RAIDS_1.6.1.tar.gz
StartedAt: 2025-10-15 08:52:13 -0400 (Wed, 15 Oct 2025)
EndedAt: 2025-10-15 09:00:24 -0400 (Wed, 15 Oct 2025)
EllapsedTime: 491.4 seconds
RetCode: 0
Status:   OK  
CheckDir: RAIDS.Rcheck
Warnings: 0

Command output

##############################################################################
##############################################################################
###
### Running command:
###
###   /Library/Frameworks/R.framework/Resources/bin/R CMD check --install=check:RAIDS.install-out.txt --library=/Library/Frameworks/R.framework/Resources/library --no-vignettes --timings RAIDS_1.6.1.tar.gz
###
##############################################################################
##############################################################################


* using log directory ‘/Users/biocbuild/bbs-3.21-bioc/meat/RAIDS.Rcheck’
* using R version 4.5.1 Patched (2025-06-14 r88325)
* using platform: aarch64-apple-darwin20
* R was compiled by
    Apple clang version 16.0.0 (clang-1600.0.26.6)
    GNU Fortran (GCC) 14.2.0
* running under: macOS Ventura 13.7.5
* using session charset: UTF-8
* using option ‘--no-vignettes’
* checking for file ‘RAIDS/DESCRIPTION’ ... OK
* checking extension type ... Package
* this is package ‘RAIDS’ version ‘1.6.1’
* package encoding: UTF-8
* checking package namespace information ... OK
* checking package dependencies ... OK
* checking if this is a source package ... OK
* checking if there is a namespace ... OK
* checking for hidden files and directories ... OK
* checking for portable file names ... OK
* checking for sufficient/correct file permissions ... OK
* checking whether package ‘RAIDS’ can be installed ... OK
* checking installed package size ... OK
* checking package directory ... OK
* checking ‘build’ directory ... OK
* checking DESCRIPTION meta-information ... OK
* checking top-level files ... OK
* checking for left-over files ... OK
* checking index information ... OK
* checking package subdirectories ... OK
* checking code files for non-ASCII characters ... OK
* checking R files for syntax errors ... OK
* checking whether the package can be loaded ... OK
* checking whether the package can be loaded with stated dependencies ... OK
* checking whether the package can be unloaded cleanly ... OK
* checking whether the namespace can be loaded with stated dependencies ... OK
* checking whether the namespace can be unloaded cleanly ... OK
* checking dependencies in R code ... OK
* checking S3 generic/method consistency ... OK
* checking replacement functions ... OK
* checking foreign function calls ... OK
* checking R code for possible problems ... OK
* checking Rd files ... OK
* checking Rd metadata ... OK
* checking Rd cross-references ... OK
* checking for missing documentation entries ... OK
* checking for code/documentation mismatches ... OK
* checking Rd \usage sections ... NOTE
Documented arguments not in \usage in Rd file 'wrapperAncestry.Rd':
  ‘pathGeno’

Functions with \usage entries need to have the appropriate \alias
entries, and all their arguments documented.
The \usage entries must correspond to syntactically valid R code.
See chapter ‘Writing R documentation files’ in the ‘Writing R
Extensions’ manual.
* checking Rd contents ... OK
* checking for unstated dependencies in examples ... OK
* checking contents of ‘data’ directory ... OK
* checking data for non-ASCII characters ... OK
* checking data for ASCII and uncompressed saves ... OK
* checking files in ‘vignettes’ ... OK
* checking examples ... OK
Examples with CPU (user + system) or elapsed time > 5s
                                  user system elapsed
computeAncestryFromSyntheticFile 6.853  0.254   7.208
readSNVVCF                       5.146  0.092   5.477
selParaPCAUpQuartile             5.055  0.053   5.148
* checking for unstated dependencies in ‘tests’ ... OK
* checking tests ...
  Running ‘testthat.R’
 OK
* checking for unstated dependencies in vignettes ... OK
* checking package vignettes ... OK
* checking running R code from vignettes ... SKIPPED
* checking re-building of vignette outputs ... SKIPPED
* checking PDF version of manual ... OK
* DONE

Status: 1 NOTE
See
  ‘/Users/biocbuild/bbs-3.21-bioc/meat/RAIDS.Rcheck/00check.log’
for details.


Installation output

RAIDS.Rcheck/00install.out

##############################################################################
##############################################################################
###
### Running command:
###
###   /Library/Frameworks/R.framework/Resources/bin/R CMD INSTALL RAIDS
###
##############################################################################
##############################################################################


* installing to library ‘/Library/Frameworks/R.framework/Versions/4.5-arm64/Resources/library’
* installing *source* package ‘RAIDS’ ...
** this is package ‘RAIDS’ version ‘1.6.1’
** using staged installation
** R
** data
** inst
** byte-compile and prepare package for lazy loading
** help
*** installing help indices
** building package indices
** installing vignettes
** testing if installed package can be loaded from temporary location
** testing if installed package can be loaded from final location
** testing if installed package keeps a record of temporary installation path
* DONE (RAIDS)

Tests output

RAIDS.Rcheck/tests/testthat.Rout


R version 4.5.1 Patched (2025-06-14 r88325) -- "Great Square Root"
Copyright (C) 2025 The R Foundation for Statistical Computing
Platform: aarch64-apple-darwin20

R is free software and comes with ABSOLUTELY NO WARRANTY.
You are welcome to redistribute it under certain conditions.
Type 'license()' or 'licence()' for distribution details.

R is a collaborative project with many contributors.
Type 'contributors()' for more information and
'citation()' on how to cite R or R packages in publications.

Type 'demo()' for some demos, 'help()' for on-line help, or
'help.start()' for an HTML browser interface to help.
Type 'q()' to quit R.

> library(testthat)
> library(RAIDS)
Loading required package: gdsfmt
Loading required package: SNPRelate
Loading required package: GENESIS
Loading required package: dplyr

Attaching package: 'dplyr'

The following object is masked from 'package:testthat':

    matches

The following objects are masked from 'package:stats':

    filter, lag

The following objects are masked from 'package:base':

    intersect, setdiff, setequal, union

Loading required package: Rsamtools
Loading required package: GenomeInfoDb
Loading required package: BiocGenerics
Loading required package: generics

Attaching package: 'generics'

The following object is masked from 'package:dplyr':

    explain

The following objects are masked from 'package:base':

    as.difftime, as.factor, as.ordered, intersect, is.element, setdiff,
    setequal, union


Attaching package: 'BiocGenerics'

The following object is masked from 'package:dplyr':

    combine

The following objects are masked from 'package:stats':

    IQR, mad, sd, var, xtabs

The following objects are masked from 'package:base':

    Filter, Find, Map, Position, Reduce, anyDuplicated, aperm, append,
    as.data.frame, basename, cbind, colnames, dirname, do.call,
    duplicated, eval, evalq, get, grep, grepl, is.unsorted, lapply,
    mapply, match, mget, order, paste, pmax, pmax.int, pmin, pmin.int,
    rank, rbind, rownames, sapply, saveRDS, table, tapply, unique,
    unsplit, which.max, which.min

Loading required package: S4Vectors
Loading required package: stats4

Attaching package: 'S4Vectors'

The following objects are masked from 'package:dplyr':

    first, rename

The following object is masked from 'package:utils':

    findMatches

The following objects are masked from 'package:base':

    I, expand.grid, unname

Loading required package: IRanges

Attaching package: 'IRanges'

The following objects are masked from 'package:dplyr':

    collapse, desc, slice

Loading required package: GenomicRanges
Loading required package: Biostrings
Loading required package: XVector

Attaching package: 'Biostrings'

The following object is masked from 'package:base':

    strsplit

> 
> ## Run all unit tests
> test_check("RAIDS")

Attaching package: 'Matrix'

The following object is masked from 'package:S4Vectors':

    expand

[ FAIL 0 | WARN 0 | SKIP 0 | PASS 445 ]
> 
> proc.time()
   user  system elapsed 
 33.661   2.110  36.542 

Example timings

RAIDS.Rcheck/RAIDS-Ex.timings

nameusersystemelapsed
add1KG2SampleGDS0.0550.0170.084
addBlockFromDetFile0.0020.0030.006
addBlockInGDSAnnot0.0040.0030.010
addGDS1KGLDBlock0.0020.0010.003
addGDSRef0.0030.0020.006
addGDSStudyPruning0.0010.0020.002
addGeneBlockGDSRefAnnot1.2950.1131.433
addGeneBlockRefAnnot0.0030.0010.004
addRef2GDS1KG0.0050.0040.010
addStudy1Kg0.0120.0080.022
addStudyGDSSample0.0070.0030.012
addUpdateLap0.0010.0010.003
addUpdateSegment0.0010.0010.003
appendGDSRefSample0.0070.0030.011
appendGDSSampleOnly0.0010.0020.003
appendGDSgenotype0.0140.0110.029
appendGDSgenotypeMat0.0010.0020.004
calcAFMLRNA0.0060.0040.010
computeAlleleFraction0.0030.0000.003
computeAllelicFractionDNA0.3140.0140.328
computeAllelicFractionRNA0.2150.0130.228
computeAllelicImbDNAChr0.0090.0020.011
computeAncestryFromSynthetic0.0200.0080.028
computeAncestryFromSyntheticFile6.8530.2547.208
computeKNNRefSample0.0170.0100.026
computeKNNRefSynthetic2.8690.1333.096
computeLOHBlocksDNAChr0.0110.0020.013
computePCAMultiSynthetic0.0100.0060.016
computePCARefRMMulti0.1190.0100.131
computePCARefSample0.1500.0060.157
computePoolSyntheticAncestryGr0.3840.0150.405
computeSyntheticConfMat0.0170.0080.025
computeSyntheticROC0.0420.0120.054
createAUROCGraph1.0560.0381.117
createAccuracyGraph0.9120.0140.954
createProfile0.0730.0190.095
createStudy2GDS1KG0.0670.0180.087
demoKnownSuperPop1KG1.3750.0521.445
demoPCA1KG0.0090.0080.018
demoPCASyntheticProfiles1.3630.0561.437
demoPedigreeEx10.0160.0070.023
estimateAllelicFraction0.0770.0070.084
extractNucleotide0.0000.0010.001
generateGDS1KG0.0140.0100.026
generateGDS1KGgenotypeFromSNPPileup0.0600.0160.084
generateGDSRefSample0.0050.0030.008
generateGDSSNPinfo0.0050.0030.010
generateGDSgenotype0.0120.0090.025
generateGeneBlock0.0020.0010.002
generateMapSnvSel0.0020.0020.006
generatePhase1KG2GDS0.0110.0100.022
generatePhaseRef0.0110.0090.022
generateProfileGDS0.0600.0180.082
getBlockIDs0.0030.0020.004
getRef1KGPop0.0030.0010.005
getRefSuperPop0.0020.0010.003
getTableSNV0.0110.0040.015
groupChr1KGSNV0.0580.0690.134
identifyRelative0.0100.0040.014
identifyRelativeRef0.0060.0030.010
inferAncestry0.0140.0010.016
inferAncestryDNA0.0120.0010.014
inferAncestryGeneAware0.0140.0010.017
matKNNSynthetic0.0430.0090.054
pedSynthetic0.0450.0090.055
prepPed1KG0.0060.0020.008
prepPedSynthetic1KG0.0060.0020.008
prepSynthetic0.0110.0040.017
processBlockChr0.0030.0010.005
processPileupChrBin4.5470.0524.670
profileAncestry0.0220.0090.033
pruning1KGbyChr0.0040.0020.006
pruningSample0.0430.0100.054
readSNVBAM0.0010.0000.002
readSNVFileGeneric0.0040.0010.006
readSNVPileupFile0.0520.0020.055
readSNVVCF5.1460.0925.477
runExomeAncestry0.0100.0050.015
runIBDKING0.0340.0040.039
runLDPruning0.0160.0050.023
runProfileAncestry0.0180.0040.023
runRNAAncestry0.0110.0050.017
runWrapperAncestry0.0150.0040.020
selParaPCAUpQuartile5.0550.0535.148
select1KGPop0.0060.0010.008
select1KGPopForSynthetic0.0040.0010.005
snpPositionDemo0.0030.0050.008
snvListVCF0.0050.0040.010
splitSelectByPop0.0010.0000.001
syntheticGeno0.0320.0070.041
tableBlockAF0.0220.0050.027
testAlleleFractionChange0.0020.0000.002
testEmptyBox0.0010.0000.001
validateAdd1KG2SampleGDS0.0010.0010.002
validateAddStudy1Kg0.0010.0010.002
validateCharacterString000
validateComputeAncestryFromSyntheticFile0.0020.0010.003
validateComputeKNNRefSample0.0050.0080.014
validateComputeKNNRefSynthetic0.0060.0090.016
validateComputePCAMultiSynthetic0.0050.0070.012
validateComputePCARefSample0.0020.0010.002
validateComputePoolSyntheticAncestryGr0.0010.0010.003
validateComputeSyntheticRoc0.0130.0090.022
validateCreateAccuracyGraph0.0010.0010.002
validateCreateStudy2GDS1KG0.0020.0010.003
validateDataRefSynParameter0.0010.0010.001
validateEstimateAllelicFraction0.0040.0020.006
validateGDSClass0.0010.0010.002
validateGenerateGDS1KG0.0010.0000.002
validateLogical0.0000.0010.000
validatePEDStudyParameter0.0010.0000.001
validatePepSynthetic0.0020.0010.002
validatePositiveIntegerVector0.0000.0010.001
validatePrepPed1KG0.0010.0000.002
validateProfileGDSExist0.0010.0000.002
validatePruningSample0.0020.0020.003
validateRunExomeOrRNAAncestry0.0050.0010.007
validateSingleRatio0.0000.0000.001
validateStudyDataFrameParameter0.0010.0000.001
validateSyntheticGeno0.0020.0010.003
validatecreateProfile0.0020.0010.003
wrapperAncestry0.0170.0050.023