Back to Multiple platform build/check report for BioC 3.21:   simplified   long
ABCDEFGHIJKLMNO[P]QRSTUVWXYZ

This page was generated on 2025-10-16 11:38 -0400 (Thu, 16 Oct 2025).

HostnameOSArch (*)R versionInstalled pkgs
nebbiolo1Linux (Ubuntu 24.04.3 LTS)x86_644.5.1 (2025-06-13) -- "Great Square Root" 4833
merida1macOS 12.7.6 Montereyx86_644.5.1 RC (2025-06-05 r88288) -- "Great Square Root" 4614
kjohnson1macOS 13.7.5 Venturaarm644.5.1 Patched (2025-06-14 r88325) -- "Great Square Root" 4555
kunpeng2Linux (openEuler 24.03 LTS)aarch64R Under development (unstable) (2025-02-19 r87757) -- "Unsuffered Consequences" 4586
Click on any hostname to see more info about the system (e.g. compilers)      (*) as reported by 'uname -p', except on Windows and Mac OS X

Package 1577/2341HostnameOS / ArchINSTALLBUILDCHECKBUILD BIN
PhyloProfile 2.0.6  (landing page)
Vinh Tran
Snapshot Date: 2025-10-13 13:40 -0400 (Mon, 13 Oct 2025)
git_url: https://git.bioconductor.org/packages/PhyloProfile
git_branch: RELEASE_3_21
git_last_commit: a0b5fbc
git_last_commit_date: 2025-06-23 15:02:10 -0400 (Mon, 23 Jun 2025)
nebbiolo1Linux (Ubuntu 24.04.3 LTS) / x86_64  OK    OK    OK  UNNEEDED, same version is already published
merida1macOS 12.7.6 Monterey / x86_64  OK    OK    OK    OK  UNNEEDED, same version is already published
kjohnson1macOS 13.7.5 Ventura / arm64  OK    OK    OK    OK  UNNEEDED, same version is already published
kunpeng2Linux (openEuler 24.03 LTS) / aarch64  OK    OK    OK  


CHECK results for PhyloProfile on nebbiolo1

To the developers/maintainers of the PhyloProfile package:
- Allow up to 24 hours (and sometimes 48 hours) for your latest push to git@git.bioconductor.org:packages/PhyloProfile.git to reflect on this report. See Troubleshooting Build Report for more information.
- Use the following Renviron settings to reproduce errors and warnings.
- If 'R CMD check' started to fail recently on the Linux builder(s) over a missing dependency, add the missing dependency to 'Suggests:' in your DESCRIPTION file. See Renviron.bioc for more information.

raw results


Summary

Package: PhyloProfile
Version: 2.0.6
Command: /home/biocbuild/bbs-3.21-bioc/R/bin/R CMD check --install=check:PhyloProfile.install-out.txt --library=/home/biocbuild/bbs-3.21-bioc/R/site-library --timings PhyloProfile_2.0.6.tar.gz
StartedAt: 2025-10-16 02:12:58 -0400 (Thu, 16 Oct 2025)
EndedAt: 2025-10-16 02:16:02 -0400 (Thu, 16 Oct 2025)
EllapsedTime: 184.2 seconds
RetCode: 0
Status:   OK  
CheckDir: PhyloProfile.Rcheck
Warnings: 0

Command output

##############################################################################
##############################################################################
###
### Running command:
###
###   /home/biocbuild/bbs-3.21-bioc/R/bin/R CMD check --install=check:PhyloProfile.install-out.txt --library=/home/biocbuild/bbs-3.21-bioc/R/site-library --timings PhyloProfile_2.0.6.tar.gz
###
##############################################################################
##############################################################################


* using log directory ‘/home/biocbuild/bbs-3.21-bioc/meat/PhyloProfile.Rcheck’
* using R version 4.5.1 (2025-06-13)
* using platform: x86_64-pc-linux-gnu
* R was compiled by
    gcc (Ubuntu 13.3.0-6ubuntu2~24.04) 13.3.0
    GNU Fortran (Ubuntu 13.3.0-6ubuntu2~24.04) 13.3.0
* running under: Ubuntu 24.04.3 LTS
* using session charset: UTF-8
* checking for file ‘PhyloProfile/DESCRIPTION’ ... OK
* this is package ‘PhyloProfile’ version ‘2.0.6’
* package encoding: UTF-8
* checking package namespace information ... OK
* checking package dependencies ... INFO
Imports includes 32 non-default packages.
Importing from so many packages makes the package vulnerable to any of
them becoming unavailable.  Move as many as possible to Suggests and
use conditionally.
* checking if this is a source package ... OK
* checking if there is a namespace ... OK
* checking for hidden files and directories ... OK
* checking for portable file names ... OK
* checking for sufficient/correct file permissions ... OK
* checking whether package ‘PhyloProfile’ can be installed ... OK
* checking installed package size ... OK
* checking package directory ... OK
* checking ‘build’ directory ... OK
* checking DESCRIPTION meta-information ... OK
* checking top-level files ... OK
* checking for left-over files ... OK
* checking index information ... OK
* checking package subdirectories ... OK
* checking code files for non-ASCII characters ... OK
* checking R files for syntax errors ... OK
* checking whether the package can be loaded ... OK
* checking whether the package can be loaded with stated dependencies ... OK
* checking whether the package can be unloaded cleanly ... OK
* checking whether the namespace can be loaded with stated dependencies ... OK
* checking whether the namespace can be unloaded cleanly ... OK
* checking loading without being on the library search path ... OK
* checking dependencies in R code ... OK
* checking S3 generic/method consistency ... OK
* checking replacement functions ... OK
* checking foreign function calls ... OK
* checking R code for possible problems ... OK
* checking Rd files ... OK
* checking Rd metadata ... OK
* checking Rd cross-references ... OK
* checking for missing documentation entries ... OK
* checking for code/documentation mismatches ... OK
* checking Rd \usage sections ... OK
* checking Rd contents ... OK
* checking for unstated dependencies in examples ... OK
* checking contents of ‘data’ directory ... OK
* checking data for non-ASCII characters ... OK
* checking data for ASCII and uncompressed saves ... OK
* checking files in ‘vignettes’ ... OK
* checking examples ... OK
* checking for unstated dependencies in ‘tests’ ... OK
* checking tests ...
  Running ‘testthat.R’
 OK
* checking for unstated dependencies in vignettes ... OK
* checking package vignettes ... OK
* checking re-building of vignette outputs ... OK
* checking PDF version of manual ... OK
* DONE

Status: OK


Installation output

PhyloProfile.Rcheck/00install.out

##############################################################################
##############################################################################
###
### Running command:
###
###   /home/biocbuild/bbs-3.21-bioc/R/bin/R CMD INSTALL PhyloProfile
###
##############################################################################
##############################################################################


* installing to library ‘/home/biocbuild/bbs-3.21-bioc/R/site-library’
* installing *source* package ‘PhyloProfile’ ...
** this is package ‘PhyloProfile’ version ‘2.0.6’
** using staged installation
** R
** data
** inst
** byte-compile and prepare package for lazy loading
** help
*** installing help indices
** building package indices
** installing vignettes
** testing if installed package can be loaded from temporary location
** testing if installed package can be loaded from final location
** testing if installed package keeps a record of temporary installation path
* DONE (PhyloProfile)

Tests output

PhyloProfile.Rcheck/tests/testthat.Rout


R version 4.5.1 (2025-06-13) -- "Great Square Root"
Copyright (C) 2025 The R Foundation for Statistical Computing
Platform: x86_64-pc-linux-gnu

R is free software and comes with ABSOLUTELY NO WARRANTY.
You are welcome to redistribute it under certain conditions.
Type 'license()' or 'licence()' for distribution details.

R is a collaborative project with many contributors.
Type 'contributors()' for more information and
'citation()' on how to cite R or R packages in publications.

Type 'demo()' for some demos, 'help()' for on-line help, or
'help.start()' for an HTML browser interface to help.
Type 'q()' to quit R.

> library(testthat)
> library(PhyloProfile)
> 
> test_check("PhyloProfile")
[ FAIL 0 | WARN 0 | SKIP 0 | PASS 22 ]
> 
> proc.time()
   user  system elapsed 
  6.952   0.469   7.408 

Example timings

PhyloProfile.Rcheck/PhyloProfile-Ex.timings

nameusersystemelapsed
addDimRedTaxaColors0.6700.0690.739
addFeatureColors0.0290.0040.034
addRankDivisionPlot0.9880.0261.014
calcPresSpec0.0310.0020.034
checkColorPalette000
checkInputValidity0.0030.0020.005
checkNewick0.0020.0000.003
checkOmaID000
checkOverlapDomains0.0130.0010.016
clusterDataDend0.0130.0040.018
compareMedianTaxonGroups0.5320.0250.558
compareTaxonGroups0.0280.0020.030
createArchiPlot2.0540.0532.109
createDimRedPlotData0.5640.0310.596
createGeneAgePlot0.3140.0000.315
createLongMatrix0.0090.0090.018
createPercentageDistributionData0.0610.0040.066
createProfileFromOma000
createUnrootedTree0.0100.0010.011
createVarDistPlot0.2500.0030.253
createVariableDistributionData0.0060.0020.008
createVariableDistributionDataSubset0.0050.0010.007
dataCustomizedPlot0.0260.0020.028
dataFeatureTaxGroup0.0130.0000.012
dataMainPlot0.0320.0090.041
dataVarDistTaxGroup0.0060.0000.005
dimReduction0.5430.0130.555
estimateGeneAge0.1090.0050.114
fastaParser0.0300.0010.031
featureDistTaxPlot0.2940.0010.295
filterProfileData0.0980.0220.121
fromInputToProfile0.1540.0020.155
geneAgePlotDf0.0070.0000.007
generateSinglePlot0.4780.0290.507
getAllDomainsOma000
getAllFastaOma0.0000.0010.000
getCommonAncestor0.0260.0030.029
getCoreGene0.0850.0020.087
getDataClustering0.0150.0010.016
getDataForOneOma000
getDendrogram0.0370.0080.044
getDistanceMatrix0.0150.0010.016
getDomainFolder0.0010.0000.000
getFastaFromFasInput0.0120.0020.015
getFastaFromFile0.0070.0030.011
getFastaFromFolder0.0060.0010.007
getIDsRank0.020.000.02
getInputTaxaID0.0020.0000.003
getInputTaxaName0.0100.0000.011
getNameList0.0110.0280.040
getOmaDataForOneOrtholog000
getOmaDomainFromURL000
getOmaMembers000
getQualColForVector0.0000.0000.001
getSelectedFastaOma0.0010.0000.001
getSelectedTaxonNames0.0160.0000.016
getTaxHierarchy0.0130.0010.014
getTaxonomyInfo0.0110.0020.013
getTaxonomyMatrix0.0700.1000.171
getTaxonomyRanks0.0000.0010.001
gridArrangeSharedLegend0.0000.0010.001
groupLabelDimRedData0.0470.0020.049
heatmapPlotting0.4720.0010.474
heatmapPlottingFast4.3280.3824.418
highlightProfilePlot0.4580.0370.496
id2name0.0040.0000.005
joinPlotMergeLegends0.7470.0020.749
linearizeArchitecture0.0060.0010.007
mainTaxonomyRank000
modifyFeatureName0.0150.0130.028
pairDomainPlotting0.5180.0000.519
parseDomainInput0.0090.0170.026
parseInfoProfile0.0970.0030.099
plotDimRed1.0590.0071.066
plotDimRed3D0.8040.0230.827
prepareDimRedData0.0470.0030.050
processNcbiTaxonomy0.0000.0000.001
processOrthoID0.1230.0280.171
qualitativeColours0.0000.0000.001
rankIndexing0.0390.0010.041
reduceProfile0.0430.0010.044
resolveOverlapFeatures0.0320.0000.031
runPhyloProfile000
singleDomainPlotting0.2510.0000.250
sortDomains0.0080.0000.007
sortDomainsByList0.0080.0010.008
sortInputTaxa0.0270.0020.028
sortTaxaFromTree0.0110.0000.011
taxonomyTableCreator0.0750.0040.079
varDistTaxPlot1.1200.0251.145
wideToLong0.0070.0090.016
xmlParser0.0120.0040.016