Back to Multiple platform build/check report for BioC 3.21:   simplified   long
ABCDEFGHIJKLMNO[P]QRSTUVWXYZ

This page was generated on 2025-10-16 11:40 -0400 (Thu, 16 Oct 2025).

HostnameOSArch (*)R versionInstalled pkgs
nebbiolo1Linux (Ubuntu 24.04.3 LTS)x86_644.5.1 (2025-06-13) -- "Great Square Root" 4833
merida1macOS 12.7.6 Montereyx86_644.5.1 RC (2025-06-05 r88288) -- "Great Square Root" 4614
kjohnson1macOS 13.7.5 Venturaarm644.5.1 Patched (2025-06-14 r88325) -- "Great Square Root" 4555
kunpeng2Linux (openEuler 24.03 LTS)aarch64R Under development (unstable) (2025-02-19 r87757) -- "Unsuffered Consequences" 4586
Click on any hostname to see more info about the system (e.g. compilers)      (*) as reported by 'uname -p', except on Windows and Mac OS X

Package 1577/2341HostnameOS / ArchINSTALLBUILDCHECKBUILD BIN
PhyloProfile 2.0.6  (landing page)
Vinh Tran
Snapshot Date: 2025-10-13 13:40 -0400 (Mon, 13 Oct 2025)
git_url: https://git.bioconductor.org/packages/PhyloProfile
git_branch: RELEASE_3_21
git_last_commit: a0b5fbc
git_last_commit_date: 2025-06-23 15:02:10 -0400 (Mon, 23 Jun 2025)
nebbiolo1Linux (Ubuntu 24.04.3 LTS) / x86_64  OK    OK    OK  UNNEEDED, same version is already published
merida1macOS 12.7.6 Monterey / x86_64  OK    OK    OK    OK  UNNEEDED, same version is already published
kjohnson1macOS 13.7.5 Ventura / arm64  OK    OK    OK    OK  UNNEEDED, same version is already published
kunpeng2Linux (openEuler 24.03 LTS) / aarch64  OK    OK    OK  


CHECK results for PhyloProfile on kjohnson1

To the developers/maintainers of the PhyloProfile package:
- Allow up to 24 hours (and sometimes 48 hours) for your latest push to git@git.bioconductor.org:packages/PhyloProfile.git to reflect on this report. See Troubleshooting Build Report for more information.
- Use the following Renviron settings to reproduce errors and warnings.
- If 'R CMD check' started to fail recently on the Linux builder(s) over a missing dependency, add the missing dependency to 'Suggests:' in your DESCRIPTION file. See Renviron.bioc for more information.

raw results


Summary

Package: PhyloProfile
Version: 2.0.6
Command: /Library/Frameworks/R.framework/Resources/bin/R CMD check --install=check:PhyloProfile.install-out.txt --library=/Library/Frameworks/R.framework/Resources/library --no-vignettes --timings PhyloProfile_2.0.6.tar.gz
StartedAt: 2025-10-15 07:33:27 -0400 (Wed, 15 Oct 2025)
EndedAt: 2025-10-15 07:36:49 -0400 (Wed, 15 Oct 2025)
EllapsedTime: 202.0 seconds
RetCode: 0
Status:   OK  
CheckDir: PhyloProfile.Rcheck
Warnings: 0

Command output

##############################################################################
##############################################################################
###
### Running command:
###
###   /Library/Frameworks/R.framework/Resources/bin/R CMD check --install=check:PhyloProfile.install-out.txt --library=/Library/Frameworks/R.framework/Resources/library --no-vignettes --timings PhyloProfile_2.0.6.tar.gz
###
##############################################################################
##############################################################################


* using log directory ‘/Users/biocbuild/bbs-3.21-bioc/meat/PhyloProfile.Rcheck’
* using R version 4.5.1 Patched (2025-06-14 r88325)
* using platform: aarch64-apple-darwin20
* R was compiled by
    Apple clang version 16.0.0 (clang-1600.0.26.6)
    GNU Fortran (GCC) 14.2.0
* running under: macOS Ventura 13.7.5
* using session charset: UTF-8
* using option ‘--no-vignettes’
* checking for file ‘PhyloProfile/DESCRIPTION’ ... OK
* this is package ‘PhyloProfile’ version ‘2.0.6’
* package encoding: UTF-8
* checking package namespace information ... OK
* checking package dependencies ... INFO
Imports includes 32 non-default packages.
Importing from so many packages makes the package vulnerable to any of
them becoming unavailable.  Move as many as possible to Suggests and
use conditionally.
* checking if this is a source package ... OK
* checking if there is a namespace ... OK
* checking for hidden files and directories ... OK
* checking for portable file names ... OK
* checking for sufficient/correct file permissions ... OK
* checking whether package ‘PhyloProfile’ can be installed ... OK
* checking installed package size ... OK
* checking package directory ... OK
* checking ‘build’ directory ... OK
* checking DESCRIPTION meta-information ... OK
* checking top-level files ... OK
* checking for left-over files ... OK
* checking index information ... OK
* checking package subdirectories ... OK
* checking code files for non-ASCII characters ... OK
* checking R files for syntax errors ... OK
* checking whether the package can be loaded ... OK
* checking whether the package can be loaded with stated dependencies ... OK
* checking whether the package can be unloaded cleanly ... OK
* checking whether the namespace can be loaded with stated dependencies ... OK
* checking whether the namespace can be unloaded cleanly ... OK
* checking dependencies in R code ... OK
* checking S3 generic/method consistency ... OK
* checking replacement functions ... OK
* checking foreign function calls ... OK
* checking R code for possible problems ... OK
* checking Rd files ... OK
* checking Rd metadata ... OK
* checking Rd cross-references ... OK
* checking for missing documentation entries ... OK
* checking for code/documentation mismatches ... OK
* checking Rd \usage sections ... OK
* checking Rd contents ... OK
* checking for unstated dependencies in examples ... OK
* checking contents of ‘data’ directory ... OK
* checking data for non-ASCII characters ... OK
* checking data for ASCII and uncompressed saves ... OK
* checking files in ‘vignettes’ ... OK
* checking examples ... OK
Examples with CPU (user + system) or elapsed time > 5s
                     user system elapsed
heatmapPlottingFast 5.923  0.228   5.986
* checking for unstated dependencies in ‘tests’ ... OK
* checking tests ...
  Running ‘testthat.R’
 OK
* checking for unstated dependencies in vignettes ... OK
* checking package vignettes ... OK
* checking running R code from vignettes ... SKIPPED
* checking re-building of vignette outputs ... SKIPPED
* checking PDF version of manual ... OK
* DONE

Status: OK


Installation output

PhyloProfile.Rcheck/00install.out

##############################################################################
##############################################################################
###
### Running command:
###
###   /Library/Frameworks/R.framework/Resources/bin/R CMD INSTALL PhyloProfile
###
##############################################################################
##############################################################################


* installing to library ‘/Library/Frameworks/R.framework/Versions/4.5-arm64/Resources/library’
* installing *source* package ‘PhyloProfile’ ...
** this is package ‘PhyloProfile’ version ‘2.0.6’
** using staged installation
** R
** data
** inst
** byte-compile and prepare package for lazy loading
** help
*** installing help indices
** building package indices
** installing vignettes
** testing if installed package can be loaded from temporary location
** testing if installed package can be loaded from final location
** testing if installed package keeps a record of temporary installation path
* DONE (PhyloProfile)

Tests output

PhyloProfile.Rcheck/tests/testthat.Rout


R version 4.5.1 Patched (2025-06-14 r88325) -- "Great Square Root"
Copyright (C) 2025 The R Foundation for Statistical Computing
Platform: aarch64-apple-darwin20

R is free software and comes with ABSOLUTELY NO WARRANTY.
You are welcome to redistribute it under certain conditions.
Type 'license()' or 'licence()' for distribution details.

R is a collaborative project with many contributors.
Type 'contributors()' for more information and
'citation()' on how to cite R or R packages in publications.

Type 'demo()' for some demos, 'help()' for on-line help, or
'help.start()' for an HTML browser interface to help.
Type 'q()' to quit R.

> library(testthat)
> library(PhyloProfile)
> 
> test_check("PhyloProfile")
[ FAIL 0 | WARN 0 | SKIP 0 | PASS 22 ]
> 
> proc.time()
   user  system elapsed 
  8.686   0.686   9.492 

Example timings

PhyloProfile.Rcheck/PhyloProfile-Ex.timings

nameusersystemelapsed
addDimRedTaxaColors0.8550.0600.933
addFeatureColors0.0340.0040.039
addRankDivisionPlot1.6890.0741.774
calcPresSpec0.0380.0050.043
checkColorPalette0.0010.0000.001
checkInputValidity0.0040.0010.005
checkNewick0.0020.0010.003
checkOmaID000
checkOverlapDomains0.0150.0020.017
clusterDataDend0.0190.0040.023
compareMedianTaxonGroups0.0270.0040.031
compareTaxonGroups0.0340.0060.040
createArchiPlot1.9880.0432.093
createDimRedPlotData0.6300.0240.664
createGeneAgePlot0.2850.0030.293
createLongMatrix0.0150.0050.021
createPercentageDistributionData0.0410.0070.052
createProfileFromOma0.0000.0000.001
createUnrootedTree0.0060.0010.007
createVarDistPlot0.1770.0040.195
createVariableDistributionData0.0040.0020.008
createVariableDistributionDataSubset0.0040.0010.005
dataCustomizedPlot0.0180.0010.019
dataFeatureTaxGroup0.0130.0010.017
dataMainPlot0.0370.0030.041
dataVarDistTaxGroup0.0020.0010.004
dimReduction0.6640.0120.724
estimateGeneAge0.1370.0160.157
fastaParser0.0370.0020.040
featureDistTaxPlot0.3340.0040.359
filterProfileData0.1420.0360.179
fromInputToProfile0.1920.0120.206
geneAgePlotDf0.0080.0010.009
generateSinglePlot0.5650.0060.581
getAllDomainsOma000
getAllFastaOma000
getCommonAncestor0.0340.0040.038
getCoreGene0.1120.0130.125
getDataClustering0.0190.0020.022
getDataForOneOma000
getDendrogram0.0490.0020.050
getDistanceMatrix0.0210.0010.021
getDomainFolder0.0010.0010.000
getFastaFromFasInput0.0190.0010.020
getFastaFromFile0.0110.0010.013
getFastaFromFolder0.0080.0010.009
getIDsRank0.0180.0020.020
getInputTaxaID0.0030.0010.004
getInputTaxaName0.0130.0030.017
getNameList0.0220.0200.042
getOmaDataForOneOrtholog0.0000.0010.000
getOmaDomainFromURL0.0010.0000.000
getOmaMembers000
getQualColForVector0.0010.0000.001
getSelectedFastaOma000
getSelectedTaxonNames0.0210.0060.028
getTaxHierarchy0.0150.0010.017
getTaxonomyInfo0.0120.0010.014
getTaxonomyMatrix0.0960.0780.176
getTaxonomyRanks0.0010.0000.001
gridArrangeSharedLegend0.0000.0010.001
groupLabelDimRedData0.0570.0070.066
heatmapPlotting0.4610.0050.468
heatmapPlottingFast5.9230.2285.986
highlightProfilePlot0.5500.0200.571
id2name0.0050.0010.006
joinPlotMergeLegends0.8220.0090.832
linearizeArchitecture0.0080.0010.008
mainTaxonomyRank000
modifyFeatureName0.0200.0130.033
pairDomainPlotting0.5810.0070.589
parseDomainInput0.0190.0120.030
parseInfoProfile0.1110.0140.125
plotDimRed1.2510.0161.268
plotDimRed3D1.0050.0351.040
prepareDimRedData0.0590.0060.066
processNcbiTaxonomy0.0000.0000.001
processOrthoID0.1450.0680.281
qualitativeColours000
rankIndexing0.0470.0010.049
reduceProfile0.0650.0020.072
resolveOverlapFeatures0.0160.0010.017
runPhyloProfile000
singleDomainPlotting0.2670.0030.271
sortDomains0.0090.0010.011
sortDomainsByList0.0100.0010.011
sortInputTaxa0.0310.0070.038
sortTaxaFromTree0.0110.0010.012
taxonomyTableCreator0.0850.0030.088
varDistTaxPlot1.1560.0091.165
wideToLong0.0140.0070.020
xmlParser0.0180.0020.020