Back to Multiple platform build/check report for BioC 3.21:   simplified   long
ABCDEFG[H]IJKLMNOPQRSTUVWXYZ

This page was generated on 2025-10-16 11:38 -0400 (Thu, 16 Oct 2025).

HostnameOSArch (*)R versionInstalled pkgs
nebbiolo1Linux (Ubuntu 24.04.3 LTS)x86_644.5.1 (2025-06-13) -- "Great Square Root" 4833
merida1macOS 12.7.6 Montereyx86_644.5.1 RC (2025-06-05 r88288) -- "Great Square Root" 4614
kjohnson1macOS 13.7.5 Venturaarm644.5.1 Patched (2025-06-14 r88325) -- "Great Square Root" 4555
kunpeng2Linux (openEuler 24.03 LTS)aarch64R Under development (unstable) (2025-02-19 r87757) -- "Unsuffered Consequences" 4586
Click on any hostname to see more info about the system (e.g. compilers)      (*) as reported by 'uname -p', except on Windows and Mac OS X

Package 970/2341HostnameOS / ArchINSTALLBUILDCHECKBUILD BIN
HiCBricks 1.26.0  (landing page)
Koustav Pal
Snapshot Date: 2025-10-13 13:40 -0400 (Mon, 13 Oct 2025)
git_url: https://git.bioconductor.org/packages/HiCBricks
git_branch: RELEASE_3_21
git_last_commit: 773bb6b
git_last_commit_date: 2025-04-15 11:38:17 -0400 (Tue, 15 Apr 2025)
nebbiolo1Linux (Ubuntu 24.04.3 LTS) / x86_64  OK    OK    OK  UNNEEDED, same version is already published
merida1macOS 12.7.6 Monterey / x86_64  OK    OK    OK    OK  UNNEEDED, same version is already published
kjohnson1macOS 13.7.5 Ventura / arm64  OK    OK    OK    OK  UNNEEDED, same version is already published
kunpeng2Linux (openEuler 24.03 LTS) / aarch64  OK    OK    OK  


CHECK results for HiCBricks on nebbiolo1

To the developers/maintainers of the HiCBricks package:
- Allow up to 24 hours (and sometimes 48 hours) for your latest push to git@git.bioconductor.org:packages/HiCBricks.git to reflect on this report. See Troubleshooting Build Report for more information.
- Use the following Renviron settings to reproduce errors and warnings.
- If 'R CMD check' started to fail recently on the Linux builder(s) over a missing dependency, add the missing dependency to 'Suggests:' in your DESCRIPTION file. See Renviron.bioc for more information.

raw results


Summary

Package: HiCBricks
Version: 1.26.0
Command: /home/biocbuild/bbs-3.21-bioc/R/bin/R CMD check --install=check:HiCBricks.install-out.txt --library=/home/biocbuild/bbs-3.21-bioc/R/site-library --timings HiCBricks_1.26.0.tar.gz
StartedAt: 2025-10-16 00:03:15 -0400 (Thu, 16 Oct 2025)
EndedAt: 2025-10-16 00:06:34 -0400 (Thu, 16 Oct 2025)
EllapsedTime: 199.3 seconds
RetCode: 0
Status:   OK  
CheckDir: HiCBricks.Rcheck
Warnings: 0

Command output

##############################################################################
##############################################################################
###
### Running command:
###
###   /home/biocbuild/bbs-3.21-bioc/R/bin/R CMD check --install=check:HiCBricks.install-out.txt --library=/home/biocbuild/bbs-3.21-bioc/R/site-library --timings HiCBricks_1.26.0.tar.gz
###
##############################################################################
##############################################################################


* using log directory ‘/home/biocbuild/bbs-3.21-bioc/meat/HiCBricks.Rcheck’
* using R version 4.5.1 (2025-06-13)
* using platform: x86_64-pc-linux-gnu
* R was compiled by
    gcc (Ubuntu 13.3.0-6ubuntu2~24.04) 13.3.0
    GNU Fortran (Ubuntu 13.3.0-6ubuntu2~24.04) 13.3.0
* running under: Ubuntu 24.04.3 LTS
* using session charset: UTF-8
* checking for file ‘HiCBricks/DESCRIPTION’ ... OK
* checking extension type ... Package
* this is package ‘HiCBricks’ version ‘1.26.0’
* package encoding: UTF-8
* checking package namespace information ... OK
* checking package dependencies ... OK
* checking if this is a source package ... OK
* checking if there is a namespace ... OK
* checking for hidden files and directories ... OK
* checking for portable file names ... OK
* checking for sufficient/correct file permissions ... OK
* checking whether package ‘HiCBricks’ can be installed ... OK
* checking installed package size ... OK
* checking package directory ... OK
* checking ‘build’ directory ... OK
* checking DESCRIPTION meta-information ... OK
* checking top-level files ... OK
* checking for left-over files ... OK
* checking index information ... OK
* checking package subdirectories ... OK
* checking code files for non-ASCII characters ... OK
* checking R files for syntax errors ... OK
* checking whether the package can be loaded ... OK
* checking whether the package can be loaded with stated dependencies ... OK
* checking whether the package can be unloaded cleanly ... OK
* checking whether the namespace can be loaded with stated dependencies ... OK
* checking whether the namespace can be unloaded cleanly ... OK
* checking loading without being on the library search path ... OK
* checking dependencies in R code ... OK
* checking S3 generic/method consistency ... OK
* checking replacement functions ... OK
* checking foreign function calls ... OK
* checking R code for possible problems ... OK
* checking Rd files ... OK
* checking Rd metadata ... OK
* checking Rd cross-references ... OK
* checking for missing documentation entries ... OK
* checking for code/documentation mismatches ... OK
* checking Rd \usage sections ... OK
* checking Rd contents ... OK
* checking for unstated dependencies in examples ... OK
* checking files in ‘vignettes’ ... OK
* checking examples ... OK
* checking for unstated dependencies in vignettes ... OK
* checking package vignettes ... OK
* checking re-building of vignette outputs ... OK
* checking PDF version of manual ... OK
* DONE

Status: OK


Installation output

HiCBricks.Rcheck/00install.out

##############################################################################
##############################################################################
###
### Running command:
###
###   /home/biocbuild/bbs-3.21-bioc/R/bin/R CMD INSTALL HiCBricks
###
##############################################################################
##############################################################################


* installing to library ‘/home/biocbuild/bbs-3.21-bioc/R/site-library’
* installing *source* package ‘HiCBricks’ ...
** this is package ‘HiCBricks’ version ‘1.26.0’
** using staged installation
** R
** inst
** byte-compile and prepare package for lazy loading
** help
*** installing help indices
** building package indices
** installing vignettes
** testing if installed package can be loaded from temporary location
** testing if installed package can be loaded from final location
** testing if installed package keeps a record of temporary installation path
* DONE (HiCBricks)

Tests output


Example timings

HiCBricks.Rcheck/HiCBricks-Ex.timings

nameusersystemelapsed
BrickContainer_change_experiment_name1.2350.0271.264
BrickContainer_change_output_directory0.8190.0070.827
BrickContainer_get_path_to_file0.7160.0100.727
BrickContainer_list_chromosomes0.7460.0050.751
BrickContainer_list_experiment_name0.740.040.78
BrickContainer_list_files0.7380.0160.754
BrickContainer_list_output_directory0.7170.0130.731
BrickContainer_list_resolutions0.7190.0350.755
BrickContainer_unlink_resolution1.5580.0281.586
Brick_add_ranges1.7690.0711.840
Brick_call_compartments1.1320.0371.292
Brick_export_to_sparse2.3440.0682.421
Brick_fetch_range_index0.8510.0120.865
Brick_fetch_row_vector1.3230.0271.355
Brick_get_bintable1.1110.0101.122
Brick_get_chrominfo0.7050.0440.750
Brick_get_entire_matrix1.0020.0211.024
Brick_get_matrix0.9700.0200.991
Brick_get_matrix_mcols1.0800.0171.098
Brick_get_matrix_within_coords1.4230.0691.493
Brick_get_ranges0.7880.0080.796
Brick_get_values_by_distance1.1350.0311.167
Brick_get_vector_values1.0410.0221.062
Brick_list_matrices0.8220.0110.833
Brick_list_matrix_mcols0.7440.0060.751
Brick_list_mcool_normalisations0.0000.0010.001
Brick_list_mcool_resolutions0.0000.0010.001
Brick_list_rangekeys0.7480.0110.759
Brick_list_ranges_mcols0.7410.0100.751
Brick_load_cis_matrix_till_distance0.9200.0170.936
Brick_load_data_from_mcool0.0000.0010.000
Brick_load_data_from_sparse0.0010.0000.000
Brick_load_matrix0.9320.0220.954
Brick_local_score_differentiator1.5720.0391.615
Brick_make_ranges0.0080.0010.009
Brick_matrix_dimensions0.9810.0251.007
Brick_matrix_exists1.0170.0171.034
Brick_matrix_filename1.0560.0261.083
Brick_matrix_isdone0.9990.0151.015
Brick_matrix_issparse1.0260.0221.049
Brick_matrix_maxdist0.9770.0180.995
Brick_matrix_minmax0.9640.0180.983
Brick_mcool_normalisation_exists0.0000.0010.001
Brick_rangekey_exists0.7890.0140.803
Brick_return_region_position0.7870.0090.797
Brick_vizart_plot_heatmap2.0310.0372.069
Create_many_Bricks0.7840.0160.800
Create_many_Bricks_from_mcool0.0010.0000.001
load_BrickContainer0.7990.0080.807