Back to Multiple platform build/check report for BioC 3.21:   simplified   long
ABCDEFG[H]IJKLMNOPQRSTUVWXYZ

This page was generated on 2025-10-16 11:39 -0400 (Thu, 16 Oct 2025).

HostnameOSArch (*)R versionInstalled pkgs
nebbiolo1Linux (Ubuntu 24.04.3 LTS)x86_644.5.1 (2025-06-13) -- "Great Square Root" 4833
merida1macOS 12.7.6 Montereyx86_644.5.1 RC (2025-06-05 r88288) -- "Great Square Root" 4614
kjohnson1macOS 13.7.5 Venturaarm644.5.1 Patched (2025-06-14 r88325) -- "Great Square Root" 4555
kunpeng2Linux (openEuler 24.03 LTS)aarch64R Under development (unstable) (2025-02-19 r87757) -- "Unsuffered Consequences" 4586
Click on any hostname to see more info about the system (e.g. compilers)      (*) as reported by 'uname -p', except on Windows and Mac OS X

Package 970/2341HostnameOS / ArchINSTALLBUILDCHECKBUILD BIN
HiCBricks 1.26.0  (landing page)
Koustav Pal
Snapshot Date: 2025-10-13 13:40 -0400 (Mon, 13 Oct 2025)
git_url: https://git.bioconductor.org/packages/HiCBricks
git_branch: RELEASE_3_21
git_last_commit: 773bb6b
git_last_commit_date: 2025-04-15 11:38:17 -0400 (Tue, 15 Apr 2025)
nebbiolo1Linux (Ubuntu 24.04.3 LTS) / x86_64  OK    OK    OK  UNNEEDED, same version is already published
merida1macOS 12.7.6 Monterey / x86_64  OK    OK    OK    OK  UNNEEDED, same version is already published
kjohnson1macOS 13.7.5 Ventura / arm64  OK    OK    OK    OK  UNNEEDED, same version is already published
kunpeng2Linux (openEuler 24.03 LTS) / aarch64  OK    OK    OK  


CHECK results for HiCBricks on merida1

To the developers/maintainers of the HiCBricks package:
- Allow up to 24 hours (and sometimes 48 hours) for your latest push to git@git.bioconductor.org:packages/HiCBricks.git to reflect on this report. See Troubleshooting Build Report for more information.
- Use the following Renviron settings to reproduce errors and warnings.
- If 'R CMD check' started to fail recently on the Linux builder(s) over a missing dependency, add the missing dependency to 'Suggests:' in your DESCRIPTION file. See Renviron.bioc for more information.

raw results


Summary

Package: HiCBricks
Version: 1.26.0
Command: /Library/Frameworks/R.framework/Resources/bin/R CMD check --install=check:HiCBricks.install-out.txt --library=/Library/Frameworks/R.framework/Resources/library --no-vignettes --timings HiCBricks_1.26.0.tar.gz
StartedAt: 2025-10-14 05:01:36 -0400 (Tue, 14 Oct 2025)
EndedAt: 2025-10-14 05:08:11 -0400 (Tue, 14 Oct 2025)
EllapsedTime: 394.8 seconds
RetCode: 0
Status:   OK  
CheckDir: HiCBricks.Rcheck
Warnings: 0

Command output

##############################################################################
##############################################################################
###
### Running command:
###
###   /Library/Frameworks/R.framework/Resources/bin/R CMD check --install=check:HiCBricks.install-out.txt --library=/Library/Frameworks/R.framework/Resources/library --no-vignettes --timings HiCBricks_1.26.0.tar.gz
###
##############################################################################
##############################################################################


* using log directory ‘/Users/biocbuild/bbs-3.21-bioc/meat/HiCBricks.Rcheck’
* using R version 4.5.1 RC (2025-06-05 r88288)
* using platform: x86_64-apple-darwin20
* R was compiled by
    Apple clang version 14.0.0 (clang-1400.0.29.202)
    GNU Fortran (GCC) 14.2.0
* running under: macOS Monterey 12.7.6
* using session charset: UTF-8
* using option ‘--no-vignettes’
* checking for file ‘HiCBricks/DESCRIPTION’ ... OK
* checking extension type ... Package
* this is package ‘HiCBricks’ version ‘1.26.0’
* package encoding: UTF-8
* checking package namespace information ... OK
* checking package dependencies ... OK
* checking if this is a source package ... OK
* checking if there is a namespace ... OK
* checking for hidden files and directories ... OK
* checking for portable file names ... OK
* checking for sufficient/correct file permissions ... OK
* checking whether package ‘HiCBricks’ can be installed ... OK
* checking installed package size ... OK
* checking package directory ... OK
* checking ‘build’ directory ... OK
* checking DESCRIPTION meta-information ... OK
* checking top-level files ... OK
* checking for left-over files ... OK
* checking index information ... OK
* checking package subdirectories ... OK
* checking code files for non-ASCII characters ... OK
* checking R files for syntax errors ... OK
* checking whether the package can be loaded ... OK
* checking whether the package can be loaded with stated dependencies ... OK
* checking whether the package can be unloaded cleanly ... OK
* checking whether the namespace can be loaded with stated dependencies ... OK
* checking whether the namespace can be unloaded cleanly ... OK
* checking dependencies in R code ... OK
* checking S3 generic/method consistency ... OK
* checking replacement functions ... OK
* checking foreign function calls ... OK
* checking R code for possible problems ... OK
* checking Rd files ... OK
* checking Rd metadata ... OK
* checking Rd cross-references ... OK
* checking for missing documentation entries ... OK
* checking for code/documentation mismatches ... OK
* checking Rd \usage sections ... OK
* checking Rd contents ... OK
* checking for unstated dependencies in examples ... OK
* checking files in ‘vignettes’ ... OK
* checking examples ... OK
Examples with CPU (user + system) or elapsed time > 5s
                                        user system elapsed
Brick_export_to_sparse                 5.618  0.485   6.528
Brick_vizart_plot_heatmap              4.972  0.467   5.988
Brick_local_score_differentiator       4.004  0.623   7.015
Brick_matrix_issparse                  2.571  0.469   5.067
BrickContainer_change_experiment_name  2.795  0.230  11.797
Brick_load_cis_matrix_till_distance    2.396  0.452   5.072
BrickContainer_change_output_directory 1.999  0.137   8.892
* checking for unstated dependencies in vignettes ... OK
* checking package vignettes ... OK
* checking running R code from vignettes ... SKIPPED
* checking re-building of vignette outputs ... SKIPPED
* checking PDF version of manual ... OK
* DONE

Status: OK


Installation output

HiCBricks.Rcheck/00install.out

##############################################################################
##############################################################################
###
### Running command:
###
###   /Library/Frameworks/R.framework/Resources/bin/R CMD INSTALL HiCBricks
###
##############################################################################
##############################################################################


* installing to library ‘/Library/Frameworks/R.framework/Versions/4.5-x86_64/Resources/library’
* installing *source* package ‘HiCBricks’ ...
** this is package ‘HiCBricks’ version ‘1.26.0’
** using staged installation
** R
** inst
** byte-compile and prepare package for lazy loading
** help
*** installing help indices
** building package indices
** installing vignettes
** testing if installed package can be loaded from temporary location
** testing if installed package can be loaded from final location
** testing if installed package keeps a record of temporary installation path
* DONE (HiCBricks)

Tests output


Example timings

HiCBricks.Rcheck/HiCBricks-Ex.timings

nameusersystemelapsed
BrickContainer_change_experiment_name 2.795 0.23011.797
BrickContainer_change_output_directory1.9990.1378.892
BrickContainer_get_path_to_file1.8970.1072.256
BrickContainer_list_chromosomes1.9050.1032.222
BrickContainer_list_experiment_name1.8990.1102.206
BrickContainer_list_files1.9340.1072.149
BrickContainer_list_output_directory1.8540.1002.095
BrickContainer_list_resolutions1.8680.1022.205
BrickContainer_unlink_resolution3.9190.2034.285
Brick_add_ranges3.9230.1524.113
Brick_call_compartments2.9010.4043.348
Brick_export_to_sparse5.6180.4856.528
Brick_fetch_range_index2.1460.1132.378
Brick_fetch_row_vector3.2820.3263.814
Brick_get_bintable2.3010.1122.614
Brick_get_chrominfo1.8290.1122.128
Brick_get_entire_matrix2.6540.3653.220
Brick_get_matrix2.5590.3503.076
Brick_get_matrix_mcols2.5100.3233.010
Brick_get_matrix_within_coords3.5760.4134.298
Brick_get_ranges1.9200.1122.387
Brick_get_values_by_distance2.8370.4063.552
Brick_get_vector_values2.6110.3063.043
Brick_list_matrices1.8330.1121.977
Brick_list_matrix_mcols1.8190.1062.014
Brick_list_mcool_normalisations0.0000.0010.001
Brick_list_mcool_resolutions0.0010.0000.001
Brick_list_rangekeys1.8350.1102.367
Brick_list_ranges_mcols1.8840.1292.863
Brick_load_cis_matrix_till_distance2.3960.4525.072
Brick_load_data_from_mcool0.0000.0010.002
Brick_load_data_from_sparse0.0010.0010.001
Brick_load_matrix2.5550.4494.875
Brick_local_score_differentiator4.0040.6237.015
Brick_make_ranges0.0210.0010.024
Brick_matrix_dimensions2.5050.3953.788
Brick_matrix_exists2.4970.3813.942
Brick_matrix_filename2.5420.3623.369
Brick_matrix_isdone2.5190.4384.892
Brick_matrix_issparse2.5710.4695.067
Brick_matrix_maxdist2.5880.4214.373
Brick_matrix_minmax2.5390.4684.478
Brick_mcool_normalisation_exists0.0000.0010.002
Brick_rangekey_exists1.8380.1172.450
Brick_return_region_position2.0460.1292.917
Brick_vizart_plot_heatmap4.9720.4675.988
Create_many_Bricks1.8260.1062.603
Create_many_Bricks_from_mcool0.0000.0010.002
load_BrickContainer2.0040.1232.394