| Back to Multiple platform build/check report for BioC 3.20: simplified long | 
 | 
This page was generated on 2025-04-02 19:36 -0400 (Wed, 02 Apr 2025).
| Hostname | OS | Arch (*) | R version | Installed pkgs | 
|---|---|---|---|---|
| nebbiolo2 | Linux (Ubuntu 24.04.1 LTS) | x86_64 | 4.4.3 (2025-02-28) -- "Trophy Case" | 4764 | 
| palomino8 | Windows Server 2022 Datacenter | x64 | 4.4.3 (2025-02-28 ucrt) -- "Trophy Case" | 4495 | 
| merida1 | macOS 12.7.5 Monterey | x86_64 | 4.4.3 (2025-02-28) -- "Trophy Case" | 4522 | 
| kjohnson1 | macOS 13.6.6 Ventura | arm64 | 4.4.3 (2025-02-28) -- "Trophy Case" | 4449 | 
| taishan | Linux (openEuler 24.03 LTS) | aarch64 | 4.4.3 (2025-02-28) -- "Trophy Case" | 4426 | 
| Click on any hostname to see more info about the system (e.g. compilers) (*) as reported by 'uname -p', except on Windows and Mac OS X | ||||
| Package 2269/2289 | Hostname | OS / Arch | INSTALL | BUILD | CHECK | BUILD BIN | ||||||||
| wppi 1.14.0  (landing page) Ana Galhoz 
 | nebbiolo2 | Linux (Ubuntu 24.04.1 LTS) / x86_64 | OK | OK | OK |  | ||||||||
| palomino8 | Windows Server 2022 Datacenter / x64 | OK | OK | OK | OK |  | ||||||||
| merida1 | macOS 12.7.5 Monterey / x86_64 | OK | OK | OK | OK |  | ||||||||
| kjohnson1 | macOS 13.6.6 Ventura / arm64 | OK | OK | OK | OK |  | ||||||||
| taishan | Linux (openEuler 24.03 LTS) / aarch64 | OK | OK | OK | ||||||||||
| To the developers/maintainers of the wppi package: - Allow up to 24 hours (and sometimes 48 hours) for your latest push to git@git.bioconductor.org:packages/wppi.git to reflect on this report. See Troubleshooting Build Report for more information. - Use the following Renviron settings to reproduce errors and warnings. - If 'R CMD check' started to fail recently on the Linux builder(s) over a missing dependency, add the missing dependency to 'Suggests:' in your DESCRIPTION file. See Renviron.bioc for more information. - See Martin Grigorov's blog post for how to debug Linux ARM64 related issues on a x86_64 host. | 
| Package: wppi | 
| Version: 1.14.0 | 
| Command: /home/biocbuild/R/R/bin/R CMD check --install=check:wppi.install-out.txt --library=/home/biocbuild/R/R/site-library --no-vignettes --timings wppi_1.14.0.tar.gz | 
| StartedAt: 2025-04-01 11:47:37 -0000 (Tue, 01 Apr 2025) | 
| EndedAt: 2025-04-01 11:53:09 -0000 (Tue, 01 Apr 2025) | 
| EllapsedTime: 331.9 seconds | 
| RetCode: 0 | 
| Status: OK | 
| CheckDir: wppi.Rcheck | 
| Warnings: 0 | 
##############################################################################
##############################################################################
###
### Running command:
###
###   /home/biocbuild/R/R/bin/R CMD check --install=check:wppi.install-out.txt --library=/home/biocbuild/R/R/site-library --no-vignettes --timings wppi_1.14.0.tar.gz
###
##############################################################################
##############################################################################
* using log directory ‘/home/biocbuild/bbs-3.20-bioc/meat/wppi.Rcheck’
* using R version 4.4.3 (2025-02-28)
* using platform: aarch64-unknown-linux-gnu
* R was compiled by
    aarch64-unknown-linux-gnu-gcc (GCC) 14.2.0
    GNU Fortran (GCC) 14.2.0
* running under: openEuler 24.03 (LTS)
* using session charset: UTF-8
* using option ‘--no-vignettes’
* checking for file ‘wppi/DESCRIPTION’ ... OK
* checking extension type ... Package
* this is package ‘wppi’ version ‘1.14.0’
* package encoding: UTF-8
* checking package namespace information ... OK
* checking package dependencies ... OK
* checking if this is a source package ... OK
* checking if there is a namespace ... OK
* checking for hidden files and directories ... OK
* checking for portable file names ... OK
* checking for sufficient/correct file permissions ... OK
* checking whether package ‘wppi’ can be installed ... OK
* checking installed package size ... OK
* checking package directory ... OK
* checking ‘build’ directory ... OK
* checking DESCRIPTION meta-information ... NOTE
License stub is invalid DCF.
* checking top-level files ... OK
* checking for left-over files ... OK
* checking index information ... OK
* checking package subdirectories ... OK
* checking code files for non-ASCII characters ... OK
* checking R files for syntax errors ... OK
* checking whether the package can be loaded ... OK
* checking whether the package can be loaded with stated dependencies ... OK
* checking whether the package can be unloaded cleanly ... OK
* checking whether the namespace can be loaded with stated dependencies ... OK
* checking whether the namespace can be unloaded cleanly ... OK
* checking loading without being on the library search path ... OK
* checking whether startup messages can be suppressed ... NOTE
[2025-04-01 11:48:16] [TRACE]   [OmnipathR] Reading JSON from `/home/biocbuild/.cache/OmnipathR/cache.json` (encoding: UTF-8).
[2025-04-01 11:48:16] [TRACE]   [OmnipathR] JSON validation successful: TRUE
[2025-04-01 11:48:16] [INFO]    [OmnipathR] Initialized cache: `/home/biocbuild/.cache/OmnipathR`.
[2025-04-01 11:48:16] [TRACE]   [OmnipathR] Running on a build server, wiping cache.
[2025-04-01 11:48:16] [TRACE]   [OmnipathR] Cache is at `/home/biocbuild/.cache/OmnipathR`.
[2025-04-01 11:48:16] [TRACE]   [OmnipathR] Contains 1 files.
[2025-04-01 11:48:16] [TRACE]   [OmnipathR] Cache is locked: FALSE.
[2025-04-01 11:48:16] [TRACE]   [OmnipathR] Reading JSON from `/home/biocbuild/.cache/OmnipathR/cache.json` (encoding: UTF-8).
[2025-04-01 11:48:16] [TRACE]   [OmnipathR] JSON validation successful: TRUE
[2025-04-01 11:48:16] [SUCCESS] [OmnipathR] Removing all cache contents from `/home/biocbuild/.cache/OmnipathR`.
[2025-04-01 11:48:16] [TRACE]   [OmnipathR] Pandoc version: `2.12`.
[2025-04-01 11:48:16] [TRACE]   [OmnipathR] Reading JSON from `/home/biocbuild/R/R-4.4.3/site-library/OmnipathR/db/db_def.json` (encoding: UTF-8).
[2025-04-01 11:48:16] [TRACE]   [OmnipathR] JSON validation successful: TRUE
[2025-04-01 11:48:16] [TRACE]   [OmnipathR] Reading JSON from `/home/biocbuild/R/R-4.4.3/site-library/OmnipathR/internal/magic_bytes.json` (encoding: UTF-8).
[2025-04-01 11:48:16] [TRACE]   [OmnipathR] JSON validation successful: TRUE
[2025-04-01 11:48:16] [TRACE]   [OmnipathR] Reading JSON from `/home/biocbuild/R/R-4.4.3/site-library/OmnipathR/internal/urls.json` (encoding: UTF-8).
[2025-04-01 11:48:16] [TRACE]   [OmnipathR] JSON validation successful: TRUE
[2025-04-01 11:48:16] [TRACE]   [OmnipathR] Reading JSON from `/home/biocbuild/R/R-4.4.3/site-library/OmnipathR/internal/id_types.json` (encoding: UTF-8).
[2025-04-01 11:48:16] [TRACE]   [OmnipathR] JSON validation successful: TRUE
[2025-04-01 11:48:16] [TRACE]   [OmnipathR] Cache locked: FALSE
It looks like this package (or a package it requires) has a startup
message which cannot be suppressed: see ?packageStartupMessage.
* checking dependencies in R code ... OK
* checking S3 generic/method consistency ... OK
* checking replacement functions ... OK
* checking foreign function calls ... OK
* checking R code for possible problems ... NOTE
[2025-04-01 11:48:37] [TRACE]   [OmnipathR] Reading JSON from `/home/biocbuild/.cache/OmnipathR/cache.json` (encoding: UTF-8).
[2025-04-01 11:48:37] [TRACE]   [OmnipathR] JSON validation successful: TRUE
[2025-04-01 11:48:37] [INFO]    [OmnipathR] Initialized cache: `/home/biocbuild/.cache/OmnipathR`.
[2025-04-01 11:48:37] [TRACE]   [OmnipathR] Running on a build server, wiping cache.
[2025-04-01 11:48:37] [TRACE]   [OmnipathR] Cache is at `/home/biocbuild/.cache/OmnipathR`.
[2025-04-01 11:48:37] [TRACE]   [OmnipathR] Contains 1 files.
[2025-04-01 11:48:37] [TRACE]   [OmnipathR] Cache is locked: FALSE.
[2025-04-01 11:48:37] [TRACE]   [OmnipathR] Reading JSON from `/home/biocbuild/.cache/OmnipathR/cache.json` (encoding: UTF-8).
[2025-04-01 11:48:37] [TRACE]   [OmnipathR] JSON validation successful: TRUE
[2025-04-01 11:48:37] [SUCCESS] [OmnipathR] Removing all cache contents from `/home/biocbuild/.cache/OmnipathR`.
[2025-04-01 11:48:37] [TRACE]   [OmnipathR] Pandoc version: `2.12`.
[2025-04-01 11:48:37] [TRACE]   [OmnipathR] Reading JSON from `/home/biocbuild/R/R-4.4.3/site-library/OmnipathR/db/db_def.json` (encoding: UTF-8).
[2025-04-01 11:48:37] [TRACE]   [OmnipathR] JSON validation successful: TRUE
[2025-04-01 11:48:37] [TRACE]   [OmnipathR] Reading JSON from `/home/biocbuild/R/R-4.4.3/site-library/OmnipathR/internal/magic_bytes.json` (encoding: UTF-8).
[2025-04-01 11:48:37] [TRACE]   [OmnipathR] JSON validation successful: TRUE
[2025-04-01 11:48:37] [TRACE]   [OmnipathR] Reading JSON from `/home/biocbuild/R/R-4.4.3/site-library/OmnipathR/internal/urls.json` (encoding: UTF-8).
[2025-04-01 11:48:37] [TRACE]   [OmnipathR] JSON validation successful: TRUE
[2025-04-01 11:48:37] [TRACE]   [OmnipathR] Reading JSON from `/home/biocbuild/R/R-4.4.3/site-library/OmnipathR/internal/id_types.json` (encoding: UTF-8).
[2025-04-01 11:48:37] [TRACE]   [OmnipathR] JSON validation successful: TRUE
[2025-04-01 11:48:37] [TRACE]   [OmnipathR] Cache locked: FALSE
* checking Rd files ... OK
* checking Rd metadata ... OK
* checking Rd cross-references ... OK
* checking for missing documentation entries ... OK
* checking for code/documentation mismatches ... OK
* checking Rd \usage sections ... OK
* checking Rd contents ... OK
* checking for unstated dependencies in examples ... OK
* checking files in ‘vignettes’ ... OK
* checking examples ... OK
Examples with CPU (user + system) or elapsed time > 5s
                                 user system elapsed
wppi                           41.425  0.218  43.272
prioritization_genes           20.378  0.301  23.223
score_candidate_genes_from_PPI 20.448  0.145  21.873
random_walk                    20.247  0.144  22.914
weighted_adj                   15.572  0.112  16.374
count_genes                    13.441  0.488  24.906
wppi_data                       9.085  0.063   9.223
common_neighbors                8.038  0.365  14.811
filter_annot_with_network       8.255  0.088   9.649
functional_annot                2.267  0.170  24.582
* checking for unstated dependencies in vignettes ... OK
* checking package vignettes ... OK
* checking running R code from vignettes ... SKIPPED
* checking re-building of vignette outputs ... SKIPPED
* checking PDF version of manual ... OK
* DONE
Status: 3 NOTEs
See
  ‘/home/biocbuild/bbs-3.20-bioc/meat/wppi.Rcheck/00check.log’
for details.
wppi.Rcheck/00install.out
############################################################################## ############################################################################## ### ### Running command: ### ### /home/biocbuild/R/R/bin/R CMD INSTALL wppi ### ############################################################################## ############################################################################## * installing to library ‘/home/biocbuild/R/R-4.4.3/site-library’ * installing *source* package ‘wppi’ ... ** using staged installation ** R ** byte-compile and prepare package for lazy loading [2025-03-31 20:46:56] [TRACE] [OmnipathR] Reading JSON from `/home/biocbuild/.cache/OmnipathR/cache.json` (encoding: UTF-8). [2025-03-31 20:46:56] [TRACE] [OmnipathR] JSON validation successful: TRUE [2025-03-31 20:46:56] [INFO] [OmnipathR] Initialized cache: `/home/biocbuild/.cache/OmnipathR`. [2025-03-31 20:46:56] [TRACE] [OmnipathR] Running on a build server, wiping cache. [2025-03-31 20:46:56] [TRACE] [OmnipathR] Cache is at `/home/biocbuild/.cache/OmnipathR`. [2025-03-31 20:46:56] [TRACE] [OmnipathR] Contains 1 files. [2025-03-31 20:46:56] [TRACE] [OmnipathR] Cache is locked: FALSE. [2025-03-31 20:46:56] [TRACE] [OmnipathR] Reading JSON from `/home/biocbuild/.cache/OmnipathR/cache.json` (encoding: UTF-8). [2025-03-31 20:46:56] [TRACE] [OmnipathR] JSON validation successful: TRUE [2025-03-31 20:46:56] [SUCCESS] [OmnipathR] Removing all cache contents from `/home/biocbuild/.cache/OmnipathR`. [2025-03-31 20:46:56] [TRACE] [OmnipathR] Pandoc version: `2.12`. [2025-03-31 20:46:56] [TRACE] [OmnipathR] Reading JSON from `/home/biocbuild/R/R-4.4.3/site-library/OmnipathR/db/db_def.json` (encoding: UTF-8). [2025-03-31 20:46:56] [TRACE] [OmnipathR] JSON validation successful: TRUE [2025-03-31 20:46:56] [TRACE] [OmnipathR] Reading JSON from `/home/biocbuild/R/R-4.4.3/site-library/OmnipathR/internal/magic_bytes.json` (encoding: UTF-8). [2025-03-31 20:46:56] [TRACE] [OmnipathR] JSON validation successful: TRUE [2025-03-31 20:46:56] [TRACE] [OmnipathR] Reading JSON from `/home/biocbuild/R/R-4.4.3/site-library/OmnipathR/internal/urls.json` (encoding: UTF-8). [2025-03-31 20:46:56] [TRACE] [OmnipathR] JSON validation successful: TRUE [2025-03-31 20:46:56] [TRACE] [OmnipathR] Reading JSON from `/home/biocbuild/R/R-4.4.3/site-library/OmnipathR/internal/id_types.json` (encoding: UTF-8). [2025-03-31 20:46:56] [TRACE] [OmnipathR] JSON validation successful: TRUE [2025-03-31 20:46:56] [TRACE] [OmnipathR] Cache locked: FALSE Note: wrong number of arguments to '/' ** help *** installing help indices ** building package indices ** installing vignettes ** testing if installed package can be loaded from temporary location [2025-03-31 20:47:02] [TRACE] [OmnipathR] Reading JSON from `/home/biocbuild/.cache/OmnipathR/cache.json` (encoding: UTF-8). [2025-03-31 20:47:02] [TRACE] [OmnipathR] JSON validation successful: TRUE [2025-03-31 20:47:02] [INFO] [OmnipathR] Initialized cache: `/home/biocbuild/.cache/OmnipathR`. [2025-03-31 20:47:02] [TRACE] [OmnipathR] Running on a build server, wiping cache. [2025-03-31 20:47:02] [TRACE] [OmnipathR] Cache is at `/home/biocbuild/.cache/OmnipathR`. [2025-03-31 20:47:02] [TRACE] [OmnipathR] Contains 1 files. [2025-03-31 20:47:02] [TRACE] [OmnipathR] Cache is locked: FALSE. [2025-03-31 20:47:02] [TRACE] [OmnipathR] Reading JSON from `/home/biocbuild/.cache/OmnipathR/cache.json` (encoding: UTF-8). [2025-03-31 20:47:02] [TRACE] [OmnipathR] JSON validation successful: TRUE [2025-03-31 20:47:02] [SUCCESS] [OmnipathR] Removing all cache contents from `/home/biocbuild/.cache/OmnipathR`. [2025-03-31 20:47:02] [TRACE] [OmnipathR] Pandoc version: `2.12`. [2025-03-31 20:47:02] [TRACE] [OmnipathR] Reading JSON from `/home/biocbuild/R/R-4.4.3/site-library/OmnipathR/db/db_def.json` (encoding: UTF-8). [2025-03-31 20:47:02] [TRACE] [OmnipathR] JSON validation successful: TRUE [2025-03-31 20:47:02] [TRACE] [OmnipathR] Reading JSON from `/home/biocbuild/R/R-4.4.3/site-library/OmnipathR/internal/magic_bytes.json` (encoding: UTF-8). [2025-03-31 20:47:02] [TRACE] [OmnipathR] JSON validation successful: TRUE [2025-03-31 20:47:02] [TRACE] [OmnipathR] Reading JSON from `/home/biocbuild/R/R-4.4.3/site-library/OmnipathR/internal/urls.json` (encoding: UTF-8). [2025-03-31 20:47:02] [TRACE] [OmnipathR] JSON validation successful: TRUE [2025-03-31 20:47:02] [TRACE] [OmnipathR] Reading JSON from `/home/biocbuild/R/R-4.4.3/site-library/OmnipathR/internal/id_types.json` (encoding: UTF-8). [2025-03-31 20:47:02] [TRACE] [OmnipathR] JSON validation successful: TRUE [2025-03-31 20:47:02] [TRACE] [OmnipathR] Cache locked: FALSE ** testing if installed package can be loaded from final location [2025-03-31 20:47:06] [TRACE] [OmnipathR] Reading JSON from `/home/biocbuild/.cache/OmnipathR/cache.json` (encoding: UTF-8). [2025-03-31 20:47:06] [TRACE] [OmnipathR] JSON validation successful: TRUE [2025-03-31 20:47:06] [INFO] [OmnipathR] Initialized cache: `/home/biocbuild/.cache/OmnipathR`. [2025-03-31 20:47:06] [TRACE] [OmnipathR] Running on a build server, wiping cache. [2025-03-31 20:47:06] [TRACE] [OmnipathR] Cache is at `/home/biocbuild/.cache/OmnipathR`. [2025-03-31 20:47:06] [TRACE] [OmnipathR] Contains 1 files. [2025-03-31 20:47:06] [TRACE] [OmnipathR] Cache is locked: FALSE. [2025-03-31 20:47:06] [TRACE] [OmnipathR] Reading JSON from `/home/biocbuild/.cache/OmnipathR/cache.json` (encoding: UTF-8). [2025-03-31 20:47:06] [TRACE] [OmnipathR] JSON validation successful: TRUE [2025-03-31 20:47:06] [SUCCESS] [OmnipathR] Removing all cache contents from `/home/biocbuild/.cache/OmnipathR`. [2025-03-31 20:47:06] [TRACE] [OmnipathR] Pandoc version: `2.12`. [2025-03-31 20:47:06] [TRACE] [OmnipathR] Reading JSON from `/home/biocbuild/R/R-4.4.3/site-library/OmnipathR/db/db_def.json` (encoding: UTF-8). [2025-03-31 20:47:06] [TRACE] [OmnipathR] JSON validation successful: TRUE [2025-03-31 20:47:06] [TRACE] [OmnipathR] Reading JSON from `/home/biocbuild/R/R-4.4.3/site-library/OmnipathR/internal/magic_bytes.json` (encoding: UTF-8). [2025-03-31 20:47:06] [TRACE] [OmnipathR] JSON validation successful: TRUE [2025-03-31 20:47:06] [TRACE] [OmnipathR] Reading JSON from `/home/biocbuild/R/R-4.4.3/site-library/OmnipathR/internal/urls.json` (encoding: UTF-8). [2025-03-31 20:47:06] [TRACE] [OmnipathR] JSON validation successful: TRUE [2025-03-31 20:47:06] [TRACE] [OmnipathR] Reading JSON from `/home/biocbuild/R/R-4.4.3/site-library/OmnipathR/internal/id_types.json` (encoding: UTF-8). [2025-03-31 20:47:07] [TRACE] [OmnipathR] JSON validation successful: TRUE [2025-03-31 20:47:07] [TRACE] [OmnipathR] Cache locked: FALSE ** testing if installed package keeps a record of temporary installation path * DONE (wppi)
wppi.Rcheck/wppi-Ex.timings
| name | user | system | elapsed | |
| common_neighbors | 8.038 | 0.365 | 14.811 | |
| count_genes | 13.441 | 0.488 | 24.906 | |
| filter_annot_with_network | 8.255 | 0.088 | 9.649 | |
| functional_annot | 2.267 | 0.170 | 24.582 | |
| graph_from_op | 4.15 | 0.18 | 4.83 | |
| in_omnipath | 4.293 | 0.060 | 4.886 | |
| prioritization_genes | 20.378 | 0.301 | 23.223 | |
| process_annot | 0.917 | 0.007 | 1.040 | |
| random_walk | 20.247 | 0.144 | 22.914 | |
| score_candidate_genes_from_PPI | 20.448 | 0.145 | 21.873 | |
| subgraph_op | 4.282 | 0.003 | 4.685 | |
| weighted_adj | 15.572 | 0.112 | 16.374 | |
| wppi | 41.425 | 0.218 | 43.272 | |
| wppi_data | 9.085 | 0.063 | 9.223 | |
| wppi_go_data | 3.435 | 0.016 | 3.456 | |
| wppi_hpo_data | 0.842 | 0.008 | 0.851 | |
| wppi_omnipath_data | 4.322 | 0.004 | 4.334 | |