| Back to Multiple platform build/check report for BioC 3.20: simplified long | 
 | 
This page was generated on 2025-04-02 19:35 -0400 (Wed, 02 Apr 2025).
| Hostname | OS | Arch (*) | R version | Installed pkgs | 
|---|---|---|---|---|
| nebbiolo2 | Linux (Ubuntu 24.04.1 LTS) | x86_64 | 4.4.3 (2025-02-28) -- "Trophy Case" | 4764 | 
| palomino8 | Windows Server 2022 Datacenter | x64 | 4.4.3 (2025-02-28 ucrt) -- "Trophy Case" | 4495 | 
| merida1 | macOS 12.7.5 Monterey | x86_64 | 4.4.3 (2025-02-28) -- "Trophy Case" | 4522 | 
| kjohnson1 | macOS 13.6.6 Ventura | arm64 | 4.4.3 (2025-02-28) -- "Trophy Case" | 4449 | 
| taishan | Linux (openEuler 24.03 LTS) | aarch64 | 4.4.3 (2025-02-28) -- "Trophy Case" | 4426 | 
| Click on any hostname to see more info about the system (e.g. compilers) (*) as reported by 'uname -p', except on Windows and Mac OS X | ||||
| Package 2269/2289 | Hostname | OS / Arch | INSTALL | BUILD | CHECK | BUILD BIN | ||||||||
| wppi 1.14.0  (landing page) Ana Galhoz 
 | nebbiolo2 | Linux (Ubuntu 24.04.1 LTS) / x86_64 | OK | OK | OK |  | ||||||||
| palomino8 | Windows Server 2022 Datacenter / x64 | OK | OK | OK | OK |  | ||||||||
| merida1 | macOS 12.7.5 Monterey / x86_64 | OK | OK | OK | OK |  | ||||||||
| kjohnson1 | macOS 13.6.6 Ventura / arm64 | OK | OK | OK | OK |  | ||||||||
| taishan | Linux (openEuler 24.03 LTS) / aarch64 | OK | OK | OK | ||||||||||
| To the developers/maintainers of the wppi package: - Allow up to 24 hours (and sometimes 48 hours) for your latest push to git@git.bioconductor.org:packages/wppi.git to reflect on this report. See Troubleshooting Build Report for more information. - Use the following Renviron settings to reproduce errors and warnings. - If 'R CMD check' started to fail recently on the Linux builder(s) over a missing dependency, add the missing dependency to 'Suggests:' in your DESCRIPTION file. See Renviron.bioc for more information. | 
| Package: wppi | 
| Version: 1.14.0 | 
| Command: /Library/Frameworks/R.framework/Resources/bin/R CMD check --install=check:wppi.install-out.txt --library=/Library/Frameworks/R.framework/Resources/library --no-vignettes --timings wppi_1.14.0.tar.gz | 
| StartedAt: 2025-04-02 12:46:33 -0400 (Wed, 02 Apr 2025) | 
| EndedAt: 2025-04-02 12:51:13 -0400 (Wed, 02 Apr 2025) | 
| EllapsedTime: 279.8 seconds | 
| RetCode: 0 | 
| Status: OK | 
| CheckDir: wppi.Rcheck | 
| Warnings: 0 | 
##############################################################################
##############################################################################
###
### Running command:
###
###   /Library/Frameworks/R.framework/Resources/bin/R CMD check --install=check:wppi.install-out.txt --library=/Library/Frameworks/R.framework/Resources/library --no-vignettes --timings wppi_1.14.0.tar.gz
###
##############################################################################
##############################################################################
* using log directory ‘/Users/biocbuild/bbs-3.20-bioc/meat/wppi.Rcheck’
* using R version 4.4.3 (2025-02-28)
* using platform: aarch64-apple-darwin20
* R was compiled by
    Apple clang version 14.0.0 (clang-1400.0.29.202)
    GNU Fortran (GCC) 12.2.0
* running under: macOS Ventura 13.7.1
* using session charset: UTF-8
* using option ‘--no-vignettes’
* checking for file ‘wppi/DESCRIPTION’ ... OK
* checking extension type ... Package
* this is package ‘wppi’ version ‘1.14.0’
* package encoding: UTF-8
* checking package namespace information ... OK
* checking package dependencies ... OK
* checking if this is a source package ... OK
* checking if there is a namespace ... OK
* checking for hidden files and directories ... OK
* checking for portable file names ... OK
* checking for sufficient/correct file permissions ... OK
* checking whether package ‘wppi’ can be installed ... OK
* checking installed package size ... OK
* checking package directory ... OK
* checking ‘build’ directory ... OK
* checking DESCRIPTION meta-information ... NOTE
License stub is invalid DCF.
* checking top-level files ... OK
* checking for left-over files ... OK
* checking index information ... OK
* checking package subdirectories ... OK
* checking code files for non-ASCII characters ... OK
* checking R files for syntax errors ... OK
* checking whether the package can be loaded ... OK
* checking whether the package can be loaded with stated dependencies ... OK
* checking whether the package can be unloaded cleanly ... OK
* checking whether the namespace can be loaded with stated dependencies ... OK
* checking whether the namespace can be unloaded cleanly ... OK
* checking whether startup messages can be suppressed ... NOTE
[2025-04-02 12:47:07] [TRACE]   [OmnipathR] Reading JSON from `/Users/biocbuild/Library/Caches/OmnipathR/cache.json` (encoding: UTF-8).
[2025-04-02 12:47:07] [TRACE]   [OmnipathR] JSON validation successful: TRUE
[2025-04-02 12:47:07] [INFO]    [OmnipathR] Initialized cache: `/Users/biocbuild/Library/Caches/OmnipathR`.
[2025-04-02 12:47:07] [TRACE]   [OmnipathR] Running on a build server, wiping cache.
[2025-04-02 12:47:07] [TRACE]   [OmnipathR] Cache is at `/Users/biocbuild/Library/Caches/OmnipathR`.
[2025-04-02 12:47:07] [TRACE]   [OmnipathR] Contains 1 files.
[2025-04-02 12:47:07] [TRACE]   [OmnipathR] Cache is locked: FALSE.
[2025-04-02 12:47:07] [TRACE]   [OmnipathR] Reading JSON from `/Users/biocbuild/Library/Caches/OmnipathR/cache.json` (encoding: UTF-8).
[2025-04-02 12:47:07] [TRACE]   [OmnipathR] JSON validation successful: TRUE
[2025-04-02 12:47:07] [SUCCESS] [OmnipathR] Removing all cache contents from `/Users/biocbuild/Library/Caches/OmnipathR`.
[2025-04-02 12:47:07] [TRACE]   [OmnipathR] Pandoc version: `3.1.2`.
[2025-04-02 12:47:07] [TRACE]   [OmnipathR] Reading JSON from `/Library/Frameworks/R.framework/Versions/4.4-arm64/Resources/library/OmnipathR/db/db_def.json` (encoding: UTF-8).
[2025-04-02 12:47:07] [TRACE]   [OmnipathR] JSON validation successful: TRUE
[2025-04-02 12:47:07] [TRACE]   [OmnipathR] Reading JSON from `/Library/Frameworks/R.framework/Versions/4.4-arm64/Resources/library/OmnipathR/internal/magic_bytes.json` (encoding: UTF-8).
[2025-04-02 12:47:07] [TRACE]   [OmnipathR] JSON validation successful: TRUE
[2025-04-02 12:47:07] [TRACE]   [OmnipathR] Reading JSON from `/Library/Frameworks/R.framework/Versions/4.4-arm64/Resources/library/OmnipathR/internal/urls.json` (encoding: UTF-8).
[2025-04-02 12:47:07] [TRACE]   [OmnipathR] JSON validation successful: TRUE
[2025-04-02 12:47:07] [TRACE]   [OmnipathR] Reading JSON from `/Library/Frameworks/R.framework/Versions/4.4-arm64/Resources/library/OmnipathR/internal/id_types.json` (encoding: UTF-8).
[2025-04-02 12:47:07] [TRACE]   [OmnipathR] JSON validation successful: TRUE
[2025-04-02 12:47:07] [TRACE]   [OmnipathR] Cache locked: FALSE
It looks like this package (or a package it requires) has a startup
message which cannot be suppressed: see ?packageStartupMessage.
* checking dependencies in R code ... OK
* checking S3 generic/method consistency ... OK
* checking replacement functions ... OK
* checking foreign function calls ... OK
* checking R code for possible problems ... NOTE
[2025-04-02 12:47:28] [TRACE]   [OmnipathR] Reading JSON from `/Users/biocbuild/Library/Caches/OmnipathR/cache.json` (encoding: UTF-8).
[2025-04-02 12:47:28] [TRACE]   [OmnipathR] JSON validation successful: TRUE
[2025-04-02 12:47:28] [INFO]    [OmnipathR] Initialized cache: `/Users/biocbuild/Library/Caches/OmnipathR`.
[2025-04-02 12:47:28] [TRACE]   [OmnipathR] Running on a build server, wiping cache.
[2025-04-02 12:47:28] [TRACE]   [OmnipathR] Cache is at `/Users/biocbuild/Library/Caches/OmnipathR`.
[2025-04-02 12:47:28] [TRACE]   [OmnipathR] Contains 1 files.
[2025-04-02 12:47:28] [TRACE]   [OmnipathR] Cache is locked: FALSE.
[2025-04-02 12:47:28] [TRACE]   [OmnipathR] Reading JSON from `/Users/biocbuild/Library/Caches/OmnipathR/cache.json` (encoding: UTF-8).
[2025-04-02 12:47:28] [TRACE]   [OmnipathR] JSON validation successful: TRUE
[2025-04-02 12:47:28] [SUCCESS] [OmnipathR] Removing all cache contents from `/Users/biocbuild/Library/Caches/OmnipathR`.
[2025-04-02 12:47:28] [TRACE]   [OmnipathR] Pandoc version: `3.1.2`.
[2025-04-02 12:47:28] [TRACE]   [OmnipathR] Reading JSON from `/Library/Frameworks/R.framework/Versions/4.4-arm64/Resources/library/OmnipathR/db/db_def.json` (encoding: UTF-8).
[2025-04-02 12:47:28] [TRACE]   [OmnipathR] JSON validation successful: TRUE
[2025-04-02 12:47:28] [TRACE]   [OmnipathR] Reading JSON from `/Library/Frameworks/R.framework/Versions/4.4-arm64/Resources/library/OmnipathR/internal/magic_bytes.json` (encoding: UTF-8).
[2025-04-02 12:47:28] [TRACE]   [OmnipathR] JSON validation successful: TRUE
[2025-04-02 12:47:28] [TRACE]   [OmnipathR] Reading JSON from `/Library/Frameworks/R.framework/Versions/4.4-arm64/Resources/library/OmnipathR/internal/urls.json` (encoding: UTF-8).
[2025-04-02 12:47:28] [TRACE]   [OmnipathR] JSON validation successful: TRUE
[2025-04-02 12:47:28] [TRACE]   [OmnipathR] Reading JSON from `/Library/Frameworks/R.framework/Versions/4.4-arm64/Resources/library/OmnipathR/internal/id_types.json` (encoding: UTF-8).
[2025-04-02 12:47:28] [TRACE]   [OmnipathR] JSON validation successful: TRUE
[2025-04-02 12:47:28] [TRACE]   [OmnipathR] Cache locked: FALSE
* checking Rd files ... OK
* checking Rd metadata ... OK
* checking Rd cross-references ... OK
* checking for missing documentation entries ... OK
* checking for code/documentation mismatches ... OK
* checking Rd \usage sections ... OK
* checking Rd contents ... OK
* checking for unstated dependencies in examples ... OK
* checking files in ‘vignettes’ ... OK
* checking examples ... OK
Examples with CPU (user + system) or elapsed time > 5s
                                 user system elapsed
wppi                           34.278  0.715  35.995
score_candidate_genes_from_PPI 19.362  0.397  19.992
prioritization_genes           19.010  0.436  19.649
random_walk                    18.654  0.402  19.249
count_genes                    15.718  0.855  16.287
weighted_adj                   14.618  0.371  15.451
wppi_data                      10.470  0.175  10.821
filter_annot_with_network       9.021  0.221   9.495
common_neighbors                6.418  0.305   7.815
wppi_go_data                    4.925  0.070   5.035
* checking for unstated dependencies in vignettes ... OK
* checking package vignettes ... OK
* checking running R code from vignettes ... SKIPPED
* checking re-building of vignette outputs ... SKIPPED
* checking PDF version of manual ... OK
* DONE
Status: 3 NOTEs
See
  ‘/Users/biocbuild/bbs-3.20-bioc/meat/wppi.Rcheck/00check.log’
for details.
wppi.Rcheck/00install.out
############################################################################## ############################################################################## ### ### Running command: ### ### /Library/Frameworks/R.framework/Resources/bin/R CMD INSTALL wppi ### ############################################################################## ############################################################################## * installing to library ‘/Library/Frameworks/R.framework/Versions/4.4-arm64/Resources/library’ * installing *source* package ‘wppi’ ... ** using staged installation ** R ** byte-compile and prepare package for lazy loading [2025-03-31 16:53:55] [TRACE] [OmnipathR] Reading JSON from `/Users/biocbuild/Library/Caches/OmnipathR/cache.json` (encoding: UTF-8). [2025-03-31 16:53:55] [TRACE] [OmnipathR] JSON validation successful: TRUE [2025-03-31 16:53:55] [INFO] [OmnipathR] Initialized cache: `/Users/biocbuild/Library/Caches/OmnipathR`. [2025-03-31 16:53:55] [TRACE] [OmnipathR] Running on a build server, wiping cache. [2025-03-31 16:53:55] [TRACE] [OmnipathR] Cache is at `/Users/biocbuild/Library/Caches/OmnipathR`. [2025-03-31 16:53:55] [TRACE] [OmnipathR] Contains 1 files. [2025-03-31 16:53:55] [TRACE] [OmnipathR] Cache is locked: FALSE. [2025-03-31 16:53:55] [TRACE] [OmnipathR] Reading JSON from `/Users/biocbuild/Library/Caches/OmnipathR/cache.json` (encoding: UTF-8). [2025-03-31 16:53:55] [TRACE] [OmnipathR] JSON validation successful: TRUE [2025-03-31 16:53:55] [SUCCESS] [OmnipathR] Removing all cache contents from `/Users/biocbuild/Library/Caches/OmnipathR`. [2025-03-31 16:53:55] [TRACE] [OmnipathR] Pandoc version: `3.1.2`. [2025-03-31 16:53:55] [TRACE] [OmnipathR] Reading JSON from `/Library/Frameworks/R.framework/Versions/4.4-arm64/Resources/library/OmnipathR/db/db_def.json` (encoding: UTF-8). [2025-03-31 16:53:55] [TRACE] [OmnipathR] JSON validation successful: TRUE [2025-03-31 16:53:55] [TRACE] [OmnipathR] Reading JSON from `/Library/Frameworks/R.framework/Versions/4.4-arm64/Resources/library/OmnipathR/internal/magic_bytes.json` (encoding: UTF-8). [2025-03-31 16:53:55] [TRACE] [OmnipathR] JSON validation successful: TRUE [2025-03-31 16:53:55] [TRACE] [OmnipathR] Reading JSON from `/Library/Frameworks/R.framework/Versions/4.4-arm64/Resources/library/OmnipathR/internal/urls.json` (encoding: UTF-8). [2025-03-31 16:53:55] [TRACE] [OmnipathR] JSON validation successful: TRUE [2025-03-31 16:53:55] [TRACE] [OmnipathR] Reading JSON from `/Library/Frameworks/R.framework/Versions/4.4-arm64/Resources/library/OmnipathR/internal/id_types.json` (encoding: UTF-8). [2025-03-31 16:53:55] [TRACE] [OmnipathR] JSON validation successful: TRUE [2025-03-31 16:53:55] [TRACE] [OmnipathR] Cache locked: FALSE Note: wrong number of arguments to '/' ** help *** installing help indices ** building package indices ** installing vignettes ** testing if installed package can be loaded from temporary location [2025-03-31 16:54:00] [TRACE] [OmnipathR] Reading JSON from `/Users/biocbuild/Library/Caches/OmnipathR/cache.json` (encoding: UTF-8). [2025-03-31 16:54:00] [TRACE] [OmnipathR] JSON validation successful: TRUE [2025-03-31 16:54:00] [INFO] [OmnipathR] Initialized cache: `/Users/biocbuild/Library/Caches/OmnipathR`. [2025-03-31 16:54:00] [TRACE] [OmnipathR] Running on a build server, wiping cache. [2025-03-31 16:54:00] [TRACE] [OmnipathR] Cache is at `/Users/biocbuild/Library/Caches/OmnipathR`. [2025-03-31 16:54:00] [TRACE] [OmnipathR] Contains 1 files. [2025-03-31 16:54:00] [TRACE] [OmnipathR] Cache is locked: FALSE. [2025-03-31 16:54:00] [TRACE] [OmnipathR] Reading JSON from `/Users/biocbuild/Library/Caches/OmnipathR/cache.json` (encoding: UTF-8). [2025-03-31 16:54:00] [TRACE] [OmnipathR] JSON validation successful: TRUE [2025-03-31 16:54:00] [SUCCESS] [OmnipathR] Removing all cache contents from `/Users/biocbuild/Library/Caches/OmnipathR`. [2025-03-31 16:54:00] [TRACE] [OmnipathR] Pandoc version: `3.1.2`. [2025-03-31 16:54:00] [TRACE] [OmnipathR] Reading JSON from `/Library/Frameworks/R.framework/Versions/4.4-arm64/Resources/library/OmnipathR/db/db_def.json` (encoding: UTF-8). [2025-03-31 16:54:00] [TRACE] [OmnipathR] JSON validation successful: TRUE [2025-03-31 16:54:00] [TRACE] [OmnipathR] Reading JSON from `/Library/Frameworks/R.framework/Versions/4.4-arm64/Resources/library/OmnipathR/internal/magic_bytes.json` (encoding: UTF-8). [2025-03-31 16:54:00] [TRACE] [OmnipathR] JSON validation successful: TRUE [2025-03-31 16:54:00] [TRACE] [OmnipathR] Reading JSON from `/Library/Frameworks/R.framework/Versions/4.4-arm64/Resources/library/OmnipathR/internal/urls.json` (encoding: UTF-8). [2025-03-31 16:54:00] [TRACE] [OmnipathR] JSON validation successful: TRUE [2025-03-31 16:54:00] [TRACE] [OmnipathR] Reading JSON from `/Library/Frameworks/R.framework/Versions/4.4-arm64/Resources/library/OmnipathR/internal/id_types.json` (encoding: UTF-8). [2025-03-31 16:54:00] [TRACE] [OmnipathR] JSON validation successful: TRUE [2025-03-31 16:54:00] [TRACE] [OmnipathR] Cache locked: FALSE ** testing if installed package can be loaded from final location [2025-03-31 16:54:04] [TRACE] [OmnipathR] Reading JSON from `/Users/biocbuild/Library/Caches/OmnipathR/cache.json` (encoding: UTF-8). [2025-03-31 16:54:04] [TRACE] [OmnipathR] JSON validation successful: TRUE [2025-03-31 16:54:04] [INFO] [OmnipathR] Initialized cache: `/Users/biocbuild/Library/Caches/OmnipathR`. [2025-03-31 16:54:04] [TRACE] [OmnipathR] Running on a build server, wiping cache. [2025-03-31 16:54:04] [TRACE] [OmnipathR] Cache is at `/Users/biocbuild/Library/Caches/OmnipathR`. [2025-03-31 16:54:04] [TRACE] [OmnipathR] Contains 1 files. [2025-03-31 16:54:04] [TRACE] [OmnipathR] Cache is locked: FALSE. [2025-03-31 16:54:04] [TRACE] [OmnipathR] Reading JSON from `/Users/biocbuild/Library/Caches/OmnipathR/cache.json` (encoding: UTF-8). [2025-03-31 16:54:04] [TRACE] [OmnipathR] JSON validation successful: TRUE [2025-03-31 16:54:04] [SUCCESS] [OmnipathR] Removing all cache contents from `/Users/biocbuild/Library/Caches/OmnipathR`. [2025-03-31 16:54:04] [TRACE] [OmnipathR] Pandoc version: `3.1.2`. [2025-03-31 16:54:04] [TRACE] [OmnipathR] Reading JSON from `/Library/Frameworks/R.framework/Versions/4.4-arm64/Resources/library/OmnipathR/db/db_def.json` (encoding: UTF-8). [2025-03-31 16:54:04] [TRACE] [OmnipathR] JSON validation successful: TRUE [2025-03-31 16:54:04] [TRACE] [OmnipathR] Reading JSON from `/Library/Frameworks/R.framework/Versions/4.4-arm64/Resources/library/OmnipathR/internal/magic_bytes.json` (encoding: UTF-8). [2025-03-31 16:54:04] [TRACE] [OmnipathR] JSON validation successful: TRUE [2025-03-31 16:54:04] [TRACE] [OmnipathR] Reading JSON from `/Library/Frameworks/R.framework/Versions/4.4-arm64/Resources/library/OmnipathR/internal/urls.json` (encoding: UTF-8). [2025-03-31 16:54:04] [TRACE] [OmnipathR] JSON validation successful: TRUE [2025-03-31 16:54:04] [TRACE] [OmnipathR] Reading JSON from `/Library/Frameworks/R.framework/Versions/4.4-arm64/Resources/library/OmnipathR/internal/id_types.json` (encoding: UTF-8). [2025-03-31 16:54:04] [TRACE] [OmnipathR] JSON validation successful: TRUE [2025-03-31 16:54:04] [TRACE] [OmnipathR] Cache locked: FALSE ** testing if installed package keeps a record of temporary installation path * DONE (wppi)
wppi.Rcheck/wppi-Ex.timings
| name | user | system | elapsed | |
| common_neighbors | 6.418 | 0.305 | 7.815 | |
| count_genes | 15.718 | 0.855 | 16.287 | |
| filter_annot_with_network | 9.021 | 0.221 | 9.495 | |
| functional_annot | 2.25 | 0.15 | 3.78 | |
| graph_from_op | 3.637 | 0.045 | 3.710 | |
| in_omnipath | 3.674 | 0.039 | 3.776 | |
| prioritization_genes | 19.010 | 0.436 | 19.649 | |
| process_annot | 1.112 | 0.020 | 1.134 | |
| random_walk | 18.654 | 0.402 | 19.249 | |
| score_candidate_genes_from_PPI | 19.362 | 0.397 | 19.992 | |
| subgraph_op | 3.589 | 0.050 | 3.690 | |
| weighted_adj | 14.618 | 0.371 | 15.451 | |
| wppi | 34.278 | 0.715 | 35.995 | |
| wppi_data | 10.470 | 0.175 | 10.821 | |
| wppi_go_data | 4.925 | 0.070 | 5.035 | |
| wppi_hpo_data | 1.257 | 0.063 | 1.335 | |
| wppi_omnipath_data | 3.698 | 0.048 | 3.768 | |