| Back to Multiple platform build/check report for BioC 3.20: simplified long |
|
This page was generated on 2024-07-16 11:41 -0400 (Tue, 16 Jul 2024).
| Hostname | OS | Arch (*) | R version | Installed pkgs |
|---|---|---|---|---|
| nebbiolo2 | Linux (Ubuntu 22.04.3 LTS) | x86_64 | 4.4.1 (2024-06-14) -- "Race for Your Life" | 4677 |
| palomino6 | Windows Server 2022 Datacenter | x64 | 4.4.1 (2024-06-14 ucrt) -- "Race for Your Life" | 4416 |
| lconway | macOS 12.7.1 Monterey | x86_64 | 4.4.1 (2024-06-14) -- "Race for Your Life" | 4444 |
| kjohnson3 | macOS 13.6.5 Ventura | arm64 | 4.4.1 (2024-06-14) -- "Race for Your Life" | 4393 |
| palomino8 | Windows Server 2022 Datacenter | x64 | 4.4.1 (2024-06-14 ucrt) -- "Race for Your Life" | 4373 |
| Click on any hostname to see more info about the system (e.g. compilers) (*) as reported by 'uname -p', except on Windows and Mac OS X | ||||
| Package 2224/2243 | Hostname | OS / Arch | INSTALL | BUILD | CHECK | BUILD BIN | ||||||||
| wppi 1.13.0 (landing page) Ana Galhoz
| nebbiolo2 | Linux (Ubuntu 22.04.3 LTS) / x86_64 | OK | OK | OK | |||||||||
| palomino6 | Windows Server 2022 Datacenter / x64 | OK | OK | OK | OK | |||||||||
| lconway | macOS 12.7.1 Monterey / x86_64 | OK | OK | OK | OK | |||||||||
| kjohnson3 | macOS 13.6.5 Ventura / arm64 | OK | OK | OK | OK | |||||||||
| palomino8 | Windows Server 2022 Datacenter / x64 | OK | OK | OK | OK | |||||||||
|
To the developers/maintainers of the wppi package: - Allow up to 24 hours (and sometimes 48 hours) for your latest push to git@git.bioconductor.org:packages/wppi.git to reflect on this report. See Troubleshooting Build Report for more information. - Use the following Renviron settings to reproduce errors and warnings. - If 'R CMD check' started to fail recently on the Linux builder(s) over a missing dependency, add the missing dependency to 'Suggests:' in your DESCRIPTION file. See Renviron.bioc for more information. |
| Package: wppi |
| Version: 1.13.0 |
| Command: C:\Users\biocbuild\bbs-3.20-bioc\R\bin\R.exe CMD check --no-multiarch --install=check:wppi.install-out.txt --library=C:\Users\biocbuild\bbs-3.20-bioc\R\library --no-vignettes --timings wppi_1.13.0.tar.gz |
| StartedAt: 2024-07-16 05:27:12 -0400 (Tue, 16 Jul 2024) |
| EndedAt: 2024-07-16 05:31:01 -0400 (Tue, 16 Jul 2024) |
| EllapsedTime: 228.3 seconds |
| RetCode: 0 |
| Status: OK |
| CheckDir: wppi.Rcheck |
| Warnings: 0 |
##############################################################################
##############################################################################
###
### Running command:
###
### C:\Users\biocbuild\bbs-3.20-bioc\R\bin\R.exe CMD check --no-multiarch --install=check:wppi.install-out.txt --library=C:\Users\biocbuild\bbs-3.20-bioc\R\library --no-vignettes --timings wppi_1.13.0.tar.gz
###
##############################################################################
##############################################################################
* using log directory 'C:/Users/biocbuild/bbs-3.20-bioc/meat/wppi.Rcheck'
* using R version 4.4.1 (2024-06-14 ucrt)
* using platform: x86_64-w64-mingw32
* R was compiled by
gcc.exe (GCC) 13.2.0
GNU Fortran (GCC) 13.2.0
* running under: Windows Server 2022 x64 (build 20348)
* using session charset: UTF-8
* using option '--no-vignettes'
* checking for file 'wppi/DESCRIPTION' ... OK
* checking extension type ... Package
* this is package 'wppi' version '1.13.0'
* package encoding: UTF-8
* checking package namespace information ... OK
* checking package dependencies ... OK
* checking if this is a source package ... OK
* checking if there is a namespace ... OK
* checking for hidden files and directories ... OK
* checking for portable file names ... OK
* checking whether package 'wppi' can be installed ... OK
* checking installed package size ... OK
* checking package directory ... OK
* checking 'build' directory ... OK
* checking DESCRIPTION meta-information ... NOTE
License stub is invalid DCF.
* checking top-level files ... OK
* checking for left-over files ... OK
* checking index information ... OK
* checking package subdirectories ... OK
* checking code files for non-ASCII characters ... OK
* checking R files for syntax errors ... OK
* checking whether the package can be loaded ... OK
* checking whether the package can be loaded with stated dependencies ... OK
* checking whether the package can be unloaded cleanly ... OK
* checking whether the namespace can be loaded with stated dependencies ... OK
* checking whether the namespace can be unloaded cleanly ... OK
* checking whether startup messages can be suppressed ... NOTE
[2024-07-16 05:27:41] [TRACE] [OmnipathR] Reading JSON from `C:\Users\biocbuild\AppData\Local\Cache\OmnipathR/cache.json` (encoding: UTF-8).
[2024-07-16 05:27:41] [TRACE] [OmnipathR] JSON validation successful: TRUE
[2024-07-16 05:27:41] [INFO] [OmnipathR] Initialized cache: `C:\Users\biocbuild\AppData\Local\Cache\OmnipathR`.
[2024-07-16 05:27:41] [TRACE] [OmnipathR] Running on a build server, wiping cache.
[2024-07-16 05:27:41] [TRACE] [OmnipathR] Cache is at `C:\Users\biocbuild\AppData\Local\Cache\OmnipathR`.
[2024-07-16 05:27:41] [TRACE] [OmnipathR] Contains 1 files.
[2024-07-16 05:27:41] [TRACE] [OmnipathR] Cache is locked: FALSE.
[2024-07-16 05:27:41] [TRACE] [OmnipathR] Reading JSON from `C:\Users\biocbuild\AppData\Local\Cache\OmnipathR/cache.json` (encoding: UTF-8).
[2024-07-16 05:27:41] [TRACE] [OmnipathR] JSON validation successful: TRUE
[2024-07-16 05:27:41] [SUCCESS] [OmnipathR] Removing all cache contents from `C:\Users\biocbuild\AppData\Local\Cache\OmnipathR`.
[2024-07-16 05:27:41] [TRACE] [OmnipathR] Pandoc version: `2.7.3`.
[2024-07-16 05:27:41] [TRACE] [OmnipathR] Reading JSON from `C:/Users/biocbuild/bbs-3.20-bioc/R/library/OmnipathR/db/db_def.json` (encoding: UTF-8).
[2024-07-16 05:27:41] [TRACE] [OmnipathR] JSON validation successful: TRUE
[2024-07-16 05:27:41] [TRACE] [OmnipathR] Reading JSON from `C:/Users/biocbuild/bbs-3.20-bioc/R/library/OmnipathR/internal/magic_bytes.json` (encoding: UTF-8).
[2024-07-16 05:27:41] [TRACE] [OmnipathR] JSON validation successful: TRUE
[2024-07-16 05:27:41] [TRACE] [OmnipathR] Reading JSON from `C:/Users/biocbuild/bbs-3.20-bioc/R/library/OmnipathR/internal/urls.json` (encoding: UTF-8).
[2024-07-16 05:27:41] [TRACE] [OmnipathR] JSON validation successful: TRUE
[2024-07-16 05:27:41] [TRACE] [OmnipathR] Reading JSON from `C:/Users/biocbuild/bbs-3.20-bioc/R/library/OmnipathR/internal/id_types.json` (encoding: UTF-8).
[2024-07-16 05:27:41] [TRACE] [OmnipathR] JSON validation successful: TRUE
[2024-07-16 05:27:41] [TRACE] [OmnipathR] Cache locked: FALSE
It looks like this package (or a package it requires) has a startup
message which cannot be suppressed: see ?packageStartupMessage.
* checking dependencies in R code ... OK
* checking S3 generic/method consistency ... OK
* checking replacement functions ... OK
* checking foreign function calls ... OK
* checking R code for possible problems ... NOTE
[2024-07-16 05:27:58] [TRACE] [OmnipathR] Reading JSON from `C:\Users\biocbuild\AppData\Local\Cache\OmnipathR/cache.json` (encoding: UTF-8).
[2024-07-16 05:27:59] [TRACE] [OmnipathR] JSON validation successful: TRUE
[2024-07-16 05:27:59] [INFO] [OmnipathR] Initialized cache: `C:\Users\biocbuild\AppData\Local\Cache\OmnipathR`.
[2024-07-16 05:27:59] [TRACE] [OmnipathR] Running on a build server, wiping cache.
[2024-07-16 05:27:59] [TRACE] [OmnipathR] Cache is at `C:\Users\biocbuild\AppData\Local\Cache\OmnipathR`.
[2024-07-16 05:27:59] [TRACE] [OmnipathR] Contains 1 files.
[2024-07-16 05:27:59] [TRACE] [OmnipathR] Cache is locked: FALSE.
[2024-07-16 05:27:59] [TRACE] [OmnipathR] Reading JSON from `C:\Users\biocbuild\AppData\Local\Cache\OmnipathR/cache.json` (encoding: UTF-8).
[2024-07-16 05:27:59] [TRACE] [OmnipathR] JSON validation successful: TRUE
[2024-07-16 05:27:59] [SUCCESS] [OmnipathR] Removing all cache contents from `C:\Users\biocbuild\AppData\Local\Cache\OmnipathR`.
[2024-07-16 05:27:59] [TRACE] [OmnipathR] Pandoc version: `2.7.3`.
[2024-07-16 05:27:59] [TRACE] [OmnipathR] Reading JSON from `C:/Users/biocbuild/bbs-3.20-bioc/R/library/OmnipathR/db/db_def.json` (encoding: UTF-8).
[2024-07-16 05:27:59] [TRACE] [OmnipathR] JSON validation successful: TRUE
[2024-07-16 05:27:59] [TRACE] [OmnipathR] Reading JSON from `C:/Users/biocbuild/bbs-3.20-bioc/R/library/OmnipathR/internal/magic_bytes.json` (encoding: UTF-8).
[2024-07-16 05:27:59] [TRACE] [OmnipathR] JSON validation successful: TRUE
[2024-07-16 05:27:59] [TRACE] [OmnipathR] Reading JSON from `C:/Users/biocbuild/bbs-3.20-bioc/R/library/OmnipathR/internal/urls.json` (encoding: UTF-8).
[2024-07-16 05:27:59] [TRACE] [OmnipathR] JSON validation successful: TRUE
[2024-07-16 05:27:59] [TRACE] [OmnipathR] Reading JSON from `C:/Users/biocbuild/bbs-3.20-bioc/R/library/OmnipathR/internal/id_types.json` (encoding: UTF-8).
[2024-07-16 05:27:59] [TRACE] [OmnipathR] JSON validation successful: TRUE
[2024-07-16 05:27:59] [TRACE] [OmnipathR] Cache locked: FALSE
* checking Rd files ... OK
* checking Rd metadata ... OK
* checking Rd cross-references ... OK
* checking for missing documentation entries ... OK
* checking for code/documentation mismatches ... OK
* checking Rd \usage sections ... OK
* checking Rd contents ... OK
* checking for unstated dependencies in examples ... OK
* checking files in 'vignettes' ... OK
* checking examples ... OK
Examples with CPU (user + system) or elapsed time > 5s
user system elapsed
wppi 27.73 1.15 29.20
random_walk 17.45 0.57 19.43
prioritization_genes 14.09 0.31 14.44
score_candidate_genes_from_PPI 12.81 0.48 13.32
weighted_adj 10.45 0.28 11.00
count_genes 7.77 1.13 8.08
common_neighbors 7.20 0.42 10.55
wppi_data 6.80 0.10 7.08
wppi_hpo_data 6.58 0.04 3.56
filter_annot_with_network 5.35 0.11 5.61
* checking for unstated dependencies in vignettes ... OK
* checking package vignettes ... OK
* checking running R code from vignettes ... SKIPPED
* checking re-building of vignette outputs ... SKIPPED
* checking PDF version of manual ... OK
* DONE
Status: 3 NOTEs
See
'C:/Users/biocbuild/bbs-3.20-bioc/meat/wppi.Rcheck/00check.log'
for details.
wppi.Rcheck/00install.out
############################################################################## ############################################################################## ### ### Running command: ### ### C:\Users\biocbuild\bbs-3.20-bioc\R\bin\R.exe CMD INSTALL wppi ### ############################################################################## ############################################################################## * installing to library 'C:/Users/biocbuild/bbs-3.20-bioc/R/library' * installing *source* package 'wppi' ... ** using staged installation ** R ** byte-compile and prepare package for lazy loading [2024-07-15 15:51:58] [TRACE] [OmnipathR] Reading JSON from `C:\Users\biocbuild\AppData\Local\Cache\OmnipathR/cache.json` (encoding: UTF-8). [2024-07-15 15:51:58] [TRACE] [OmnipathR] JSON validation successful: TRUE [2024-07-15 15:51:58] [INFO] [OmnipathR] Initialized cache: `C:\Users\biocbuild\AppData\Local\Cache\OmnipathR`. [2024-07-15 15:51:58] [TRACE] [OmnipathR] Running on a build server, wiping cache. [2024-07-15 15:51:58] [TRACE] [OmnipathR] Cache is at `C:\Users\biocbuild\AppData\Local\Cache\OmnipathR`. [2024-07-15 15:51:58] [TRACE] [OmnipathR] Contains 1 files. [2024-07-15 15:51:58] [TRACE] [OmnipathR] Cache is locked: FALSE. [2024-07-15 15:51:58] [TRACE] [OmnipathR] Reading JSON from `C:\Users\biocbuild\AppData\Local\Cache\OmnipathR/cache.json` (encoding: UTF-8). [2024-07-15 15:51:58] [TRACE] [OmnipathR] JSON validation successful: TRUE [2024-07-15 15:51:58] [SUCCESS] [OmnipathR] Removing all cache contents from `C:\Users\biocbuild\AppData\Local\Cache\OmnipathR`. [2024-07-15 15:51:58] [TRACE] [OmnipathR] Pandoc version: `2.7.3`. [2024-07-15 15:51:58] [TRACE] [OmnipathR] Reading JSON from `C:/Users/biocbuild/bbs-3.20-bioc/R/library/OmnipathR/db/db_def.json` (encoding: UTF-8). [2024-07-15 15:51:58] [TRACE] [OmnipathR] JSON validation successful: TRUE [2024-07-15 15:51:58] [TRACE] [OmnipathR] Reading JSON from `C:/Users/biocbuild/bbs-3.20-bioc/R/library/OmnipathR/internal/magic_bytes.json` (encoding: UTF-8). [2024-07-15 15:51:58] [TRACE] [OmnipathR] JSON validation successful: TRUE [2024-07-15 15:51:58] [TRACE] [OmnipathR] Reading JSON from `C:/Users/biocbuild/bbs-3.20-bioc/R/library/OmnipathR/internal/urls.json` (encoding: UTF-8). [2024-07-15 15:51:58] [TRACE] [OmnipathR] JSON validation successful: TRUE [2024-07-15 15:51:58] [TRACE] [OmnipathR] Reading JSON from `C:/Users/biocbuild/bbs-3.20-bioc/R/library/OmnipathR/internal/id_types.json` (encoding: UTF-8). [2024-07-15 15:51:58] [TRACE] [OmnipathR] JSON validation successful: TRUE [2024-07-15 15:51:58] [TRACE] [OmnipathR] Cache locked: FALSE Note: wrong number of arguments to '/' ** help *** installing help indices ** building package indices ** installing vignettes ** testing if installed package can be loaded from temporary location [2024-07-15 15:52:03] [TRACE] [OmnipathR] Reading JSON from `C:\Users\biocbuild\AppData\Local\Cache\OmnipathR/cache.json` (encoding: UTF-8). [2024-07-15 15:52:03] [TRACE] [OmnipathR] JSON validation successful: TRUE [2024-07-15 15:52:03] [INFO] [OmnipathR] Initialized cache: `C:\Users\biocbuild\AppData\Local\Cache\OmnipathR`. [2024-07-15 15:52:03] [TRACE] [OmnipathR] Running on a build server, wiping cache. [2024-07-15 15:52:03] [TRACE] [OmnipathR] Cache is at `C:\Users\biocbuild\AppData\Local\Cache\OmnipathR`. [2024-07-15 15:52:03] [TRACE] [OmnipathR] Contains 1 files. [2024-07-15 15:52:03] [TRACE] [OmnipathR] Cache is locked: FALSE. [2024-07-15 15:52:03] [TRACE] [OmnipathR] Reading JSON from `C:\Users\biocbuild\AppData\Local\Cache\OmnipathR/cache.json` (encoding: UTF-8). [2024-07-15 15:52:03] [TRACE] [OmnipathR] JSON validation successful: TRUE [2024-07-15 15:52:03] [SUCCESS] [OmnipathR] Removing all cache contents from `C:\Users\biocbuild\AppData\Local\Cache\OmnipathR`. [2024-07-15 15:52:03] [TRACE] [OmnipathR] Pandoc version: `2.7.3`. [2024-07-15 15:52:03] [TRACE] [OmnipathR] Reading JSON from `C:/Users/biocbuild/bbs-3.20-bioc/R/library/OmnipathR/db/db_def.json` (encoding: UTF-8). [2024-07-15 15:52:03] [TRACE] [OmnipathR] JSON validation successful: TRUE [2024-07-15 15:52:03] [TRACE] [OmnipathR] Reading JSON from `C:/Users/biocbuild/bbs-3.20-bioc/R/library/OmnipathR/internal/magic_bytes.json` (encoding: UTF-8). [2024-07-15 15:52:03] [TRACE] [OmnipathR] JSON validation successful: TRUE [2024-07-15 15:52:03] [TRACE] [OmnipathR] Reading JSON from `C:/Users/biocbuild/bbs-3.20-bioc/R/library/OmnipathR/internal/urls.json` (encoding: UTF-8). [2024-07-15 15:52:03] [TRACE] [OmnipathR] JSON validation successful: TRUE [2024-07-15 15:52:03] [TRACE] [OmnipathR] Reading JSON from `C:/Users/biocbuild/bbs-3.20-bioc/R/library/OmnipathR/internal/id_types.json` (encoding: UTF-8). [2024-07-15 15:52:03] [TRACE] [OmnipathR] JSON validation successful: TRUE [2024-07-15 15:52:03] [TRACE] [OmnipathR] Cache locked: FALSE ** testing if installed package can be loaded from final location [2024-07-15 15:52:07] [TRACE] [OmnipathR] Reading JSON from `C:\Users\biocbuild\AppData\Local\Cache\OmnipathR/cache.json` (encoding: UTF-8). [2024-07-15 15:52:07] [TRACE] [OmnipathR] JSON validation successful: TRUE [2024-07-15 15:52:07] [INFO] [OmnipathR] Initialized cache: `C:\Users\biocbuild\AppData\Local\Cache\OmnipathR`. [2024-07-15 15:52:07] [TRACE] [OmnipathR] Running on a build server, wiping cache. [2024-07-15 15:52:07] [TRACE] [OmnipathR] Cache is at `C:\Users\biocbuild\AppData\Local\Cache\OmnipathR`. [2024-07-15 15:52:07] [TRACE] [OmnipathR] Contains 1 files. [2024-07-15 15:52:07] [TRACE] [OmnipathR] Cache is locked: FALSE. [2024-07-15 15:52:07] [TRACE] [OmnipathR] Reading JSON from `C:\Users\biocbuild\AppData\Local\Cache\OmnipathR/cache.json` (encoding: UTF-8). [2024-07-15 15:52:07] [TRACE] [OmnipathR] JSON validation successful: TRUE [2024-07-15 15:52:07] [SUCCESS] [OmnipathR] Removing all cache contents from `C:\Users\biocbuild\AppData\Local\Cache\OmnipathR`. [2024-07-15 15:52:07] [TRACE] [OmnipathR] Pandoc version: `2.7.3`. [2024-07-15 15:52:07] [TRACE] [OmnipathR] Reading JSON from `C:/Users/biocbuild/bbs-3.20-bioc/R/library/OmnipathR/db/db_def.json` (encoding: UTF-8). [2024-07-15 15:52:07] [TRACE] [OmnipathR] JSON validation successful: TRUE [2024-07-15 15:52:07] [TRACE] [OmnipathR] Reading JSON from `C:/Users/biocbuild/bbs-3.20-bioc/R/library/OmnipathR/internal/magic_bytes.json` (encoding: UTF-8). [2024-07-15 15:52:07] [TRACE] [OmnipathR] JSON validation successful: TRUE [2024-07-15 15:52:07] [TRACE] [OmnipathR] Reading JSON from `C:/Users/biocbuild/bbs-3.20-bioc/R/library/OmnipathR/internal/urls.json` (encoding: UTF-8). [2024-07-15 15:52:07] [TRACE] [OmnipathR] JSON validation successful: TRUE [2024-07-15 15:52:07] [TRACE] [OmnipathR] Reading JSON from `C:/Users/biocbuild/bbs-3.20-bioc/R/library/OmnipathR/internal/id_types.json` (encoding: UTF-8). [2024-07-15 15:52:07] [TRACE] [OmnipathR] JSON validation successful: TRUE [2024-07-15 15:52:07] [TRACE] [OmnipathR] Cache locked: FALSE ** testing if installed package keeps a record of temporary installation path * DONE (wppi)
wppi.Rcheck/wppi-Ex.timings
| name | user | system | elapsed | |
| common_neighbors | 7.20 | 0.42 | 10.55 | |
| count_genes | 7.77 | 1.13 | 8.08 | |
| filter_annot_with_network | 5.35 | 0.11 | 5.61 | |
| functional_annot | 1.47 | 1.31 | 3.18 | |
| graph_from_op | 2.63 | 0.06 | 2.69 | |
| in_omnipath | 3.81 | 0.04 | 3.89 | |
| prioritization_genes | 14.09 | 0.31 | 14.44 | |
| process_annot | 0.65 | 0.04 | 0.69 | |
| random_walk | 17.45 | 0.57 | 19.43 | |
| score_candidate_genes_from_PPI | 12.81 | 0.48 | 13.32 | |
| subgraph_op | 2.77 | 0.02 | 2.78 | |
| weighted_adj | 10.45 | 0.28 | 11.00 | |
| wppi | 27.73 | 1.15 | 29.20 | |
| wppi_data | 6.80 | 0.10 | 7.08 | |
| wppi_go_data | 2.20 | 0.08 | 2.28 | |
| wppi_hpo_data | 6.58 | 0.04 | 3.56 | |
| wppi_omnipath_data | 3.25 | 0.03 | 3.80 | |