| Back to Multiple platform build/check report for BioC 3.20: simplified long |
|
This page was generated on 2024-11-09 21:32 -0500 (Sat, 09 Nov 2024).
| Hostname | OS | Arch (*) | R version | Installed pkgs |
|---|---|---|---|---|
| teran2 | Linux (Ubuntu 24.04.1 LTS) | x86_64 | 4.4.1 (2024-06-14) -- "Race for Your Life" | 4505 |
| palomino8 | Windows Server 2022 Datacenter | x64 | 4.4.1 (2024-06-14 ucrt) -- "Race for Your Life" | 4506 |
| lconway | macOS 12.7.1 Monterey | x86_64 | 4.4.1 (2024-06-14) -- "Race for Your Life" | 4538 |
| kjohnson3 | macOS 13.6.5 Ventura | arm64 | 4.4.1 (2024-06-14) -- "Race for Your Life" | 4486 |
| kunpeng2 | Linux (openEuler 22.03 LTS-SP1) | aarch64 | 4.4.1 (2024-06-14) -- "Race for Your Life" | 4493 |
| Click on any hostname to see more info about the system (e.g. compilers) (*) as reported by 'uname -p', except on Windows and Mac OS X | ||||
| Package 2269/2289 | Hostname | OS / Arch | INSTALL | BUILD | CHECK | BUILD BIN | ||||||||
| wppi 1.14.0 (landing page) Ana Galhoz
| teran2 | Linux (Ubuntu 24.04.1 LTS) / x86_64 | OK | OK | OK | |||||||||
| palomino8 | Windows Server 2022 Datacenter / x64 | OK | OK | OK | OK | |||||||||
| lconway | macOS 12.7.1 Monterey / x86_64 | OK | OK | OK | OK | |||||||||
| kjohnson3 | macOS 13.6.5 Ventura / arm64 | OK | OK | OK | OK | |||||||||
| kunpeng2 | Linux (openEuler 22.03 LTS-SP1) / aarch64 | OK | OK | OK | ||||||||||
|
To the developers/maintainers of the wppi package: - Allow up to 24 hours (and sometimes 48 hours) for your latest push to git@git.bioconductor.org:packages/wppi.git to reflect on this report. See Troubleshooting Build Report for more information. - Use the following Renviron settings to reproduce errors and warnings. - If 'R CMD check' started to fail recently on the Linux builder(s) over a missing dependency, add the missing dependency to 'Suggests:' in your DESCRIPTION file. See Renviron.bioc for more information. |
| Package: wppi |
| Version: 1.14.0 |
| Command: /Library/Frameworks/R.framework/Resources/bin/R CMD check --install=check:wppi.install-out.txt --library=/Library/Frameworks/R.framework/Resources/library --no-vignettes --timings wppi_1.14.0.tar.gz |
| StartedAt: 2024-11-09 16:19:58 -0500 (Sat, 09 Nov 2024) |
| EndedAt: 2024-11-09 16:25:04 -0500 (Sat, 09 Nov 2024) |
| EllapsedTime: 306.0 seconds |
| RetCode: 0 |
| Status: OK |
| CheckDir: wppi.Rcheck |
| Warnings: 0 |
##############################################################################
##############################################################################
###
### Running command:
###
### /Library/Frameworks/R.framework/Resources/bin/R CMD check --install=check:wppi.install-out.txt --library=/Library/Frameworks/R.framework/Resources/library --no-vignettes --timings wppi_1.14.0.tar.gz
###
##############################################################################
##############################################################################
* using log directory ‘/Users/biocbuild/bbs-3.20-bioc/meat/wppi.Rcheck’
* using R version 4.4.1 (2024-06-14)
* using platform: aarch64-apple-darwin20
* R was compiled by
Apple clang version 14.0.0 (clang-1400.0.29.202)
GNU Fortran (GCC) 12.2.0
* running under: macOS Ventura 13.6.7
* using session charset: UTF-8
* using option ‘--no-vignettes’
* checking for file ‘wppi/DESCRIPTION’ ... OK
* checking extension type ... Package
* this is package ‘wppi’ version ‘1.14.0’
* package encoding: UTF-8
* checking package namespace information ... OK
* checking package dependencies ...Warning: unable to access index for repository https://CRAN.R-project.org/src/contrib:
cannot open URL 'https://CRAN.R-project.org/src/contrib/PACKAGES'
OK
* checking if this is a source package ... OK
* checking if there is a namespace ... OK
* checking for hidden files and directories ... OK
* checking for portable file names ... OK
* checking for sufficient/correct file permissions ... OK
* checking whether package ‘wppi’ can be installed ... OK
* checking installed package size ... OK
* checking package directory ... OK
* checking ‘build’ directory ... OK
* checking DESCRIPTION meta-information ... NOTE
License stub is invalid DCF.
* checking top-level files ... OK
* checking for left-over files ... OK
* checking index information ... OK
* checking package subdirectories ... OK
* checking code files for non-ASCII characters ... OK
* checking R files for syntax errors ... OK
* checking whether the package can be loaded ... OK
* checking whether the package can be loaded with stated dependencies ... OK
* checking whether the package can be unloaded cleanly ... OK
* checking whether the namespace can be loaded with stated dependencies ... OK
* checking whether the namespace can be unloaded cleanly ... OK
* checking whether startup messages can be suppressed ... NOTE
[2024-11-09 16:23:52] [TRACE] [OmnipathR] Reading JSON from `/Users/biocbuild/Library/Caches/OmnipathR/cache.json` (encoding: UTF-8).
[2024-11-09 16:23:52] [TRACE] [OmnipathR] JSON validation successful: TRUE
[2024-11-09 16:23:52] [INFO] [OmnipathR] Initialized cache: `/Users/biocbuild/Library/Caches/OmnipathR`.
[2024-11-09 16:23:52] [TRACE] [OmnipathR] Running on a build server, wiping cache.
[2024-11-09 16:23:52] [TRACE] [OmnipathR] Cache is at `/Users/biocbuild/Library/Caches/OmnipathR`.
[2024-11-09 16:23:52] [TRACE] [OmnipathR] Contains 1 files.
[2024-11-09 16:23:52] [TRACE] [OmnipathR] Cache is locked: FALSE.
[2024-11-09 16:23:52] [TRACE] [OmnipathR] Reading JSON from `/Users/biocbuild/Library/Caches/OmnipathR/cache.json` (encoding: UTF-8).
[2024-11-09 16:23:52] [TRACE] [OmnipathR] JSON validation successful: TRUE
[2024-11-09 16:23:52] [SUCCESS] [OmnipathR] Removing all cache contents from `/Users/biocbuild/Library/Caches/OmnipathR`.
[2024-11-09 16:23:52] [TRACE] [OmnipathR] Pandoc version: `3.1.12.3`.
[2024-11-09 16:23:52] [TRACE] [OmnipathR] Reading JSON from `/Library/Frameworks/R.framework/Versions/4.4-arm64/Resources/library/OmnipathR/db/db_def.json` (encoding: UTF-8).
[2024-11-09 16:23:52] [TRACE] [OmnipathR] JSON validation successful: TRUE
[2024-11-09 16:23:52] [TRACE] [OmnipathR] Reading JSON from `/Library/Frameworks/R.framework/Versions/4.4-arm64/Resources/library/OmnipathR/internal/magic_bytes.json` (encoding: UTF-8).
[2024-11-09 16:23:52] [TRACE] [OmnipathR] JSON validation successful: TRUE
[2024-11-09 16:23:52] [TRACE] [OmnipathR] Reading JSON from `/Library/Frameworks/R.framework/Versions/4.4-arm64/Resources/library/OmnipathR/internal/urls.json` (encoding: UTF-8).
[2024-11-09 16:23:52] [TRACE] [OmnipathR] JSON validation successful: TRUE
[2024-11-09 16:23:52] [TRACE] [OmnipathR] Reading JSON from `/Library/Frameworks/R.framework/Versions/4.4-arm64/Resources/library/OmnipathR/internal/id_types.json` (encoding: UTF-8).
[2024-11-09 16:23:52] [TRACE] [OmnipathR] JSON validation successful: TRUE
[2024-11-09 16:23:52] [TRACE] [OmnipathR] Cache locked: FALSE
It looks like this package (or a package it requires) has a startup
message which cannot be suppressed: see ?packageStartupMessage.
* checking dependencies in R code ... OK
* checking S3 generic/method consistency ... OK
* checking replacement functions ... OK
* checking foreign function calls ... OK
* checking R code for possible problems ... NOTE
[2024-11-09 16:23:57] [TRACE] [OmnipathR] Reading JSON from `/Users/biocbuild/Library/Caches/OmnipathR/cache.json` (encoding: UTF-8).
[2024-11-09 16:23:57] [TRACE] [OmnipathR] JSON validation successful: TRUE
[2024-11-09 16:23:57] [INFO] [OmnipathR] Initialized cache: `/Users/biocbuild/Library/Caches/OmnipathR`.
[2024-11-09 16:23:57] [TRACE] [OmnipathR] Running on a build server, wiping cache.
[2024-11-09 16:23:57] [TRACE] [OmnipathR] Cache is at `/Users/biocbuild/Library/Caches/OmnipathR`.
[2024-11-09 16:23:57] [TRACE] [OmnipathR] Contains 1 files.
[2024-11-09 16:23:57] [TRACE] [OmnipathR] Cache is locked: FALSE.
[2024-11-09 16:23:57] [TRACE] [OmnipathR] Reading JSON from `/Users/biocbuild/Library/Caches/OmnipathR/cache.json` (encoding: UTF-8).
[2024-11-09 16:23:57] [TRACE] [OmnipathR] JSON validation successful: TRUE
[2024-11-09 16:23:57] [SUCCESS] [OmnipathR] Removing all cache contents from `/Users/biocbuild/Library/Caches/OmnipathR`.
[2024-11-09 16:23:58] [TRACE] [OmnipathR] Pandoc version: `3.1.12.3`.
[2024-11-09 16:23:58] [TRACE] [OmnipathR] Reading JSON from `/Library/Frameworks/R.framework/Versions/4.4-arm64/Resources/library/OmnipathR/db/db_def.json` (encoding: UTF-8).
[2024-11-09 16:23:58] [TRACE] [OmnipathR] JSON validation successful: TRUE
[2024-11-09 16:23:58] [TRACE] [OmnipathR] Reading JSON from `/Library/Frameworks/R.framework/Versions/4.4-arm64/Resources/library/OmnipathR/internal/magic_bytes.json` (encoding: UTF-8).
[2024-11-09 16:23:58] [TRACE] [OmnipathR] JSON validation successful: TRUE
[2024-11-09 16:23:58] [TRACE] [OmnipathR] Reading JSON from `/Library/Frameworks/R.framework/Versions/4.4-arm64/Resources/library/OmnipathR/internal/urls.json` (encoding: UTF-8).
[2024-11-09 16:23:58] [TRACE] [OmnipathR] JSON validation successful: TRUE
[2024-11-09 16:23:58] [TRACE] [OmnipathR] Reading JSON from `/Library/Frameworks/R.framework/Versions/4.4-arm64/Resources/library/OmnipathR/internal/id_types.json` (encoding: UTF-8).
[2024-11-09 16:23:58] [TRACE] [OmnipathR] JSON validation successful: TRUE
[2024-11-09 16:23:58] [TRACE] [OmnipathR] Cache locked: FALSE
* checking Rd files ... OK
* checking Rd metadata ... OK
* checking Rd cross-references ... OK
* checking for missing documentation entries ... OK
* checking for code/documentation mismatches ... OK
* checking Rd \usage sections ... OK
* checking Rd contents ... OK
* checking for unstated dependencies in examples ... OK
* checking files in ‘vignettes’ ... OK
* checking examples ... OK
Examples with CPU (user + system) or elapsed time > 5s
user system elapsed
wppi 10.058 0.199 10.257
score_candidate_genes_from_PPI 4.956 0.095 5.050
common_neighbors 2.140 0.094 7.305
* checking for unstated dependencies in vignettes ... OK
* checking package vignettes ... OK
* checking running R code from vignettes ... SKIPPED
* checking re-building of vignette outputs ... SKIPPED
* checking PDF version of manual ... OK
* DONE
Status: 3 NOTEs
See
‘/Users/biocbuild/bbs-3.20-bioc/meat/wppi.Rcheck/00check.log’
for details.
wppi.Rcheck/00install.out
############################################################################## ############################################################################## ### ### Running command: ### ### /Library/Frameworks/R.framework/Resources/bin/R CMD INSTALL wppi ### ############################################################################## ############################################################################## * installing to library ‘/Library/Frameworks/R.framework/Versions/4.4-arm64/Resources/library’ * installing *source* package ‘wppi’ ... ** using staged installation ** R ** byte-compile and prepare package for lazy loading [2024-11-08 15:35:02] [TRACE] [OmnipathR] Reading JSON from `/Users/biocbuild/Library/Caches/OmnipathR/cache.json` (encoding: UTF-8). [2024-11-08 15:35:02] [TRACE] [OmnipathR] JSON validation successful: TRUE [2024-11-08 15:35:02] [INFO] [OmnipathR] Initialized cache: `/Users/biocbuild/Library/Caches/OmnipathR`. [2024-11-08 15:35:02] [TRACE] [OmnipathR] Running on a build server, wiping cache. [2024-11-08 15:35:02] [TRACE] [OmnipathR] Cache is at `/Users/biocbuild/Library/Caches/OmnipathR`. [2024-11-08 15:35:02] [TRACE] [OmnipathR] Contains 1 files. [2024-11-08 15:35:02] [TRACE] [OmnipathR] Cache is locked: FALSE. [2024-11-08 15:35:02] [TRACE] [OmnipathR] Reading JSON from `/Users/biocbuild/Library/Caches/OmnipathR/cache.json` (encoding: UTF-8). [2024-11-08 15:35:02] [TRACE] [OmnipathR] JSON validation successful: TRUE [2024-11-08 15:35:02] [SUCCESS] [OmnipathR] Removing all cache contents from `/Users/biocbuild/Library/Caches/OmnipathR`. [2024-11-08 15:35:02] [TRACE] [OmnipathR] Pandoc version: `3.1.12.3`. [2024-11-08 15:35:02] [TRACE] [OmnipathR] Reading JSON from `/Library/Frameworks/R.framework/Versions/4.4-arm64/Resources/library/OmnipathR/db/db_def.json` (encoding: UTF-8). [2024-11-08 15:35:02] [TRACE] [OmnipathR] JSON validation successful: TRUE [2024-11-08 15:35:02] [TRACE] [OmnipathR] Reading JSON from `/Library/Frameworks/R.framework/Versions/4.4-arm64/Resources/library/OmnipathR/internal/magic_bytes.json` (encoding: UTF-8). [2024-11-08 15:35:02] [TRACE] [OmnipathR] JSON validation successful: TRUE [2024-11-08 15:35:02] [TRACE] [OmnipathR] Reading JSON from `/Library/Frameworks/R.framework/Versions/4.4-arm64/Resources/library/OmnipathR/internal/urls.json` (encoding: UTF-8). [2024-11-08 15:35:02] [TRACE] [OmnipathR] JSON validation successful: TRUE [2024-11-08 15:35:02] [TRACE] [OmnipathR] Reading JSON from `/Library/Frameworks/R.framework/Versions/4.4-arm64/Resources/library/OmnipathR/internal/id_types.json` (encoding: UTF-8). [2024-11-08 15:35:02] [TRACE] [OmnipathR] JSON validation successful: TRUE [2024-11-08 15:35:02] [TRACE] [OmnipathR] Cache locked: FALSE Note: wrong number of arguments to '/' ** help *** installing help indices ** building package indices ** installing vignettes ** testing if installed package can be loaded from temporary location [2024-11-08 15:35:04] [TRACE] [OmnipathR] Reading JSON from `/Users/biocbuild/Library/Caches/OmnipathR/cache.json` (encoding: UTF-8). [2024-11-08 15:35:04] [TRACE] [OmnipathR] JSON validation successful: TRUE [2024-11-08 15:35:04] [INFO] [OmnipathR] Initialized cache: `/Users/biocbuild/Library/Caches/OmnipathR`. [2024-11-08 15:35:04] [TRACE] [OmnipathR] Running on a build server, wiping cache. [2024-11-08 15:35:04] [TRACE] [OmnipathR] Cache is at `/Users/biocbuild/Library/Caches/OmnipathR`. [2024-11-08 15:35:04] [TRACE] [OmnipathR] Contains 1 files. [2024-11-08 15:35:04] [TRACE] [OmnipathR] Cache is locked: FALSE. [2024-11-08 15:35:04] [TRACE] [OmnipathR] Reading JSON from `/Users/biocbuild/Library/Caches/OmnipathR/cache.json` (encoding: UTF-8). [2024-11-08 15:35:04] [TRACE] [OmnipathR] JSON validation successful: TRUE [2024-11-08 15:35:04] [SUCCESS] [OmnipathR] Removing all cache contents from `/Users/biocbuild/Library/Caches/OmnipathR`. [2024-11-08 15:35:04] [TRACE] [OmnipathR] Pandoc version: `3.1.12.3`. [2024-11-08 15:35:04] [TRACE] [OmnipathR] Reading JSON from `/Library/Frameworks/R.framework/Versions/4.4-arm64/Resources/library/OmnipathR/db/db_def.json` (encoding: UTF-8). [2024-11-08 15:35:04] [TRACE] [OmnipathR] JSON validation successful: TRUE [2024-11-08 15:35:04] [TRACE] [OmnipathR] Reading JSON from `/Library/Frameworks/R.framework/Versions/4.4-arm64/Resources/library/OmnipathR/internal/magic_bytes.json` (encoding: UTF-8). [2024-11-08 15:35:04] [TRACE] [OmnipathR] JSON validation successful: TRUE [2024-11-08 15:35:04] [TRACE] [OmnipathR] Reading JSON from `/Library/Frameworks/R.framework/Versions/4.4-arm64/Resources/library/OmnipathR/internal/urls.json` (encoding: UTF-8). [2024-11-08 15:35:04] [TRACE] [OmnipathR] JSON validation successful: TRUE [2024-11-08 15:35:04] [TRACE] [OmnipathR] Reading JSON from `/Library/Frameworks/R.framework/Versions/4.4-arm64/Resources/library/OmnipathR/internal/id_types.json` (encoding: UTF-8). [2024-11-08 15:35:04] [TRACE] [OmnipathR] JSON validation successful: TRUE [2024-11-08 15:35:04] [TRACE] [OmnipathR] Cache locked: FALSE ** testing if installed package can be loaded from final location [2024-11-08 15:35:05] [TRACE] [OmnipathR] Reading JSON from `/Users/biocbuild/Library/Caches/OmnipathR/cache.json` (encoding: UTF-8). [2024-11-08 15:35:05] [TRACE] [OmnipathR] JSON validation successful: TRUE [2024-11-08 15:35:05] [INFO] [OmnipathR] Initialized cache: `/Users/biocbuild/Library/Caches/OmnipathR`. [2024-11-08 15:35:05] [TRACE] [OmnipathR] Running on a build server, wiping cache. [2024-11-08 15:35:05] [TRACE] [OmnipathR] Cache is at `/Users/biocbuild/Library/Caches/OmnipathR`. [2024-11-08 15:35:05] [TRACE] [OmnipathR] Contains 1 files. [2024-11-08 15:35:05] [TRACE] [OmnipathR] Cache is locked: FALSE. [2024-11-08 15:35:05] [TRACE] [OmnipathR] Reading JSON from `/Users/biocbuild/Library/Caches/OmnipathR/cache.json` (encoding: UTF-8). [2024-11-08 15:35:05] [TRACE] [OmnipathR] JSON validation successful: TRUE [2024-11-08 15:35:05] [SUCCESS] [OmnipathR] Removing all cache contents from `/Users/biocbuild/Library/Caches/OmnipathR`. [2024-11-08 15:35:05] [TRACE] [OmnipathR] Pandoc version: `3.1.12.3`. [2024-11-08 15:35:05] [TRACE] [OmnipathR] Reading JSON from `/Library/Frameworks/R.framework/Versions/4.4-arm64/Resources/library/OmnipathR/db/db_def.json` (encoding: UTF-8). [2024-11-08 15:35:05] [TRACE] [OmnipathR] JSON validation successful: TRUE [2024-11-08 15:35:05] [TRACE] [OmnipathR] Reading JSON from `/Library/Frameworks/R.framework/Versions/4.4-arm64/Resources/library/OmnipathR/internal/magic_bytes.json` (encoding: UTF-8). [2024-11-08 15:35:05] [TRACE] [OmnipathR] JSON validation successful: TRUE [2024-11-08 15:35:05] [TRACE] [OmnipathR] Reading JSON from `/Library/Frameworks/R.framework/Versions/4.4-arm64/Resources/library/OmnipathR/internal/urls.json` (encoding: UTF-8). [2024-11-08 15:35:05] [TRACE] [OmnipathR] JSON validation successful: TRUE [2024-11-08 15:35:05] [TRACE] [OmnipathR] Reading JSON from `/Library/Frameworks/R.framework/Versions/4.4-arm64/Resources/library/OmnipathR/internal/id_types.json` (encoding: UTF-8). [2024-11-08 15:35:05] [TRACE] [OmnipathR] JSON validation successful: TRUE [2024-11-08 15:35:05] [TRACE] [OmnipathR] Cache locked: FALSE ** testing if installed package keeps a record of temporary installation path * DONE (wppi)
wppi.Rcheck/wppi-Ex.timings
| name | user | system | elapsed | |
| common_neighbors | 2.140 | 0.094 | 7.305 | |
| count_genes | 4.230 | 0.182 | 4.545 | |
| filter_annot_with_network | 2.639 | 0.045 | 2.686 | |
| functional_annot | 0.847 | 0.056 | 1.327 | |
| graph_from_op | 1.119 | 0.023 | 1.142 | |
| in_omnipath | 1.118 | 0.020 | 1.138 | |
| prioritization_genes | 4.771 | 0.086 | 4.857 | |
| process_annot | 0.325 | 0.025 | 0.351 | |
| random_walk | 4.717 | 0.114 | 4.830 | |
| score_candidate_genes_from_PPI | 4.956 | 0.095 | 5.050 | |
| subgraph_op | 1.008 | 0.012 | 1.020 | |
| weighted_adj | 4.105 | 0.089 | 4.194 | |
| wppi | 10.058 | 0.199 | 10.257 | |
| wppi_data | 2.853 | 0.046 | 2.899 | |
| wppi_go_data | 1.403 | 0.019 | 1.421 | |
| wppi_hpo_data | 0.278 | 0.005 | 0.284 | |
| wppi_omnipath_data | 1.129 | 0.007 | 1.136 | |