| Back to Multiple platform build/check report for BioC 3.20: simplified long | 
 | 
This page was generated on 2024-07-16 11:41 -0400 (Tue, 16 Jul 2024).
| Hostname | OS | Arch (*) | R version | Installed pkgs | 
|---|---|---|---|---|
| nebbiolo2 | Linux (Ubuntu 22.04.3 LTS) | x86_64 | 4.4.1 (2024-06-14) -- "Race for Your Life" | 4677 | 
| palomino6 | Windows Server 2022 Datacenter | x64 | 4.4.1 (2024-06-14 ucrt) -- "Race for Your Life" | 4416 | 
| lconway | macOS 12.7.1 Monterey | x86_64 | 4.4.1 (2024-06-14) -- "Race for Your Life" | 4444 | 
| kjohnson3 | macOS 13.6.5 Ventura | arm64 | 4.4.1 (2024-06-14) -- "Race for Your Life" | 4393 | 
| palomino8 | Windows Server 2022 Datacenter | x64 | 4.4.1 (2024-06-14 ucrt) -- "Race for Your Life" | 4373 | 
| Click on any hostname to see more info about the system (e.g. compilers) (*) as reported by 'uname -p', except on Windows and Mac OS X | ||||
| Package 2153/2243 | Hostname | OS / Arch | INSTALL | BUILD | CHECK | BUILD BIN | ||||||||
| trio 3.43.0  (landing page) Holger Schwender 
 | nebbiolo2 | Linux (Ubuntu 22.04.3 LTS) / x86_64 | OK | OK | OK |  | ||||||||
| palomino6 | Windows Server 2022 Datacenter / x64 | OK | OK | OK | OK | |||||||||
| lconway | macOS 12.7.1 Monterey / x86_64 | OK | OK | OK | OK |  | ||||||||
| kjohnson3 | macOS 13.6.5 Ventura / arm64 | OK | OK | OK | OK |  | ||||||||
| palomino8 | Windows Server 2022 Datacenter / x64 | OK | OK | OK | OK | |||||||||
| To the developers/maintainers of the trio package: - Allow up to 24 hours (and sometimes 48 hours) for your latest push to git@git.bioconductor.org:packages/trio.git to reflect on this report. See Troubleshooting Build Report for more information. - Use the following Renviron settings to reproduce errors and warnings. - If 'R CMD check' started to fail recently on the Linux builder(s) over a missing dependency, add the missing dependency to 'Suggests:' in your DESCRIPTION file. See Renviron.bioc for more information. | 
| Package: trio | 
| Version: 3.43.0 | 
| Command: C:\Users\biocbuild\bbs-3.20-bioc\R\bin\R.exe CMD check --no-multiarch --install=check:trio.install-out.txt --library=C:\Users\biocbuild\bbs-3.20-bioc\R\library --no-vignettes --timings trio_3.43.0.tar.gz | 
| StartedAt: 2024-07-16 05:14:54 -0400 (Tue, 16 Jul 2024) | 
| EndedAt: 2024-07-16 05:17:37 -0400 (Tue, 16 Jul 2024) | 
| EllapsedTime: 163.0 seconds | 
| RetCode: 0 | 
| Status: OK | 
| CheckDir: trio.Rcheck | 
| Warnings: 0 | 
##############################################################################
##############################################################################
###
### Running command:
###
###   C:\Users\biocbuild\bbs-3.20-bioc\R\bin\R.exe CMD check --no-multiarch --install=check:trio.install-out.txt --library=C:\Users\biocbuild\bbs-3.20-bioc\R\library --no-vignettes --timings trio_3.43.0.tar.gz
###
##############################################################################
##############################################################################
* using log directory 'C:/Users/biocbuild/bbs-3.20-bioc/meat/trio.Rcheck'
* using R version 4.4.1 (2024-06-14 ucrt)
* using platform: x86_64-w64-mingw32
* R was compiled by
    gcc.exe (GCC) 13.2.0
    GNU Fortran (GCC) 13.2.0
* running under: Windows Server 2022 x64 (build 20348)
* using session charset: UTF-8
* using option '--no-vignettes'
* checking for file 'trio/DESCRIPTION' ... OK
* checking extension type ... Package
* this is package 'trio' version '3.43.0'
* checking package namespace information ... OK
* checking package dependencies ... OK
* checking if this is a source package ... OK
* checking if there is a namespace ... OK
* checking for hidden files and directories ... OK
* checking for portable file names ... OK
* checking whether package 'trio' can be installed ... OK
* checking installed package size ... OK
* checking package directory ... OK
* checking 'build' directory ... OK
* checking DESCRIPTION meta-information ... OK
* checking top-level files ... OK
* checking for left-over files ... OK
* checking index information ... OK
* checking package subdirectories ... OK
* checking code files for non-ASCII characters ... OK
* checking R files for syntax errors ... OK
* checking whether the package can be loaded ... OK
* checking whether the package can be loaded with stated dependencies ... OK
* checking whether the package can be unloaded cleanly ... OK
* checking whether the namespace can be loaded with stated dependencies ... OK
* checking whether the namespace can be unloaded cleanly ... OK
* checking whether startup messages can be suppressed ... OK
* checking dependencies in R code ... OK
* checking S3 generic/method consistency ... OK
* checking replacement functions ... OK
* checking foreign function calls ... NOTE
Foreign function call to a different package:
  .C("clogreg", ..., PACKAGE = "LogicReg")
See chapter 'System and foreign language interfaces' in the 'Writing R
Extensions' manual.
* checking R code for possible problems ... NOTE
.onAttach: no visible global function definition for 'winMenuAdd'
.onAttach: no visible global function definition for 'winMenuAddItem'
Undefined global functions or variables:
  winMenuAdd winMenuAddItem
Consider adding
  importFrom("utils", "winMenuAdd", "winMenuAddItem")
to your NAMESPACE file.
* checking Rd files ... OK
* checking Rd metadata ... OK
* checking Rd cross-references ... OK
* checking for missing documentation entries ... OK
* checking for code/documentation mismatches ... OK
* checking Rd \usage sections ... OK
* checking Rd contents ... OK
* checking for unstated dependencies in examples ... OK
* checking contents of 'data' directory ... OK
* checking data for non-ASCII characters ... OK
* checking data for ASCII and uncompressed saves ... OK
* checking sizes of PDF files under 'inst/doc' ... OK
* checking installed files from 'inst/doc' ... OK
* checking files in 'vignettes' ... OK
* checking examples ... OK
Examples with CPU (user + system) or elapsed time > 5s
              user system elapsed
print.trioFS  8.75   1.34   11.58
trio.permTest 7.69   0.17    7.66
trioFS        6.36   0.12    6.48
* checking for unstated dependencies in vignettes ... OK
* checking package vignettes ... OK
* checking running R code from vignettes ... SKIPPED
* checking re-building of vignette outputs ... SKIPPED
* checking PDF version of manual ... OK
* DONE
Status: 2 NOTEs
See
  'C:/Users/biocbuild/bbs-3.20-bioc/meat/trio.Rcheck/00check.log'
for details.
trio.Rcheck/00install.out
############################################################################## ############################################################################## ### ### Running command: ### ### C:\Users\biocbuild\bbs-3.20-bioc\R\bin\R.exe CMD INSTALL trio ### ############################################################################## ############################################################################## * installing to library 'C:/Users/biocbuild/bbs-3.20-bioc/R/library' * installing *source* package 'trio' ... ** using staged installation ** R ** data ** inst ** byte-compile and prepare package for lazy loading ** help *** installing help indices ** building package indices ** installing vignettes ** testing if installed package can be loaded from temporary location ** testing if installed package can be loaded from final location ** testing if installed package keeps a record of temporary installation path * DONE (trio)
trio.Rcheck/trio-Ex.timings
| name | user | system | elapsed | |
| allelicTDT | 0.02 | 0.00 | 0.02 | |
| colEMlrt | 0.06 | 0.00 | 0.06 | |
| colGxE | 0.02 | 0.00 | 0.01 | |
| colGxGPerms | 3.48 | 0.30 | 3.78 | |
| colPOlrt | 0.03 | 0.00 | 0.03 | |
| colTDTmaxTest | 0.06 | 0.00 | 0.07 | |
| colTDTsam | 0.03 | 0.02 | 0.04 | |
| findLDblocks | 0.02 | 0.00 | 0.02 | |
| getLD | 0.00 | 0.01 | 0.01 | |
| getMatPseudo | 0.02 | 0.00 | 0.02 | |
| lrControl | 0 | 0 | 0 | |
| ped2geno | 0 | 0 | 0 | |
| plot.LDblocks | 0.06 | 0.00 | 0.06 | |
| plot.getLD | 0.03 | 0.00 | 0.03 | |
| plot.trioLR | 3.78 | 0.22 | 4.02 | |
| poly4root | 0 | 0 | 0 | |
| print.colGxE | 0.03 | 0.00 | 0.03 | |
| print.trioFS | 8.75 | 1.34 | 11.58 | |
| print.trioLR | 2.00 | 0.00 | 2.03 | |
| probTDT | 0.06 | 0.00 | 0.06 | |
| read.pedfile | 0 | 0 | 0 | |
| removeSNPs | 0.02 | 0.00 | 0.02 | |
| scoreTDT | 0 | 0 | 0 | |
| tdt | 0.03 | 0.00 | 0.03 | |
| tdtGxG | 0.99 | 0.00 | 1.00 | |
| trio.check | 0.53 | 0.00 | 0.53 | |
| trio.data | 0.01 | 0.00 | 0.01 | |
| trio.permTest | 7.69 | 0.17 | 7.66 | |
| trio.power | 0 | 0 | 0 | |
| trio.prepare | 1.69 | 0.08 | 1.76 | |
| trio.sim | 0.34 | 0.00 | 0.35 | |
| trioFS | 6.36 | 0.12 | 6.48 | |
| trioLR | 1.88 | 0.09 | 1.97 | |