| Back to Multiple platform build/check report for BioC 3.20: simplified long |
|
This page was generated on 2025-04-02 19:29 -0400 (Wed, 02 Apr 2025).
| Hostname | OS | Arch (*) | R version | Installed pkgs |
|---|---|---|---|---|
| nebbiolo2 | Linux (Ubuntu 24.04.1 LTS) | x86_64 | 4.4.3 (2025-02-28) -- "Trophy Case" | 4764 |
| palomino8 | Windows Server 2022 Datacenter | x64 | 4.4.3 (2025-02-28 ucrt) -- "Trophy Case" | 4495 |
| merida1 | macOS 12.7.5 Monterey | x86_64 | 4.4.3 (2025-02-28) -- "Trophy Case" | 4522 |
| kjohnson1 | macOS 13.6.6 Ventura | arm64 | 4.4.3 (2025-02-28) -- "Trophy Case" | 4449 |
| taishan | Linux (openEuler 24.03 LTS) | aarch64 | 4.4.3 (2025-02-28) -- "Trophy Case" | 4426 |
| Click on any hostname to see more info about the system (e.g. compilers) (*) as reported by 'uname -p', except on Windows and Mac OS X | ||||
| Package 2198/2289 | Hostname | OS / Arch | INSTALL | BUILD | CHECK | BUILD BIN | ||||||||
| trio 3.44.0 (landing page) Holger Schwender
| nebbiolo2 | Linux (Ubuntu 24.04.1 LTS) / x86_64 | OK | OK | OK | |||||||||
| palomino8 | Windows Server 2022 Datacenter / x64 | OK | OK | OK | OK | |||||||||
| merida1 | macOS 12.7.5 Monterey / x86_64 | OK | OK | OK | OK | |||||||||
| kjohnson1 | macOS 13.6.6 Ventura / arm64 | OK | OK | OK | OK | |||||||||
| taishan | Linux (openEuler 24.03 LTS) / aarch64 | OK | OK | OK | ||||||||||
|
To the developers/maintainers of the trio package: - Allow up to 24 hours (and sometimes 48 hours) for your latest push to git@git.bioconductor.org:packages/trio.git to reflect on this report. See Troubleshooting Build Report for more information. - Use the following Renviron settings to reproduce errors and warnings. - If 'R CMD check' started to fail recently on the Linux builder(s) over a missing dependency, add the missing dependency to 'Suggests:' in your DESCRIPTION file. See Renviron.bioc for more information. |
| Package: trio |
| Version: 3.44.0 |
| Command: /home/biocbuild/bbs-3.20-bioc/R/bin/R CMD check --install=check:trio.install-out.txt --library=/home/biocbuild/bbs-3.20-bioc/R/site-library --timings trio_3.44.0.tar.gz |
| StartedAt: 2025-04-01 03:07:33 -0400 (Tue, 01 Apr 2025) |
| EndedAt: 2025-04-01 03:10:01 -0400 (Tue, 01 Apr 2025) |
| EllapsedTime: 148.2 seconds |
| RetCode: 0 |
| Status: OK |
| CheckDir: trio.Rcheck |
| Warnings: 0 |
##############################################################################
##############################################################################
###
### Running command:
###
### /home/biocbuild/bbs-3.20-bioc/R/bin/R CMD check --install=check:trio.install-out.txt --library=/home/biocbuild/bbs-3.20-bioc/R/site-library --timings trio_3.44.0.tar.gz
###
##############################################################################
##############################################################################
* using log directory ‘/home/biocbuild/bbs-3.20-bioc/meat/trio.Rcheck’
* using R version 4.4.3 (2025-02-28)
* using platform: x86_64-pc-linux-gnu
* R was compiled by
gcc (Ubuntu 13.3.0-6ubuntu2~24.04) 13.3.0
GNU Fortran (Ubuntu 13.3.0-6ubuntu2~24.04) 13.3.0
* running under: Ubuntu 24.04.2 LTS
* using session charset: UTF-8
* checking for file ‘trio/DESCRIPTION’ ... OK
* checking extension type ... Package
* this is package ‘trio’ version ‘3.44.0’
* checking package namespace information ... OK
* checking package dependencies ... OK
* checking if this is a source package ... OK
* checking if there is a namespace ... OK
* checking for hidden files and directories ... OK
* checking for portable file names ... OK
* checking for sufficient/correct file permissions ... OK
* checking whether package ‘trio’ can be installed ... OK
* checking installed package size ... OK
* checking package directory ... OK
* checking ‘build’ directory ... OK
* checking DESCRIPTION meta-information ... OK
* checking top-level files ... OK
* checking for left-over files ... OK
* checking index information ... OK
* checking package subdirectories ... OK
* checking code files for non-ASCII characters ... OK
* checking R files for syntax errors ... OK
* checking whether the package can be loaded ... OK
* checking whether the package can be loaded with stated dependencies ... OK
* checking whether the package can be unloaded cleanly ... OK
* checking whether the namespace can be loaded with stated dependencies ... OK
* checking whether the namespace can be unloaded cleanly ... OK
* checking loading without being on the library search path ... OK
* checking whether startup messages can be suppressed ... OK
* checking dependencies in R code ... OK
* checking S3 generic/method consistency ... OK
* checking replacement functions ... OK
* checking foreign function calls ... NOTE
Foreign function call to a different package:
.C("clogreg", ..., PACKAGE = "LogicReg")
See chapter ‘System and foreign language interfaces’ in the ‘Writing R
Extensions’ manual.
* checking R code for possible problems ... OK
* checking Rd files ... OK
* checking Rd metadata ... OK
* checking Rd cross-references ... OK
* checking for missing documentation entries ... OK
* checking for code/documentation mismatches ... OK
* checking Rd \usage sections ... OK
* checking Rd contents ... OK
* checking for unstated dependencies in examples ... OK
* checking contents of ‘data’ directory ... OK
* checking data for non-ASCII characters ... OK
* checking data for ASCII and uncompressed saves ... OK
* checking installed files from ‘inst/doc’ ... OK
* checking files in ‘vignettes’ ... OK
* checking examples ... OK
* checking for unstated dependencies in vignettes ... OK
* checking package vignettes ... OK
* checking re-building of vignette outputs ... OK
* checking PDF version of manual ... OK
* DONE
Status: 1 NOTE
See
‘/home/biocbuild/bbs-3.20-bioc/meat/trio.Rcheck/00check.log’
for details.
trio.Rcheck/00install.out
############################################################################## ############################################################################## ### ### Running command: ### ### /home/biocbuild/bbs-3.20-bioc/R/bin/R CMD INSTALL trio ### ############################################################################## ############################################################################## * installing to library ‘/home/biocbuild/bbs-3.20-bioc/R/site-library’ * installing *source* package ‘trio’ ... ** using staged installation ** R ** data ** inst ** byte-compile and prepare package for lazy loading ** help *** installing help indices ** building package indices ** installing vignettes ** testing if installed package can be loaded from temporary location ** testing if installed package can be loaded from final location ** testing if installed package keeps a record of temporary installation path * DONE (trio)
trio.Rcheck/trio-Ex.timings
| name | user | system | elapsed | |
| allelicTDT | 0.021 | 0.003 | 0.023 | |
| colEMlrt | 0.076 | 0.000 | 0.075 | |
| colGxE | 0.007 | 0.000 | 0.007 | |
| colGxGPerms | 3.853 | 0.025 | 3.877 | |
| colPOlrt | 0.014 | 0.000 | 0.014 | |
| colTDTmaxTest | 0.037 | 0.001 | 0.039 | |
| colTDTsam | 0.030 | 0.000 | 0.031 | |
| findLDblocks | 0.184 | 0.000 | 0.183 | |
| getLD | 0.014 | 0.000 | 0.014 | |
| getMatPseudo | 0.007 | 0.000 | 0.007 | |
| lrControl | 0 | 0 | 0 | |
| ped2geno | 0 | 0 | 0 | |
| plot.LDblocks | 0.048 | 0.000 | 0.049 | |
| plot.getLD | 0.025 | 0.001 | 0.026 | |
| plot.trioLR | 2.962 | 0.071 | 3.035 | |
| poly4root | 0.001 | 0.000 | 0.001 | |
| print.colGxE | 0.045 | 0.001 | 0.046 | |
| print.trioFS | 4.769 | 0.098 | 4.867 | |
| print.trioLR | 2.092 | 0.001 | 2.093 | |
| probTDT | 0.026 | 0.003 | 0.029 | |
| read.pedfile | 0 | 0 | 0 | |
| removeSNPs | 0.004 | 0.001 | 0.005 | |
| scoreTDT | 0.009 | 0.000 | 0.009 | |
| tdt | 0.017 | 0.001 | 0.017 | |
| tdtGxG | 1.064 | 0.000 | 1.064 | |
| trio.check | 0.608 | 0.001 | 0.609 | |
| trio.data | 0.005 | 0.000 | 0.005 | |
| trio.permTest | 4.528 | 0.132 | 4.660 | |
| trio.power | 0.008 | 0.002 | 0.010 | |
| trio.prepare | 1.933 | 0.043 | 1.976 | |
| trio.sim | 0.313 | 0.018 | 0.330 | |
| trioFS | 4.530 | 0.092 | 4.622 | |
| trioLR | 1.988 | 0.007 | 1.996 | |