| Back to Multiple platform build/check report for BioC 3.20: simplified long | 
 | 
This page was generated on 2025-04-02 19:36 -0400 (Wed, 02 Apr 2025).
| Hostname | OS | Arch (*) | R version | Installed pkgs | 
|---|---|---|---|---|
| nebbiolo2 | Linux (Ubuntu 24.04.1 LTS) | x86_64 | 4.4.3 (2025-02-28) -- "Trophy Case" | 4764 | 
| palomino8 | Windows Server 2022 Datacenter | x64 | 4.4.3 (2025-02-28 ucrt) -- "Trophy Case" | 4495 | 
| merida1 | macOS 12.7.5 Monterey | x86_64 | 4.4.3 (2025-02-28) -- "Trophy Case" | 4522 | 
| kjohnson1 | macOS 13.6.6 Ventura | arm64 | 4.4.3 (2025-02-28) -- "Trophy Case" | 4449 | 
| taishan | Linux (openEuler 24.03 LTS) | aarch64 | 4.4.3 (2025-02-28) -- "Trophy Case" | 4426 | 
| Click on any hostname to see more info about the system (e.g. compilers) (*) as reported by 'uname -p', except on Windows and Mac OS X | ||||
| Package 2158/2289 | Hostname | OS / Arch | INSTALL | BUILD | CHECK | BUILD BIN | ||||||||
| tLOH 1.14.0  (landing page) Michelle Webb 
 | nebbiolo2 | Linux (Ubuntu 24.04.1 LTS) / x86_64 | OK | OK | OK |  | ||||||||
| palomino8 | Windows Server 2022 Datacenter / x64 | OK | OK | OK | OK |  | ||||||||
| merida1 | macOS 12.7.5 Monterey / x86_64 | OK | OK | OK | OK |  | ||||||||
| kjohnson1 | macOS 13.6.6 Ventura / arm64 | OK | OK | OK | OK |  | ||||||||
| taishan | Linux (openEuler 24.03 LTS) / aarch64 | OK | OK | OK | ||||||||||
| To the developers/maintainers of the tLOH package: - Allow up to 24 hours (and sometimes 48 hours) for your latest push to git@git.bioconductor.org:packages/tLOH.git to reflect on this report. See Troubleshooting Build Report for more information. - Use the following Renviron settings to reproduce errors and warnings. - If 'R CMD check' started to fail recently on the Linux builder(s) over a missing dependency, add the missing dependency to 'Suggests:' in your DESCRIPTION file. See Renviron.bioc for more information. - See Martin Grigorov's blog post for how to debug Linux ARM64 related issues on a x86_64 host. | 
| Package: tLOH | 
| Version: 1.14.0 | 
| Command: /home/biocbuild/R/R/bin/R CMD check --install=check:tLOH.install-out.txt --library=/home/biocbuild/R/R/site-library --no-vignettes --timings tLOH_1.14.0.tar.gz | 
| StartedAt: 2025-04-01 11:24:30 -0000 (Tue, 01 Apr 2025) | 
| EndedAt: 2025-04-01 11:38:05 -0000 (Tue, 01 Apr 2025) | 
| EllapsedTime: 814.3 seconds | 
| RetCode: 0 | 
| Status: OK | 
| CheckDir: tLOH.Rcheck | 
| Warnings: 0 | 
##############################################################################
##############################################################################
###
### Running command:
###
###   /home/biocbuild/R/R/bin/R CMD check --install=check:tLOH.install-out.txt --library=/home/biocbuild/R/R/site-library --no-vignettes --timings tLOH_1.14.0.tar.gz
###
##############################################################################
##############################################################################
* using log directory ‘/home/biocbuild/bbs-3.20-bioc/meat/tLOH.Rcheck’
* using R version 4.4.3 (2025-02-28)
* using platform: aarch64-unknown-linux-gnu
* R was compiled by
    aarch64-unknown-linux-gnu-gcc (GCC) 14.2.0
    GNU Fortran (GCC) 14.2.0
* running under: openEuler 24.03 (LTS)
* using session charset: UTF-8
* using option ‘--no-vignettes’
* checking for file ‘tLOH/DESCRIPTION’ ... OK
* checking extension type ... Package
* this is package ‘tLOH’ version ‘1.14.0’
* package encoding: UTF-8
* checking package namespace information ... OK
* checking package dependencies ... OK
* checking if this is a source package ... OK
* checking if there is a namespace ... OK
* checking for hidden files and directories ... OK
* checking for portable file names ... OK
* checking for sufficient/correct file permissions ... OK
* checking whether package ‘tLOH’ can be installed ... OK
* checking installed package size ... OK
* checking package directory ... OK
* checking ‘build’ directory ... OK
* checking DESCRIPTION meta-information ... NOTE
License stub is invalid DCF.
* checking top-level files ... OK
* checking for left-over files ... OK
* checking index information ... OK
* checking package subdirectories ... NOTE
Problems with news in ‘NEWS.md’:
No news entries found.
* checking code files for non-ASCII characters ... OK
* checking R files for syntax errors ... OK
* checking whether the package can be loaded ... OK
* checking whether the package can be loaded with stated dependencies ... OK
* checking whether the package can be unloaded cleanly ... OK
* checking whether the namespace can be loaded with stated dependencies ... OK
* checking whether the namespace can be unloaded cleanly ... OK
* checking loading without being on the library search path ... OK
* checking dependencies in R code ... OK
* checking S3 generic/method consistency ... OK
* checking replacement functions ... OK
* checking foreign function calls ... OK
* checking R code for possible problems ... OK
* checking Rd files ... OK
* checking Rd metadata ... OK
* checking Rd cross-references ... OK
* checking for missing documentation entries ... OK
* checking for code/documentation mismatches ... OK
* checking Rd \usage sections ... OK
* checking Rd contents ... OK
* checking for unstated dependencies in examples ... OK
* checking contents of ‘data’ directory ... OK
* checking data for non-ASCII characters ... OK
* checking data for ASCII and uncompressed saves ... OK
* checking files in ‘vignettes’ ... OK
* checking examples ... OK
Examples with CPU (user + system) or elapsed time > 5s
                       user system elapsed
hiddenMarkovAnalysis 94.266  1.136 114.917
regionAnalysis       71.409  0.268  71.847
runHMM_3             64.648  0.320  65.096
runHMM_2             63.135  0.223  63.484
runHMM_1             37.663  0.164  37.910
prepareHMMdataframes 35.452  0.100  35.739
tLOHCalcUpdate       34.429  0.044  34.648
splitByChromosome    34.123  0.103  34.298
aggregateCHRPlot      9.838  0.563  10.422
alleleFrequencyPlot   8.944  0.263   9.231
tLOHCalc              6.392  0.020   6.658
* checking for unstated dependencies in vignettes ... OK
* checking package vignettes ... OK
* checking running R code from vignettes ... SKIPPED
* checking re-building of vignette outputs ... SKIPPED
* checking PDF version of manual ... OK
* DONE
Status: 2 NOTEs
See
  ‘/home/biocbuild/bbs-3.20-bioc/meat/tLOH.Rcheck/00check.log’
for details.
tLOH.Rcheck/00install.out
############################################################################## ############################################################################## ### ### Running command: ### ### /home/biocbuild/R/R/bin/R CMD INSTALL tLOH ### ############################################################################## ############################################################################## * installing to library ‘/home/biocbuild/R/R-4.4.3/site-library’ * installing *source* package ‘tLOH’ ... ** using staged installation ** R ** data ** inst ** byte-compile and prepare package for lazy loading ** help *** installing help indices ** building package indices ** installing vignettes ** testing if installed package can be loaded from temporary location ** testing if installed package can be loaded from final location ** testing if installed package keeps a record of temporary installation path * DONE (tLOH)
tLOH.Rcheck/tLOH-Ex.timings
| name | user | system | elapsed | |
| aggregateCHRPlot | 9.838 | 0.563 | 10.422 | |
| alleleFrequencyPlot | 8.944 | 0.263 | 9.231 | |
| documentErrorRegions | 0.002 | 0.000 | 0.003 | |
| hiddenMarkovAnalysis | 94.266 | 1.136 | 114.917 | |
| humanGBMsampleAC | 0.038 | 0.000 | 0.039 | |
| initialStartProbabilities | 0.001 | 0.000 | 0.001 | |
| marginalLikelihoodM1 | 0.003 | 0.000 | 0.003 | |
| marginalLikelihoodM2 | 0.002 | 0.000 | 0.002 | |
| marginalM1Calc | 0.001 | 0.000 | 0.000 | |
| marginalM2CalcBHET | 0.001 | 0.000 | 0.001 | |
| marginalM2CalcBLOH | 0.001 | 0.000 | 0.001 | |
| modePeakCalc | 0.001 | 0.000 | 0.001 | |
| prepareHMMdataframes | 35.452 | 0.100 | 35.739 | |
| regionAnalysis | 71.409 | 0.268 | 71.847 | |
| regionFinalize | 0.000 | 0.000 | 0.001 | |
| removeOutlierFromCalc | 0.000 | 0.000 | 0.001 | |
| runHMM_1 | 37.663 | 0.164 | 37.910 | |
| runHMM_2 | 63.135 | 0.223 | 63.484 | |
| runHMM_3 | 64.648 | 0.320 | 65.096 | |
| splitByChromosome | 34.123 | 0.103 | 34.298 | |
| summarizeRegions1 | 0.000 | 0.000 | 0.001 | |
| summarizeRegions2 | 0 | 0 | 0 | |
| tLOHCalc | 6.392 | 0.020 | 6.658 | |
| tLOHCalcUpdate | 34.429 | 0.044 | 34.648 | |
| tLOHDataImport | 0 | 0 | 0 | |