| Back to Multiple platform build/check report for BioC 3.20: simplified long |
|
This page was generated on 2025-04-02 19:31 -0400 (Wed, 02 Apr 2025).
| Hostname | OS | Arch (*) | R version | Installed pkgs |
|---|---|---|---|---|
| nebbiolo2 | Linux (Ubuntu 24.04.1 LTS) | x86_64 | 4.4.3 (2025-02-28) -- "Trophy Case" | 4764 |
| palomino8 | Windows Server 2022 Datacenter | x64 | 4.4.3 (2025-02-28 ucrt) -- "Trophy Case" | 4495 |
| merida1 | macOS 12.7.5 Monterey | x86_64 | 4.4.3 (2025-02-28) -- "Trophy Case" | 4522 |
| kjohnson1 | macOS 13.6.6 Ventura | arm64 | 4.4.3 (2025-02-28) -- "Trophy Case" | 4449 |
| taishan | Linux (openEuler 24.03 LTS) | aarch64 | 4.4.3 (2025-02-28) -- "Trophy Case" | 4426 |
| Click on any hostname to see more info about the system (e.g. compilers) (*) as reported by 'uname -p', except on Windows and Mac OS X | ||||
| Package 2158/2289 | Hostname | OS / Arch | INSTALL | BUILD | CHECK | BUILD BIN | ||||||||
| tLOH 1.14.0 (landing page) Michelle Webb
| nebbiolo2 | Linux (Ubuntu 24.04.1 LTS) / x86_64 | OK | OK | OK | |||||||||
| palomino8 | Windows Server 2022 Datacenter / x64 | OK | OK | OK | OK | |||||||||
| merida1 | macOS 12.7.5 Monterey / x86_64 | OK | OK | OK | OK | |||||||||
| kjohnson1 | macOS 13.6.6 Ventura / arm64 | OK | OK | OK | OK | |||||||||
| taishan | Linux (openEuler 24.03 LTS) / aarch64 | OK | OK | OK | ||||||||||
|
To the developers/maintainers of the tLOH package: - Allow up to 24 hours (and sometimes 48 hours) for your latest push to git@git.bioconductor.org:packages/tLOH.git to reflect on this report. See Troubleshooting Build Report for more information. - Use the following Renviron settings to reproduce errors and warnings. - If 'R CMD check' started to fail recently on the Linux builder(s) over a missing dependency, add the missing dependency to 'Suggests:' in your DESCRIPTION file. See Renviron.bioc for more information. |
| Package: tLOH |
| Version: 1.14.0 |
| Command: F:\biocbuild\bbs-3.20-bioc\R\bin\R.exe CMD check --no-multiarch --install=check:tLOH.install-out.txt --library=F:\biocbuild\bbs-3.20-bioc\R\library --no-vignettes --timings tLOH_1.14.0.tar.gz |
| StartedAt: 2025-04-01 06:48:59 -0400 (Tue, 01 Apr 2025) |
| EndedAt: 2025-04-01 07:02:41 -0400 (Tue, 01 Apr 2025) |
| EllapsedTime: 822.1 seconds |
| RetCode: 0 |
| Status: OK |
| CheckDir: tLOH.Rcheck |
| Warnings: 0 |
##############################################################################
##############################################################################
###
### Running command:
###
### F:\biocbuild\bbs-3.20-bioc\R\bin\R.exe CMD check --no-multiarch --install=check:tLOH.install-out.txt --library=F:\biocbuild\bbs-3.20-bioc\R\library --no-vignettes --timings tLOH_1.14.0.tar.gz
###
##############################################################################
##############################################################################
* using log directory 'F:/biocbuild/bbs-3.20-bioc/meat/tLOH.Rcheck'
* using R version 4.4.3 (2025-02-28 ucrt)
* using platform: x86_64-w64-mingw32
* R was compiled by
gcc.exe (GCC) 13.3.0
GNU Fortran (GCC) 13.3.0
* running under: Windows Server 2022 x64 (build 20348)
* using session charset: UTF-8
* using option '--no-vignettes'
* checking for file 'tLOH/DESCRIPTION' ... OK
* checking extension type ... Package
* this is package 'tLOH' version '1.14.0'
* package encoding: UTF-8
* checking package namespace information ... OK
* checking package dependencies ... OK
* checking if this is a source package ... OK
* checking if there is a namespace ... OK
* checking for hidden files and directories ... OK
* checking for portable file names ... OK
* checking whether package 'tLOH' can be installed ... OK
* checking installed package size ... OK
* checking package directory ... OK
* checking 'build' directory ... OK
* checking DESCRIPTION meta-information ... NOTE
License stub is invalid DCF.
* checking top-level files ... OK
* checking for left-over files ... OK
* checking index information ... OK
* checking package subdirectories ... NOTE
Problems with news in 'NEWS.md':
No news entries found.
* checking code files for non-ASCII characters ... OK
* checking R files for syntax errors ... OK
* checking whether the package can be loaded ... OK
* checking whether the package can be loaded with stated dependencies ... OK
* checking whether the package can be unloaded cleanly ... OK
* checking whether the namespace can be loaded with stated dependencies ... OK
* checking whether the namespace can be unloaded cleanly ... OK
* checking dependencies in R code ... OK
* checking S3 generic/method consistency ... OK
* checking replacement functions ... OK
* checking foreign function calls ... OK
* checking R code for possible problems ... OK
* checking Rd files ... OK
* checking Rd metadata ... OK
* checking Rd cross-references ... OK
* checking for missing documentation entries ... OK
* checking for code/documentation mismatches ... OK
* checking Rd \usage sections ... OK
* checking Rd contents ... OK
* checking for unstated dependencies in examples ... OK
* checking contents of 'data' directory ... OK
* checking data for non-ASCII characters ... OK
* checking data for ASCII and uncompressed saves ... OK
* checking files in 'vignettes' ... OK
* checking examples ... OK
Examples with CPU (user + system) or elapsed time > 5s
user system elapsed
hiddenMarkovAnalysis 91.60 6.56 98.34
regionAnalysis 74.88 2.03 77.66
runHMM_2 61.59 1.93 63.49
runHMM_3 59.12 1.78 60.89
prepareHMMdataframes 39.42 1.16 41.00
runHMM_1 39.02 1.06 40.04
tLOHCalcUpdate 38.38 0.87 39.25
splitByChromosome 34.75 0.81 35.55
aggregateCHRPlot 9.50 0.26 9.78
alleleFrequencyPlot 9.05 0.29 9.38
tLOHCalc 6.34 0.14 6.49
* checking for unstated dependencies in vignettes ... OK
* checking package vignettes ... OK
* checking running R code from vignettes ... SKIPPED
* checking re-building of vignette outputs ... SKIPPED
* checking PDF version of manual ... OK
* DONE
Status: 2 NOTEs
See
'F:/biocbuild/bbs-3.20-bioc/meat/tLOH.Rcheck/00check.log'
for details.
tLOH.Rcheck/00install.out
############################################################################## ############################################################################## ### ### Running command: ### ### F:\biocbuild\bbs-3.20-bioc\R\bin\R.exe CMD INSTALL tLOH ### ############################################################################## ############################################################################## * installing to library 'F:/biocbuild/bbs-3.20-bioc/R/library' * installing *source* package 'tLOH' ... ** using staged installation ** R ** data ** inst ** byte-compile and prepare package for lazy loading ** help *** installing help indices ** building package indices ** installing vignettes ** testing if installed package can be loaded from temporary location ** testing if installed package can be loaded from final location ** testing if installed package keeps a record of temporary installation path * DONE (tLOH)
tLOH.Rcheck/tLOH-Ex.timings
| name | user | system | elapsed | |
| aggregateCHRPlot | 9.50 | 0.26 | 9.78 | |
| alleleFrequencyPlot | 9.05 | 0.29 | 9.38 | |
| documentErrorRegions | 0 | 0 | 0 | |
| hiddenMarkovAnalysis | 91.60 | 6.56 | 98.34 | |
| humanGBMsampleAC | 0.01 | 0.01 | 0.03 | |
| initialStartProbabilities | 0.02 | 0.00 | 0.02 | |
| marginalLikelihoodM1 | 0 | 0 | 0 | |
| marginalLikelihoodM2 | 0 | 0 | 0 | |
| marginalM1Calc | 0 | 0 | 0 | |
| marginalM2CalcBHET | 0 | 0 | 0 | |
| marginalM2CalcBLOH | 0 | 0 | 0 | |
| modePeakCalc | 0.01 | 0.00 | 0.01 | |
| prepareHMMdataframes | 39.42 | 1.16 | 41.00 | |
| regionAnalysis | 74.88 | 2.03 | 77.66 | |
| regionFinalize | 0 | 0 | 0 | |
| removeOutlierFromCalc | 0 | 0 | 0 | |
| runHMM_1 | 39.02 | 1.06 | 40.04 | |
| runHMM_2 | 61.59 | 1.93 | 63.49 | |
| runHMM_3 | 59.12 | 1.78 | 60.89 | |
| splitByChromosome | 34.75 | 0.81 | 35.55 | |
| summarizeRegions1 | 0 | 0 | 0 | |
| summarizeRegions2 | 0 | 0 | 0 | |
| tLOHCalc | 6.34 | 0.14 | 6.49 | |
| tLOHCalcUpdate | 38.38 | 0.87 | 39.25 | |
| tLOHDataImport | 0 | 0 | 0 | |