| Back to Multiple platform build/check report for BioC 3.20: simplified long | 
 | 
This page was generated on 2025-03-13 12:12 -0400 (Thu, 13 Mar 2025).
| Hostname | OS | Arch (*) | R version | Installed pkgs | 
|---|---|---|---|---|
| nebbiolo2 | Linux (Ubuntu 24.04.1 LTS) | x86_64 | 4.4.3 (2025-02-28) -- "Trophy Case" | 4722 | 
| palomino8 | Windows Server 2022 Datacenter | x64 | 4.4.3 (2025-02-28 ucrt) -- "Trophy Case" | 4487 | 
| merida1 | macOS 12.7.5 Monterey | x86_64 | 4.4.3 (2025-02-28) -- "Trophy Case" | 4514 | 
| kjohnson1 | macOS 13.6.6 Ventura | arm64 | 4.4.3 (2025-02-28) -- "Trophy Case" | 4441 | 
| taishan | Linux (openEuler 24.03 LTS) | aarch64 | 4.4.3 (2025-02-28) -- "Trophy Case" | 4391 | 
| Click on any hostname to see more info about the system (e.g. compilers) (*) as reported by 'uname -p', except on Windows and Mac OS X | ||||
| Package 2009/2289 | Hostname | OS / Arch | INSTALL | BUILD | CHECK | BUILD BIN | ||||||||
| sparrow 1.12.0  (landing page) Steve Lianoglou 
 | nebbiolo2 | Linux (Ubuntu 24.04.1 LTS) / x86_64 | OK | OK | OK |  | ||||||||
| palomino8 | Windows Server 2022 Datacenter / x64 | OK | OK | OK | OK |  | ||||||||
| merida1 | macOS 12.7.5 Monterey / x86_64 | OK | OK | OK | OK |  | ||||||||
| kjohnson1 | macOS 13.6.6 Ventura / arm64 | OK | OK | OK | OK |  | ||||||||
| taishan | Linux (openEuler 24.03 LTS) / aarch64 | OK | OK | TIMEOUT | ||||||||||
| To the developers/maintainers of the sparrow package: - Allow up to 24 hours (and sometimes 48 hours) for your latest push to git@git.bioconductor.org:packages/sparrow.git to reflect on this report. See Troubleshooting Build Report for more information. - Use the following Renviron settings to reproduce errors and warnings. - If 'R CMD check' started to fail recently on the Linux builder(s) over a missing dependency, add the missing dependency to 'Suggests:' in your DESCRIPTION file. See Renviron.bioc for more information. - See Martin Grigorov's blog post for how to debug Linux ARM64 related issues on a x86_64 host. | 
| Package: sparrow | 
| Version: 1.12.0 | 
| Command: /home/biocbuild/R/R/bin/R CMD check --install=check:sparrow.install-out.txt --library=/home/biocbuild/R/R/site-library --no-vignettes --timings sparrow_1.12.0.tar.gz | 
| StartedAt: 2025-03-11 10:37:41 -0000 (Tue, 11 Mar 2025) | 
| EndedAt: 2025-03-11 11:17:41 -0000 (Tue, 11 Mar 2025) | 
| EllapsedTime: 2400.4 seconds | 
| RetCode: None | 
| Status: TIMEOUT | 
| CheckDir: sparrow.Rcheck | 
| Warnings: NA | 
##############################################################################
##############################################################################
###
### Running command:
###
###   /home/biocbuild/R/R/bin/R CMD check --install=check:sparrow.install-out.txt --library=/home/biocbuild/R/R/site-library --no-vignettes --timings sparrow_1.12.0.tar.gz
###
##############################################################################
##############################################################################
* using log directory ‘/home/biocbuild/bbs-3.20-bioc/meat/sparrow.Rcheck’
* using R version 4.4.3 (2025-02-28)
* using platform: aarch64-unknown-linux-gnu
* R was compiled by
    aarch64-unknown-linux-gnu-gcc (GCC) 14.2.0
    GNU Fortran (GCC) 14.2.0
* running under: openEuler 24.03 (LTS)
* using session charset: UTF-8
* using option ‘--no-vignettes’
* checking for file ‘sparrow/DESCRIPTION’ ... OK
* checking extension type ... Package
* this is package ‘sparrow’ version ‘1.12.0’
* package encoding: UTF-8
* checking package namespace information ... OK
* checking package dependencies ... OK
* checking if this is a source package ... OK
* checking if there is a namespace ... OK
* checking for hidden files and directories ... OK
* checking for portable file names ... OK
* checking for sufficient/correct file permissions ... OK
* checking whether package ‘sparrow’ can be installed ... OK
* checking installed package size ... OK
* checking package directory ... OK
* checking ‘build’ directory ... OK
* checking DESCRIPTION meta-information ... NOTE
License stub is invalid DCF.
* checking top-level files ... OK
* checking for left-over files ... OK
* checking index information ... OK
* checking package subdirectories ... OK
* checking code files for non-ASCII characters ... OK
* checking R files for syntax errors ... OK
* checking whether the package can be loaded ... OK
* checking whether the package can be loaded with stated dependencies ... OK
* checking whether the package can be unloaded cleanly ... OK
* checking whether the namespace can be loaded with stated dependencies ... OK
* checking whether the namespace can be unloaded cleanly ... OK
* checking loading without being on the library search path ... OK
* checking whether startup messages can be suppressed ... OK
* checking dependencies in R code ... OK
* checking S3 generic/method consistency ... OK
* checking replacement functions ... OK
* checking foreign function calls ... OK
* checking R code for possible problems ... NOTE
geneSetsStats: no visible binding for global variable ‘direction’
Undefined global functions or variables:
  direction
* checking Rd files ... OK
* checking Rd metadata ... OK
* checking Rd cross-references ... OK
* checking for missing documentation entries ... OK
* checking for code/documentation mismatches ... OK
* checking Rd \usage sections ... OK
* checking Rd contents ... OK
* checking for unstated dependencies in examples ... OK
* checking line endings in Makefiles ... OK
* checking for GNU extensions in Makefiles ... OK
* checking include directives in Makefiles ... OK
* checking files in ‘vignettes’ ... OK
* checking examples ... OK
Examples with CPU (user + system) or elapsed time > 5s
                           user system elapsed
goseq                     9.523  0.228   9.504
seas                      8.165  0.104   8.002
geneSetsStats             5.600  0.092   5.166
scoreSingleSamples        5.461  0.100   5.558
annotateGeneSetMembership 5.172  0.141   5.045
SparrowResult-utilities   5.067  0.183   4.983
* checking for unstated dependencies in ‘tests’ ... OK
* checking tests ...
  Running ‘testthat.R’
sparrow.Rcheck/00install.out
############################################################################## ############################################################################## ### ### Running command: ### ### /home/biocbuild/R/R/bin/R CMD INSTALL sparrow ### ############################################################################## ############################################################################## * installing to library ‘/home/biocbuild/R/R-4.4.3/site-library’ * installing *source* package ‘sparrow’ ... ** using staged installation ** R ** inst ** byte-compile and prepare package for lazy loading ** help *** installing help indices *** copying figures ** building package indices ** installing vignettes ** testing if installed package can be loaded from temporary location ** testing if installed package can be loaded from final location ** testing if installed package keeps a record of temporary installation path * DONE (sparrow)
sparrow.Rcheck/tests/testthat.Rout
R version 4.4.3 (2025-02-28) -- "Trophy Case"
Copyright (C) 2025 The R Foundation for Statistical Computing
Platform: aarch64-unknown-linux-gnu
R is free software and comes with ABSOLUTELY NO WARRANTY.
You are welcome to redistribute it under certain conditions.
Type 'license()' or 'licence()' for distribution details.
R is a collaborative project with many contributors.
Type 'contributors()' for more information and
'citation()' on how to cite R or R packages in publications.
Type 'demo()' for some demos, 'help()' for on-line help, or
'help.start()' for an HTML browser interface to help.
Type 'q()' to quit R.
> library("sparrow")
> library("testthat")
> library("data.table")
> library("dplyr")
Attaching package: 'dplyr'
The following objects are masked from 'package:data.table':
    between, first, last
The following object is masked from 'package:testthat':
    matches
The following object is masked from 'package:sparrow':
    combine
The following objects are masked from 'package:stats':
    filter, lag
The following objects are masked from 'package:base':
    intersect, setdiff, setequal, union
> 
> test_check("sparrow")
Attaching package: 'magrittr'
The following objects are masked from 'package:testthat':
    equals, is_less_than, not
sparrow.Rcheck/sparrow-Ex.timings
| name | user | system | elapsed | |
| GeneSetDb-class | 0.090 | 0.005 | 0.097 | |
| SparrowResult-utilities | 5.067 | 0.183 | 4.983 | |
| addGeneSetMetadata | 0.098 | 0.008 | 0.103 | |
| annotateGeneSetMembership | 5.172 | 0.141 | 5.045 | |
| calculateIndividualLogFC | 2.330 | 0.024 | 2.360 | |
| collectionMetadata | 0.080 | 0.008 | 0.080 | |
| combine-GeneSetDb-GeneSetDb-method | 0.111 | 0.008 | 0.101 | |
| combine-SparrowResult-SparrowResult-method | 0.116 | 0.000 | 0.118 | |
| conform | 0.536 | 0.004 | 0.533 | |
| conversion | 0.755 | 0.007 | 0.733 | |
| convertIdentifiers | 0.226 | 0.000 | 0.195 | |
| corplot | 0.130 | 0.012 | 0.142 | |
| eigenWeightedMean | 3.897 | 0.112 | 4.014 | |
| examples | 0.381 | 0.024 | 0.406 | |
| failWith | 0.001 | 0.000 | 0.001 | |
| featureIdMap | 0.519 | 0.032 | 0.545 | |
| featureIds | 0.591 | 0.012 | 0.591 | |
| geneSet | 0.101 | 0.000 | 0.094 | |
| geneSetCollectionURLfunction | 0.071 | 0.003 | 0.065 | |
| geneSetSummaryByGenes | 4.351 | 0.089 | 4.138 | |
| geneSets | 0.074 | 0.000 | 0.065 | |
| geneSetsStats | 5.600 | 0.092 | 5.166 | |
| getKeggCollection | 0 | 0 | 0 | |
| getMSigCollection | 0 | 0 | 0 | |
| getPantherCollection | 0 | 0 | 0 | |
| getReactomeCollection | 0 | 0 | 0 | |
| goseq | 9.523 | 0.228 | 9.504 | |
| gsdScore | 1.159 | 0.028 | 1.175 | |
| gskey | 0.003 | 0.000 | 0.003 | |
| hasGeneSet | 0.073 | 0.008 | 0.071 | |
| hasGeneSetCollection | 0.134 | 0.004 | 0.128 | |
| incidenceMatrix | 1.353 | 0.016 | 1.362 | |
| iplot | 2.207 | 0.095 | 2.295 | |
| is.active | 0.418 | 0.040 | 0.451 | |
| logFC | 3.929 | 0.084 | 3.783 | |
| mgheatmap | 0 | 0 | 0 | |
| mgheatmap2 | 0 | 0 | 0 | |
| msg | 0.000 | 0.000 | 0.001 | |
| ora | 0.309 | 0.016 | 0.326 | |
| p.matrix | 0.091 | 0.000 | 0.092 | |
| randomGeneSetDb | 0.101 | 0.000 | 0.102 | |
| renameCollections | 0.101 | 0.000 | 0.088 | |
| renameRows | 0.510 | 0.012 | 0.523 | |
| results | 0.113 | 0.000 | 0.118 | |
| scale_rows | 0.004 | 0.000 | 0.005 | |
| scoreSingleSamples | 5.461 | 0.100 | 5.558 | |
| seas | 8.165 | 0.104 | 8.002 | |
| sparrow_methods | 0.004 | 0.000 | 0.003 | |
| species_info | 0.006 | 0.000 | 0.007 | |
| subset.GeneSetDb | 0.086 | 0.004 | 0.079 | |
| subsetByFeatures | 0.111 | 0.000 | 0.094 | |
| validateInputs | 0.173 | 0.004 | 0.176 | |
| volcanoPlot | 2.189 | 0.075 | 2.272 | |
| volcanoStatsTable | 0.067 | 0.005 | 0.071 | |
| zScore | 1.074 | 0.027 | 1.092 | |