| Back to Multiple platform build/check report for BioC 3.20: simplified long | 
 | 
This page was generated on 2025-03-13 12:10 -0400 (Thu, 13 Mar 2025).
| Hostname | OS | Arch (*) | R version | Installed pkgs | 
|---|---|---|---|---|
| nebbiolo2 | Linux (Ubuntu 24.04.1 LTS) | x86_64 | 4.4.3 (2025-02-28) -- "Trophy Case" | 4722 | 
| palomino8 | Windows Server 2022 Datacenter | x64 | 4.4.3 (2025-02-28 ucrt) -- "Trophy Case" | 4487 | 
| merida1 | macOS 12.7.5 Monterey | x86_64 | 4.4.3 (2025-02-28) -- "Trophy Case" | 4514 | 
| kjohnson1 | macOS 13.6.6 Ventura | arm64 | 4.4.3 (2025-02-28) -- "Trophy Case" | 4441 | 
| taishan | Linux (openEuler 24.03 LTS) | aarch64 | 4.4.3 (2025-02-28) -- "Trophy Case" | 4391 | 
| Click on any hostname to see more info about the system (e.g. compilers) (*) as reported by 'uname -p', except on Windows and Mac OS X | ||||
| Package 2009/2289 | Hostname | OS / Arch | INSTALL | BUILD | CHECK | BUILD BIN | ||||||||
| sparrow 1.12.0  (landing page) Steve Lianoglou 
 | nebbiolo2 | Linux (Ubuntu 24.04.1 LTS) / x86_64 | OK | OK | OK |  | ||||||||
| palomino8 | Windows Server 2022 Datacenter / x64 | OK | OK | OK | OK |  | ||||||||
| merida1 | macOS 12.7.5 Monterey / x86_64 | OK | OK | OK | OK |  | ||||||||
| kjohnson1 | macOS 13.6.6 Ventura / arm64 | OK | OK | OK | OK |  | ||||||||
| taishan | Linux (openEuler 24.03 LTS) / aarch64 | OK | OK | TIMEOUT | ||||||||||
| To the developers/maintainers of the sparrow package: - Allow up to 24 hours (and sometimes 48 hours) for your latest push to git@git.bioconductor.org:packages/sparrow.git to reflect on this report. See Troubleshooting Build Report for more information. - Use the following Renviron settings to reproduce errors and warnings. - If 'R CMD check' started to fail recently on the Linux builder(s) over a missing dependency, add the missing dependency to 'Suggests:' in your DESCRIPTION file. See Renviron.bioc for more information. | 
| Package: sparrow | 
| Version: 1.12.0 | 
| Command: /Library/Frameworks/R.framework/Resources/bin/R CMD check --install=check:sparrow.install-out.txt --library=/Library/Frameworks/R.framework/Resources/library --no-vignettes --timings sparrow_1.12.0.tar.gz | 
| StartedAt: 2025-03-12 09:27:01 -0400 (Wed, 12 Mar 2025) | 
| EndedAt: 2025-03-12 09:37:56 -0400 (Wed, 12 Mar 2025) | 
| EllapsedTime: 654.7 seconds | 
| RetCode: 0 | 
| Status: OK | 
| CheckDir: sparrow.Rcheck | 
| Warnings: 0 | 
##############################################################################
##############################################################################
###
### Running command:
###
###   /Library/Frameworks/R.framework/Resources/bin/R CMD check --install=check:sparrow.install-out.txt --library=/Library/Frameworks/R.framework/Resources/library --no-vignettes --timings sparrow_1.12.0.tar.gz
###
##############################################################################
##############################################################################
* using log directory ‘/Users/biocbuild/bbs-3.20-bioc/meat/sparrow.Rcheck’
* using R version 4.4.3 (2025-02-28)
* using platform: aarch64-apple-darwin20
* R was compiled by
    Apple clang version 14.0.0 (clang-1400.0.29.202)
    GNU Fortran (GCC) 12.2.0
* running under: macOS Ventura 13.7.1
* using session charset: UTF-8
* using option ‘--no-vignettes’
* checking for file ‘sparrow/DESCRIPTION’ ... OK
* checking extension type ... Package
* this is package ‘sparrow’ version ‘1.12.0’
* package encoding: UTF-8
* checking package namespace information ... OK
* checking package dependencies ... OK
* checking if this is a source package ... OK
* checking if there is a namespace ... OK
* checking for hidden files and directories ... OK
* checking for portable file names ... OK
* checking for sufficient/correct file permissions ... OK
* checking whether package ‘sparrow’ can be installed ... OK
* checking installed package size ... OK
* checking package directory ... OK
* checking ‘build’ directory ... OK
* checking DESCRIPTION meta-information ... NOTE
License stub is invalid DCF.
* checking top-level files ... OK
* checking for left-over files ... OK
* checking index information ... OK
* checking package subdirectories ... OK
* checking code files for non-ASCII characters ... OK
* checking R files for syntax errors ... OK
* checking whether the package can be loaded ... OK
* checking whether the package can be loaded with stated dependencies ... OK
* checking whether the package can be unloaded cleanly ... OK
* checking whether the namespace can be loaded with stated dependencies ... OK
* checking whether the namespace can be unloaded cleanly ... OK
* checking whether startup messages can be suppressed ... OK
* checking dependencies in R code ... OK
* checking S3 generic/method consistency ... OK
* checking replacement functions ... OK
* checking foreign function calls ... OK
* checking R code for possible problems ... NOTE
geneSetsStats: no visible binding for global variable ‘direction’
Undefined global functions or variables:
  direction
* checking Rd files ... OK
* checking Rd metadata ... OK
* checking Rd cross-references ... OK
* checking for missing documentation entries ... OK
* checking for code/documentation mismatches ... OK
* checking Rd \usage sections ... OK
* checking Rd contents ... OK
* checking for unstated dependencies in examples ... OK
* checking line endings in Makefiles ... OK
* checking for GNU extensions in Makefiles ... OK
* checking include directives in Makefiles ... OK
* checking files in ‘vignettes’ ... OK
* checking examples ... OK
Examples with CPU (user + system) or elapsed time > 5s
                           user system elapsed
goseq                     8.734  0.579   9.384
seas                      7.961  0.351   7.357
SparrowResult-utilities   4.514  0.418   8.612
annotateGeneSetMembership 4.398  0.230   5.881
geneSetSummaryByGenes     3.462  0.421   5.753
* checking for unstated dependencies in ‘tests’ ... OK
* checking tests ...
  Running ‘testthat.R’
 OK
* checking for unstated dependencies in vignettes ... OK
* checking package vignettes ... OK
* checking running R code from vignettes ... SKIPPED
* checking re-building of vignette outputs ... SKIPPED
* checking PDF version of manual ... OK
* DONE
Status: 2 NOTEs
See
  ‘/Users/biocbuild/bbs-3.20-bioc/meat/sparrow.Rcheck/00check.log’
for details.
sparrow.Rcheck/00install.out
############################################################################## ############################################################################## ### ### Running command: ### ### /Library/Frameworks/R.framework/Resources/bin/R CMD INSTALL sparrow ### ############################################################################## ############################################################################## * installing to library ‘/Library/Frameworks/R.framework/Versions/4.4-arm64/Resources/library’ * installing *source* package ‘sparrow’ ... ** using staged installation ** R ** inst ** byte-compile and prepare package for lazy loading ** help *** installing help indices *** copying figures ** building package indices ** installing vignettes ** testing if installed package can be loaded from temporary location ** testing if installed package can be loaded from final location ** testing if installed package keeps a record of temporary installation path * DONE (sparrow)
sparrow.Rcheck/tests/testthat.Rout
R version 4.4.3 (2025-02-28) -- "Trophy Case"
Copyright (C) 2025 The R Foundation for Statistical Computing
Platform: aarch64-apple-darwin20
R is free software and comes with ABSOLUTELY NO WARRANTY.
You are welcome to redistribute it under certain conditions.
Type 'license()' or 'licence()' for distribution details.
R is a collaborative project with many contributors.
Type 'contributors()' for more information and
'citation()' on how to cite R or R packages in publications.
Type 'demo()' for some demos, 'help()' for on-line help, or
'help.start()' for an HTML browser interface to help.
Type 'q()' to quit R.
> library("sparrow")
> library("testthat")
> library("data.table")
> library("dplyr")
Attaching package: 'dplyr'
The following objects are masked from 'package:data.table':
    between, first, last
The following object is masked from 'package:testthat':
    matches
The following object is masked from 'package:sparrow':
    combine
The following objects are masked from 'package:stats':
    filter, lag
The following objects are masked from 'package:base':
    intersect, setdiff, setequal, union
> 
> test_check("sparrow")
Attaching package: 'magrittr'
The following objects are masked from 'package:testthat':
    equals, is_less_than, not
[ FAIL 0 | WARN 0 | SKIP 1 | PASS 1505 ]
══ Skipped tests (1) ═══════════════════════════════════════════════════════════
• empty test (1): 'test-MultiGSEAResult.R:3:1'
[ FAIL 0 | WARN 0 | SKIP 1 | PASS 1505 ]
> 
> ## Remove temporary files that were generated
> test.dir <- system.file('tests', package = "sparrow")
> pdfs <- dir(test.dir, "\\.pdf$", full.names=TRUE)
> if (length(pdfs)) {
+   unlink(pdfs)
+ }
> 
> 
> proc.time()
   user  system elapsed 
417.428  30.246 368.611 
sparrow.Rcheck/sparrow-Ex.timings
| name | user | system | elapsed | |
| GeneSetDb-class | 0.091 | 0.007 | 0.110 | |
| SparrowResult-utilities | 4.514 | 0.418 | 8.612 | |
| addGeneSetMetadata | 0.104 | 0.005 | 0.178 | |
| annotateGeneSetMembership | 4.398 | 0.230 | 5.881 | |
| calculateIndividualLogFC | 1.526 | 0.052 | 1.606 | |
| collectionMetadata | 0.123 | 0.016 | 0.121 | |
| combine-GeneSetDb-GeneSetDb-method | 0.147 | 0.013 | 0.130 | |
| combine-SparrowResult-SparrowResult-method | 0.216 | 0.015 | 0.174 | |
| conform | 0.513 | 0.034 | 0.506 | |
| conversion | 0.736 | 0.065 | 0.791 | |
| convertIdentifiers | 0.258 | 0.032 | 0.285 | |
| corplot | 0.105 | 0.006 | 0.115 | |
| eigenWeightedMean | 3.824 | 0.113 | 4.053 | |
| examples | 0.338 | 0.084 | 0.437 | |
| failWith | 0.000 | 0.000 | 0.001 | |
| featureIdMap | 0.480 | 0.047 | 0.598 | |
| featureIds | 0.509 | 0.035 | 0.551 | |
| geneSet | 0.098 | 0.007 | 0.107 | |
| geneSetCollectionURLfunction | 0.126 | 0.009 | 0.086 | |
| geneSetSummaryByGenes | 3.462 | 0.421 | 5.753 | |
| geneSets | 0.070 | 0.005 | 0.074 | |
| geneSetsStats | 4.453 | 0.356 | 4.930 | |
| getKeggCollection | 0 | 0 | 0 | |
| getMSigCollection | 0.000 | 0.000 | 0.001 | |
| getPantherCollection | 0.000 | 0.000 | 0.001 | |
| getReactomeCollection | 0 | 0 | 0 | |
| goseq | 8.734 | 0.579 | 9.384 | |
| gsdScore | 1.140 | 0.065 | 1.253 | |
| gskey | 0.003 | 0.000 | 0.004 | |
| hasGeneSet | 0.079 | 0.005 | 0.087 | |
| hasGeneSetCollection | 0.082 | 0.005 | 0.083 | |
| incidenceMatrix | 2.473 | 0.070 | 2.588 | |
| iplot | 1.283 | 0.112 | 1.423 | |
| is.active | 0.391 | 0.041 | 0.435 | |
| logFC | 3.237 | 0.293 | 3.542 | |
| mgheatmap | 0 | 0 | 0 | |
| mgheatmap2 | 0.000 | 0.000 | 0.001 | |
| msg | 0.000 | 0.001 | 0.001 | |
| ora | 0.293 | 0.020 | 0.309 | |
| p.matrix | 0.116 | 0.002 | 0.125 | |
| randomGeneSetDb | 0.194 | 0.013 | 0.211 | |
| renameCollections | 0.113 | 0.009 | 0.116 | |
| renameRows | 0.407 | 0.015 | 0.423 | |
| results | 0.130 | 0.005 | 0.141 | |
| scale_rows | 0.004 | 0.001 | 0.005 | |
| scoreSingleSamples | 4.321 | 0.284 | 4.693 | |
| seas | 7.961 | 0.351 | 7.357 | |
| sparrow_methods | 0.004 | 0.001 | 0.006 | |
| species_info | 0.009 | 0.002 | 0.008 | |
| subset.GeneSetDb | 0.127 | 0.011 | 0.108 | |
| subsetByFeatures | 0.133 | 0.014 | 0.136 | |
| validateInputs | 0.232 | 0.025 | 0.188 | |
| volcanoPlot | 2.405 | 0.108 | 2.553 | |
| volcanoStatsTable | 0.091 | 0.002 | 0.095 | |
| zScore | 0.861 | 0.085 | 0.957 | |