| Back to Multiple platform build/check report for BioC 3.20: simplified long |
|
This page was generated on 2025-04-02 19:36 -0400 (Wed, 02 Apr 2025).
| Hostname | OS | Arch (*) | R version | Installed pkgs |
|---|---|---|---|---|
| nebbiolo2 | Linux (Ubuntu 24.04.1 LTS) | x86_64 | 4.4.3 (2025-02-28) -- "Trophy Case" | 4764 |
| palomino8 | Windows Server 2022 Datacenter | x64 | 4.4.3 (2025-02-28 ucrt) -- "Trophy Case" | 4495 |
| merida1 | macOS 12.7.5 Monterey | x86_64 | 4.4.3 (2025-02-28) -- "Trophy Case" | 4522 |
| kjohnson1 | macOS 13.6.6 Ventura | arm64 | 4.4.3 (2025-02-28) -- "Trophy Case" | 4449 |
| taishan | Linux (openEuler 24.03 LTS) | aarch64 | 4.4.3 (2025-02-28) -- "Trophy Case" | 4426 |
| Click on any hostname to see more info about the system (e.g. compilers) (*) as reported by 'uname -p', except on Windows and Mac OS X | ||||
| Package 1575/2289 | Hostname | OS / Arch | INSTALL | BUILD | CHECK | BUILD BIN | ||||||||
| podkat 1.38.0 (landing page) Ulrich Bodenhofer
| nebbiolo2 | Linux (Ubuntu 24.04.1 LTS) / x86_64 | OK | OK | OK | |||||||||
| palomino8 | Windows Server 2022 Datacenter / x64 | OK | OK | OK | OK | |||||||||
| merida1 | macOS 12.7.5 Monterey / x86_64 | OK | OK | OK | OK | |||||||||
| kjohnson1 | macOS 13.6.6 Ventura / arm64 | OK | OK | OK | OK | |||||||||
| taishan | Linux (openEuler 24.03 LTS) / aarch64 | OK | OK | OK | ||||||||||
|
To the developers/maintainers of the podkat package: - Allow up to 24 hours (and sometimes 48 hours) for your latest push to git@git.bioconductor.org:packages/podkat.git to reflect on this report. See Troubleshooting Build Report for more information. - Use the following Renviron settings to reproduce errors and warnings. - If 'R CMD check' started to fail recently on the Linux builder(s) over a missing dependency, add the missing dependency to 'Suggests:' in your DESCRIPTION file. See Renviron.bioc for more information. - See Martin Grigorov's blog post for how to debug Linux ARM64 related issues on a x86_64 host. |
| Package: podkat |
| Version: 1.38.0 |
| Command: /home/biocbuild/R/R/bin/R CMD INSTALL podkat |
| StartedAt: 2025-03-31 20:33:32 -0000 (Mon, 31 Mar 2025) |
| EndedAt: 2025-03-31 20:35:13 -0000 (Mon, 31 Mar 2025) |
| EllapsedTime: 101.4 seconds |
| RetCode: 0 |
| Status: OK |
##############################################################################
##############################################################################
###
### Running command:
###
### /home/biocbuild/R/R/bin/R CMD INSTALL podkat
###
##############################################################################
##############################################################################
* installing to library ‘/home/biocbuild/R/R-4.4.3/site-library’
* installing *source* package ‘podkat’ ...
** using staged installation
** libs
using C++ compiler: ‘aarch64-unknown-linux-gnu-g++ (GCC) 14.2.0’
/opt/ohpc/pub/compiler/gcc/14.2.0/bin/aarch64-unknown-linux-gnu-g++ -std=gnu++17 -I"/home/biocbuild/R/R-4.4.3/include" -DNDEBUG -D_FILE_OFFSET_BITS=64 -I'/home/biocbuild/R/R-4.4.3/site-library/Rcpp/include' -I'/home/biocbuild/R/R-4.4.3/site-library/Rhtslib/include' -I/usr/local/include -fPIC -g -O2 -Wall -c R_init_podkat.cpp -o R_init_podkat.o
/opt/ohpc/pub/compiler/gcc/14.2.0/bin/aarch64-unknown-linux-gnu-g++ -std=gnu++17 -I"/home/biocbuild/R/R-4.4.3/include" -DNDEBUG -D_FILE_OFFSET_BITS=64 -I'/home/biocbuild/R/R-4.4.3/site-library/Rcpp/include' -I'/home/biocbuild/R/R-4.4.3/site-library/Rhtslib/include' -I/usr/local/include -fPIC -g -O2 -Wall -c bernoulliExact.cpp -o bernoulliExact.o
/opt/ohpc/pub/compiler/gcc/14.2.0/bin/aarch64-unknown-linux-gnu-g++ -std=gnu++17 -I"/home/biocbuild/R/R-4.4.3/include" -DNDEBUG -D_FILE_OFFSET_BITS=64 -I'/home/biocbuild/R/R-4.4.3/site-library/Rcpp/include' -I'/home/biocbuild/R/R-4.4.3/site-library/Rhtslib/include' -I/usr/local/include -fPIC -g -O2 -Wall -c checkAndFixGenotype.cpp -o checkAndFixGenotype.o
/opt/ohpc/pub/compiler/gcc/14.2.0/bin/aarch64-unknown-linux-gnu-g++ -std=gnu++17 -I"/home/biocbuild/R/R-4.4.3/include" -DNDEBUG -D_FILE_OFFSET_BITS=64 -I'/home/biocbuild/R/R-4.4.3/site-library/Rcpp/include' -I'/home/biocbuild/R/R-4.4.3/site-library/Rhtslib/include' -I/usr/local/include -fPIC -g -O2 -Wall -c cumMax.cpp -o cumMax.o
/opt/ohpc/pub/compiler/gcc/14.2.0/bin/aarch64-unknown-linux-gnu-g++ -std=gnu++17 -I"/home/biocbuild/R/R-4.4.3/include" -DNDEBUG -D_FILE_OFFSET_BITS=64 -I'/home/biocbuild/R/R-4.4.3/site-library/Rcpp/include' -I'/home/biocbuild/R/R-4.4.3/site-library/Rhtslib/include' -I/usr/local/include -fPIC -g -O2 -Wall -c doubleMale.cpp -o doubleMale.o
/opt/ohpc/pub/compiler/gcc/14.2.0/bin/aarch64-unknown-linux-gnu-g++ -std=gnu++17 -I"/home/biocbuild/R/R-4.4.3/include" -DNDEBUG -D_FILE_OFFSET_BITS=64 -I'/home/biocbuild/R/R-4.4.3/site-library/Rcpp/include' -I'/home/biocbuild/R/R-4.4.3/site-library/Rhtslib/include' -I/usr/local/include -fPIC -g -O2 -Wall -c kernels.cpp -o kernels.o
/opt/ohpc/pub/compiler/gcc/14.2.0/bin/aarch64-unknown-linux-gnu-g++ -std=gnu++17 -I"/home/biocbuild/R/R-4.4.3/include" -DNDEBUG -D_FILE_OFFSET_BITS=64 -I'/home/biocbuild/R/R-4.4.3/site-library/Rcpp/include' -I'/home/biocbuild/R/R-4.4.3/site-library/Rhtslib/include' -I/usr/local/include -fPIC -g -O2 -Wall -c pValues.cpp -o pValues.o
/opt/ohpc/pub/compiler/gcc/14.2.0/bin/aarch64-unknown-linux-gnu-g++ -std=gnu++17 -I"/home/biocbuild/R/R-4.4.3/include" -DNDEBUG -D_FILE_OFFSET_BITS=64 -I'/home/biocbuild/R/R-4.4.3/site-library/Rcpp/include' -I'/home/biocbuild/R/R-4.4.3/site-library/Rhtslib/include' -I/usr/local/include -fPIC -g -O2 -Wall -c partitionRegions.cpp -o partitionRegions.o
/opt/ohpc/pub/compiler/gcc/14.2.0/bin/aarch64-unknown-linux-gnu-g++ -std=gnu++17 -I"/home/biocbuild/R/R-4.4.3/include" -DNDEBUG -D_FILE_OFFSET_BITS=64 -I'/home/biocbuild/R/R-4.4.3/site-library/Rcpp/include' -I'/home/biocbuild/R/R-4.4.3/site-library/Rhtslib/include' -I/usr/local/include -fPIC -g -O2 -Wall -c qfc.cpp -o qfc.o
/opt/ohpc/pub/compiler/gcc/14.2.0/bin/aarch64-unknown-linux-gnu-g++ -std=gnu++17 -I"/home/biocbuild/R/R-4.4.3/include" -DNDEBUG -D_FILE_OFFSET_BITS=64 -I'/home/biocbuild/R/R-4.4.3/site-library/Rcpp/include' -I'/home/biocbuild/R/R-4.4.3/site-library/Rhtslib/include' -I/usr/local/include -fPIC -g -O2 -Wall -c readGenotypeMatrix.cpp -o readGenotypeMatrix.o
In file included from /home/biocbuild/R/R-4.4.3/include/R.h:73,
from readGenotypeMatrix.cpp:1:
/home/biocbuild/R/R-4.4.3/site-library/Rcpp/include/Rcpp/exceptions/cpp11/exceptions.h: In function ‘void Rcpp::Rf_warning(const char*, Args&& ...) [with Args = {const char*}]’:
/home/biocbuild/R/R-4.4.3/include/R_ext/Error.h:77:17: warning: infinite recursion detected [-Winfinite-recursion]
77 | #define warning Rf_warning
| ^~~~~~~~~~
/home/biocbuild/R/R-4.4.3/site-library/Rcpp/include/Rcpp/exceptions/cpp11/exceptions.h:46:13: note: in expansion of macro ‘warning’
46 | inline void warning(const char* fmt, Args&&... args ) {
| ^~~~~~~
In file included from /home/biocbuild/R/R-4.4.3/site-library/Rcpp/include/Rcpp/exceptions.h:180,
from /home/biocbuild/R/R-4.4.3/site-library/Rcpp/include/RcppCommon.h:130,
from /home/biocbuild/R/R-4.4.3/site-library/Rcpp/include/Rcpp.h:27,
from readGenotypeMatrix.cpp:2:
/home/biocbuild/R/R-4.4.3/site-library/Rcpp/include/Rcpp/exceptions/cpp11/exceptions.h:47:15: note: recursive call
47 | Rf_warning("%s", tfm::format(fmt, std::forward<Args>(args)... ).c_str());
| ~~~~~~~~~~^~~~~~~~~~~~~~~~~~~~~~~~~~~~~~~~~~~~~~~~~~~~~~~~~~~~~~~~~~~~~~
/opt/ohpc/pub/compiler/gcc/14.2.0/bin/aarch64-unknown-linux-gnu-g++ -std=gnu++17 -I"/home/biocbuild/R/R-4.4.3/include" -DNDEBUG -D_FILE_OFFSET_BITS=64 -I'/home/biocbuild/R/R-4.4.3/site-library/Rcpp/include' -I'/home/biocbuild/R/R-4.4.3/site-library/Rhtslib/include' -I/usr/local/include -fPIC -g -O2 -Wall -c readVariantInfo.cpp -o readVariantInfo.o
In file included from /home/biocbuild/R/R-4.4.3/include/R.h:73,
from readVariantInfo.cpp:1:
/home/biocbuild/R/R-4.4.3/site-library/Rcpp/include/Rcpp/exceptions/cpp11/exceptions.h: In function ‘void Rcpp::Rf_warning(const char*, Args&& ...) [with Args = {const char*}]’:
/home/biocbuild/R/R-4.4.3/include/R_ext/Error.h:77:17: warning: infinite recursion detected [-Winfinite-recursion]
77 | #define warning Rf_warning
| ^~~~~~~~~~
/home/biocbuild/R/R-4.4.3/site-library/Rcpp/include/Rcpp/exceptions/cpp11/exceptions.h:46:13: note: in expansion of macro ‘warning’
46 | inline void warning(const char* fmt, Args&&... args ) {
| ^~~~~~~
In file included from /home/biocbuild/R/R-4.4.3/site-library/Rcpp/include/Rcpp/exceptions.h:180,
from /home/biocbuild/R/R-4.4.3/site-library/Rcpp/include/RcppCommon.h:130,
from /home/biocbuild/R/R-4.4.3/site-library/Rcpp/include/Rcpp.h:27,
from readVariantInfo.cpp:2:
/home/biocbuild/R/R-4.4.3/site-library/Rcpp/include/Rcpp/exceptions/cpp11/exceptions.h:47:15: note: recursive call
47 | Rf_warning("%s", tfm::format(fmt, std::forward<Args>(args)... ).c_str());
| ~~~~~~~~~~^~~~~~~~~~~~~~~~~~~~~~~~~~~~~~~~~~~~~~~~~~~~~~~~~~~~~~~~~~~~~~
/opt/ohpc/pub/compiler/gcc/14.2.0/bin/aarch64-unknown-linux-gnu-g++ -std=gnu++17 -shared -L/home/biocbuild/R/R-4.4.3/lib -L/usr/local/lib -o podkat.so R_init_podkat.o bernoulliExact.o checkAndFixGenotype.o cumMax.o doubleMale.o kernels.o pValues.o partitionRegions.o qfc.o readGenotypeMatrix.o readVariantInfo.o /home/biocbuild/R/R-4.4.3/site-library/Rhtslib/usrlib/libhts.a -lcurl -lbz2 -llzma -lz -L/home/biocbuild/R/R-4.4.3/lib -lR
installing to /home/biocbuild/R/R-4.4.3/site-library/00LOCK-podkat/00new/podkat/libs
** R
** data
** inst
** byte-compile and prepare package for lazy loading
Creating a generic function for ‘p.adjust’ from package ‘stats’ in package ‘podkat’
** help
*** installing help indices
** building package indices
** installing vignettes
** testing if installed package can be loaded from temporary location
** checking absolute paths in shared objects and dynamic libraries
** testing if installed package can be loaded from final location
** testing if installed package keeps a record of temporary installation path
* DONE (podkat)