| Back to Multiple platform build/check report for BioC 3.20: simplified long |
|
This page was generated on 2025-04-02 19:32 -0400 (Wed, 02 Apr 2025).
| Hostname | OS | Arch (*) | R version | Installed pkgs |
|---|---|---|---|---|
| nebbiolo2 | Linux (Ubuntu 24.04.1 LTS) | x86_64 | 4.4.3 (2025-02-28) -- "Trophy Case" | 4764 |
| palomino8 | Windows Server 2022 Datacenter | x64 | 4.4.3 (2025-02-28 ucrt) -- "Trophy Case" | 4495 |
| merida1 | macOS 12.7.5 Monterey | x86_64 | 4.4.3 (2025-02-28) -- "Trophy Case" | 4522 |
| kjohnson1 | macOS 13.6.6 Ventura | arm64 | 4.4.3 (2025-02-28) -- "Trophy Case" | 4449 |
| taishan | Linux (openEuler 24.03 LTS) | aarch64 | 4.4.3 (2025-02-28) -- "Trophy Case" | 4426 |
| Click on any hostname to see more info about the system (e.g. compilers) (*) as reported by 'uname -p', except on Windows and Mac OS X | ||||
| Package 1575/2289 | Hostname | OS / Arch | INSTALL | BUILD | CHECK | BUILD BIN | ||||||||
| podkat 1.38.0 (landing page) Ulrich Bodenhofer
| nebbiolo2 | Linux (Ubuntu 24.04.1 LTS) / x86_64 | OK | OK | OK | |||||||||
| palomino8 | Windows Server 2022 Datacenter / x64 | OK | OK | OK | OK | |||||||||
| merida1 | macOS 12.7.5 Monterey / x86_64 | OK | OK | OK | OK | |||||||||
| kjohnson1 | macOS 13.6.6 Ventura / arm64 | OK | OK | OK | OK | |||||||||
| taishan | Linux (openEuler 24.03 LTS) / aarch64 | OK | OK | OK | ||||||||||
|
To the developers/maintainers of the podkat package: - Allow up to 24 hours (and sometimes 48 hours) for your latest push to git@git.bioconductor.org:packages/podkat.git to reflect on this report. See Troubleshooting Build Report for more information. - Use the following Renviron settings to reproduce errors and warnings. - If 'R CMD check' started to fail recently on the Linux builder(s) over a missing dependency, add the missing dependency to 'Suggests:' in your DESCRIPTION file. See Renviron.bioc for more information. |
| Package: podkat |
| Version: 1.38.0 |
| Command: /Library/Frameworks/R.framework/Resources/bin/R CMD check --install=check:podkat.install-out.txt --library=/Library/Frameworks/R.framework/Resources/library --no-vignettes --timings podkat_1.38.0.tar.gz |
| StartedAt: 2025-04-01 07:16:58 -0400 (Tue, 01 Apr 2025) |
| EndedAt: 2025-04-01 07:27:29 -0400 (Tue, 01 Apr 2025) |
| EllapsedTime: 630.8 seconds |
| RetCode: 0 |
| Status: OK |
| CheckDir: podkat.Rcheck |
| Warnings: 0 |
##############################################################################
##############################################################################
###
### Running command:
###
### /Library/Frameworks/R.framework/Resources/bin/R CMD check --install=check:podkat.install-out.txt --library=/Library/Frameworks/R.framework/Resources/library --no-vignettes --timings podkat_1.38.0.tar.gz
###
##############################################################################
##############################################################################
* using log directory ‘/Users/biocbuild/bbs-3.20-bioc/meat/podkat.Rcheck’
* using R version 4.4.3 (2025-02-28)
* using platform: x86_64-apple-darwin20
* R was compiled by
Apple clang version 14.0.0 (clang-1400.0.29.202)
GNU Fortran (GCC) 12.2.0
* running under: macOS Monterey 12.7.6
* using session charset: UTF-8
* using option ‘--no-vignettes’
* checking for file ‘podkat/DESCRIPTION’ ... OK
* checking extension type ... Package
* this is package ‘podkat’ version ‘1.38.0’
* checking package namespace information ... OK
* checking package dependencies ... OK
* checking if this is a source package ... OK
* checking if there is a namespace ... OK
* checking for hidden files and directories ... OK
* checking for portable file names ... OK
* checking for sufficient/correct file permissions ... OK
* checking whether package ‘podkat’ can be installed ... OK
* used C++ compiler: ‘Apple clang version 14.0.0 (clang-1400.0.29.202)’
* used SDK: ‘MacOSX11.3.sdk’
* checking installed package size ... OK
* checking package directory ... OK
* checking ‘build’ directory ... OK
* checking DESCRIPTION meta-information ... OK
* checking top-level files ... OK
* checking for left-over files ... OK
* checking index information ... OK
* checking package subdirectories ... OK
* checking code files for non-ASCII characters ... OK
* checking R files for syntax errors ... OK
* checking whether the package can be loaded ... OK
* checking whether the package can be loaded with stated dependencies ... OK
* checking whether the package can be unloaded cleanly ... OK
* checking whether the namespace can be loaded with stated dependencies ... OK
* checking whether the namespace can be unloaded cleanly ... OK
* checking dependencies in R code ... OK
* checking S3 generic/method consistency ... OK
* checking replacement functions ... OK
* checking foreign function calls ... OK
* checking R code for possible problems ... OK
* checking Rd files ... OK
* checking Rd metadata ... OK
* checking Rd cross-references ... OK
* checking for missing documentation entries ... OK
* checking for code/documentation mismatches ... OK
* checking Rd \usage sections ... OK
* checking Rd contents ... OK
* checking for unstated dependencies in examples ... OK
* checking contents of ‘data’ directory ... OK
* checking data for non-ASCII characters ... OK
* checking data for ASCII and uncompressed saves ... OK
* checking line endings in C/C++/Fortran sources/headers ... OK
* checking line endings in Makefiles ... OK
* checking compilation flags in Makevars ... OK
* checking for GNU extensions in Makefiles ... NOTE
GNU make is a SystemRequirements.
* checking for portable use of $(BLAS_LIBS) and $(LAPACK_LIBS) ... OK
* checking use of PKG_*FLAGS in Makefiles ... OK
* checking compiled code ... NOTE
Note: information on .o files is not available
File ‘/Library/Frameworks/R.framework/Versions/4.4-x86_64/Resources/library/podkat/libs/podkat.so’:
Found ‘___assert_rtn’, possibly from ‘assert’ (C)
Found ‘___stderrp’, possibly from ‘stderr’ (C)
Found ‘___stdoutp’, possibly from ‘stdout’ (C)
Found ‘_abort’, possibly from ‘abort’ (C)
Found ‘_exit’, possibly from ‘exit’ (C)
Compiled code should not call entry points which might terminate R nor
write to stdout/stderr instead of to the console, nor use Fortran I/O
nor system RNGs nor [v]sprintf. The detected symbols are linked into
the code but might come from libraries and not actually be called.
See ‘Writing portable packages’ in the ‘Writing R Extensions’ manual.
* checking sizes of PDF files under ‘inst/doc’ ... OK
* checking files in ‘vignettes’ ... OK
* checking examples ... OK
Examples with CPU (user + system) or elapsed time > 5s
user system elapsed
unmaskedRegions 53.884 3.455 58.293
assocTest-methods 17.287 0.519 18.090
plot-methods 14.637 0.420 15.295
GenotypeMatrix-class 6.232 0.136 6.388
split-methods 5.802 0.218 6.072
* checking for unstated dependencies in vignettes ... OK
* checking package vignettes ... OK
* checking running R code from vignettes ... SKIPPED
* checking re-building of vignette outputs ... SKIPPED
* checking PDF version of manual ... OK
* DONE
Status: 2 NOTEs
See
‘/Users/biocbuild/bbs-3.20-bioc/meat/podkat.Rcheck/00check.log’
for details.
podkat.Rcheck/00install.out
############################################################################## ############################################################################## ### ### Running command: ### ### /Library/Frameworks/R.framework/Resources/bin/R CMD INSTALL podkat ### ############################################################################## ############################################################################## * installing to library ‘/Library/Frameworks/R.framework/Versions/4.4-x86_64/Resources/library’ * installing *source* package ‘podkat’ ... ** using staged installation ** libs using C++ compiler: ‘Apple clang version 14.0.0 (clang-1400.0.29.202)’ using SDK: ‘MacOSX11.3.sdk’ clang++ -arch x86_64 -std=gnu++17 -I"/Library/Frameworks/R.framework/Resources/include" -DNDEBUG -D_FILE_OFFSET_BITS=64 -I'/Library/Frameworks/R.framework/Versions/4.4-x86_64/Resources/library/Rcpp/include' -I'/Library/Frameworks/R.framework/Versions/4.4-x86_64/Resources/library/Rhtslib/include' -I/opt/R/x86_64/include -fPIC -falign-functions=64 -Wall -g -O2 -c R_init_podkat.cpp -o R_init_podkat.o clang++ -arch x86_64 -std=gnu++17 -I"/Library/Frameworks/R.framework/Resources/include" -DNDEBUG -D_FILE_OFFSET_BITS=64 -I'/Library/Frameworks/R.framework/Versions/4.4-x86_64/Resources/library/Rcpp/include' -I'/Library/Frameworks/R.framework/Versions/4.4-x86_64/Resources/library/Rhtslib/include' -I/opt/R/x86_64/include -fPIC -falign-functions=64 -Wall -g -O2 -c bernoulliExact.cpp -o bernoulliExact.o clang++ -arch x86_64 -std=gnu++17 -I"/Library/Frameworks/R.framework/Resources/include" -DNDEBUG -D_FILE_OFFSET_BITS=64 -I'/Library/Frameworks/R.framework/Versions/4.4-x86_64/Resources/library/Rcpp/include' -I'/Library/Frameworks/R.framework/Versions/4.4-x86_64/Resources/library/Rhtslib/include' -I/opt/R/x86_64/include -fPIC -falign-functions=64 -Wall -g -O2 -c checkAndFixGenotype.cpp -o checkAndFixGenotype.o clang++ -arch x86_64 -std=gnu++17 -I"/Library/Frameworks/R.framework/Resources/include" -DNDEBUG -D_FILE_OFFSET_BITS=64 -I'/Library/Frameworks/R.framework/Versions/4.4-x86_64/Resources/library/Rcpp/include' -I'/Library/Frameworks/R.framework/Versions/4.4-x86_64/Resources/library/Rhtslib/include' -I/opt/R/x86_64/include -fPIC -falign-functions=64 -Wall -g -O2 -c cumMax.cpp -o cumMax.o clang++ -arch x86_64 -std=gnu++17 -I"/Library/Frameworks/R.framework/Resources/include" -DNDEBUG -D_FILE_OFFSET_BITS=64 -I'/Library/Frameworks/R.framework/Versions/4.4-x86_64/Resources/library/Rcpp/include' -I'/Library/Frameworks/R.framework/Versions/4.4-x86_64/Resources/library/Rhtslib/include' -I/opt/R/x86_64/include -fPIC -falign-functions=64 -Wall -g -O2 -c doubleMale.cpp -o doubleMale.o clang++ -arch x86_64 -std=gnu++17 -I"/Library/Frameworks/R.framework/Resources/include" -DNDEBUG -D_FILE_OFFSET_BITS=64 -I'/Library/Frameworks/R.framework/Versions/4.4-x86_64/Resources/library/Rcpp/include' -I'/Library/Frameworks/R.framework/Versions/4.4-x86_64/Resources/library/Rhtslib/include' -I/opt/R/x86_64/include -fPIC -falign-functions=64 -Wall -g -O2 -c kernels.cpp -o kernels.o clang++ -arch x86_64 -std=gnu++17 -I"/Library/Frameworks/R.framework/Resources/include" -DNDEBUG -D_FILE_OFFSET_BITS=64 -I'/Library/Frameworks/R.framework/Versions/4.4-x86_64/Resources/library/Rcpp/include' -I'/Library/Frameworks/R.framework/Versions/4.4-x86_64/Resources/library/Rhtslib/include' -I/opt/R/x86_64/include -fPIC -falign-functions=64 -Wall -g -O2 -c pValues.cpp -o pValues.o clang++ -arch x86_64 -std=gnu++17 -I"/Library/Frameworks/R.framework/Resources/include" -DNDEBUG -D_FILE_OFFSET_BITS=64 -I'/Library/Frameworks/R.framework/Versions/4.4-x86_64/Resources/library/Rcpp/include' -I'/Library/Frameworks/R.framework/Versions/4.4-x86_64/Resources/library/Rhtslib/include' -I/opt/R/x86_64/include -fPIC -falign-functions=64 -Wall -g -O2 -c partitionRegions.cpp -o partitionRegions.o clang++ -arch x86_64 -std=gnu++17 -I"/Library/Frameworks/R.framework/Resources/include" -DNDEBUG -D_FILE_OFFSET_BITS=64 -I'/Library/Frameworks/R.framework/Versions/4.4-x86_64/Resources/library/Rcpp/include' -I'/Library/Frameworks/R.framework/Versions/4.4-x86_64/Resources/library/Rhtslib/include' -I/opt/R/x86_64/include -fPIC -falign-functions=64 -Wall -g -O2 -c qfc.cpp -o qfc.o clang++ -arch x86_64 -std=gnu++17 -I"/Library/Frameworks/R.framework/Resources/include" -DNDEBUG -D_FILE_OFFSET_BITS=64 -I'/Library/Frameworks/R.framework/Versions/4.4-x86_64/Resources/library/Rcpp/include' -I'/Library/Frameworks/R.framework/Versions/4.4-x86_64/Resources/library/Rhtslib/include' -I/opt/R/x86_64/include -fPIC -falign-functions=64 -Wall -g -O2 -c readGenotypeMatrix.cpp -o readGenotypeMatrix.o clang++ -arch x86_64 -std=gnu++17 -I"/Library/Frameworks/R.framework/Resources/include" -DNDEBUG -D_FILE_OFFSET_BITS=64 -I'/Library/Frameworks/R.framework/Versions/4.4-x86_64/Resources/library/Rcpp/include' -I'/Library/Frameworks/R.framework/Versions/4.4-x86_64/Resources/library/Rhtslib/include' -I/opt/R/x86_64/include -fPIC -falign-functions=64 -Wall -g -O2 -c readVariantInfo.cpp -o readVariantInfo.o clang++ -arch x86_64 -std=gnu++17 -dynamiclib -Wl,-headerpad_max_install_names -undefined dynamic_lookup -L/Library/Frameworks/R.framework/Resources/lib -L/opt/R/x86_64/lib -o podkat.so R_init_podkat.o bernoulliExact.o checkAndFixGenotype.o cumMax.o doubleMale.o kernels.o pValues.o partitionRegions.o qfc.o readGenotypeMatrix.o readVariantInfo.o /Library/Frameworks/R.framework/Versions/4.4-x86_64/Resources/library/Rhtslib/usrlib/libhts.a -lcurl -lbz2 -llzma -lz -F/Library/Frameworks/R.framework/.. -framework R -Wl,-framework -Wl,CoreFoundation installing to /Library/Frameworks/R.framework/Versions/4.4-x86_64/Resources/library/00LOCK-podkat/00new/podkat/libs ** R ** data ** inst ** byte-compile and prepare package for lazy loading Creating a generic function for ‘p.adjust’ from package ‘stats’ in package ‘podkat’ ** help *** installing help indices ** building package indices ** installing vignettes ** testing if installed package can be loaded from temporary location ** checking absolute paths in shared objects and dynamic libraries ** testing if installed package can be loaded from final location ** testing if installed package keeps a record of temporary installation path * DONE (podkat)
podkat.Rcheck/podkat-Ex.timings
| name | user | system | elapsed | |
| AssocTestResult-class | 1.170 | 0.083 | 1.269 | |
| AssocTestResultRanges-class | 3.465 | 0.217 | 3.691 | |
| GenotypeMatrix-class | 6.232 | 0.136 | 6.388 | |
| NullModel-class | 2.807 | 0.228 | 3.047 | |
| VariantInfo-class | 0.711 | 0.007 | 0.720 | |
| assocTest-methods | 17.287 | 0.519 | 18.090 | |
| computeKernel | 0.004 | 0.003 | 0.008 | |
| filterResult-methods | 2.814 | 0.051 | 2.879 | |
| genotypeMatrix-methods | 1.570 | 0.028 | 1.603 | |
| hgA | 0.048 | 0.006 | 0.055 | |
| nullModel-methods | 1.589 | 0.143 | 1.741 | |
| p.adjust-methods | 3.312 | 0.030 | 3.350 | |
| partitionRegions-methods | 1.709 | 0.019 | 1.733 | |
| plot-methods | 14.637 | 0.420 | 15.295 | |
| podkat-package | 2.463 | 0.056 | 2.528 | |
| print-methods | 2.353 | 0.086 | 2.444 | |
| qqplot-methods | 3.805 | 0.032 | 3.849 | |
| readGenotypeMatrix-methods | 0.613 | 0.007 | 0.623 | |
| readRegionsFromBedFile | 0.073 | 0.008 | 0.081 | |
| readSampleNamesFromVcfHeader | 0.083 | 0.006 | 0.090 | |
| readVariantInfo-methods | 0.741 | 0.011 | 0.755 | |
| sort-methods | 2.468 | 0.079 | 2.558 | |
| split-methods | 5.802 | 0.218 | 6.072 | |
| unmasked-datasets | 0.992 | 0.020 | 1.026 | |
| unmaskedRegions | 53.884 | 3.455 | 58.293 | |
| weightFuncs | 0.010 | 0.004 | 0.015 | |
| weights-methods | 3.001 | 0.082 | 3.109 | |