| Back to Multiple platform build/check report for BioC 3.20: simplified long | 
 | 
This page was generated on 2025-04-02 19:30 -0400 (Wed, 02 Apr 2025).
| Hostname | OS | Arch (*) | R version | Installed pkgs | 
|---|---|---|---|---|
| nebbiolo2 | Linux (Ubuntu 24.04.1 LTS) | x86_64 | 4.4.3 (2025-02-28) -- "Trophy Case" | 4764 | 
| palomino8 | Windows Server 2022 Datacenter | x64 | 4.4.3 (2025-02-28 ucrt) -- "Trophy Case" | 4495 | 
| merida1 | macOS 12.7.5 Monterey | x86_64 | 4.4.3 (2025-02-28) -- "Trophy Case" | 4522 | 
| kjohnson1 | macOS 13.6.6 Ventura | arm64 | 4.4.3 (2025-02-28) -- "Trophy Case" | 4449 | 
| taishan | Linux (openEuler 24.03 LTS) | aarch64 | 4.4.3 (2025-02-28) -- "Trophy Case" | 4426 | 
| Click on any hostname to see more info about the system (e.g. compilers) (*) as reported by 'uname -p', except on Windows and Mac OS X | ||||
| Package 1417/2289 | Hostname | OS / Arch | INSTALL | BUILD | CHECK | BUILD BIN | ||||||||
| ngsReports 2.8.0  (landing page) Stevie Pederson 
 | nebbiolo2 | Linux (Ubuntu 24.04.1 LTS) / x86_64 | OK | OK | OK |  | ||||||||
| palomino8 | Windows Server 2022 Datacenter / x64 | OK | OK | OK | OK |  | ||||||||
| merida1 | macOS 12.7.5 Monterey / x86_64 | OK | OK | OK | OK |  | ||||||||
| kjohnson1 | macOS 13.6.6 Ventura / arm64 | OK | OK | OK | OK |  | ||||||||
| taishan | Linux (openEuler 24.03 LTS) / aarch64 | OK | OK | OK | ||||||||||
| To the developers/maintainers of the ngsReports package: - Allow up to 24 hours (and sometimes 48 hours) for your latest push to git@git.bioconductor.org:packages/ngsReports.git to reflect on this report. See Troubleshooting Build Report for more information. - Use the following Renviron settings to reproduce errors and warnings. - If 'R CMD check' started to fail recently on the Linux builder(s) over a missing dependency, add the missing dependency to 'Suggests:' in your DESCRIPTION file. See Renviron.bioc for more information. | 
| Package: ngsReports | 
| Version: 2.8.0 | 
| Command: F:\biocbuild\bbs-3.20-bioc\R\bin\R.exe CMD check --no-multiarch --install=check:ngsReports.install-out.txt --library=F:\biocbuild\bbs-3.20-bioc\R\library --no-vignettes --timings ngsReports_2.8.0.tar.gz | 
| StartedAt: 2025-04-01 04:06:27 -0400 (Tue, 01 Apr 2025) | 
| EndedAt: 2025-04-01 04:10:27 -0400 (Tue, 01 Apr 2025) | 
| EllapsedTime: 240.1 seconds | 
| RetCode: 0 | 
| Status: OK | 
| CheckDir: ngsReports.Rcheck | 
| Warnings: 0 | 
##############################################################################
##############################################################################
###
### Running command:
###
###   F:\biocbuild\bbs-3.20-bioc\R\bin\R.exe CMD check --no-multiarch --install=check:ngsReports.install-out.txt --library=F:\biocbuild\bbs-3.20-bioc\R\library --no-vignettes --timings ngsReports_2.8.0.tar.gz
###
##############################################################################
##############################################################################
* using log directory 'F:/biocbuild/bbs-3.20-bioc/meat/ngsReports.Rcheck'
* using R version 4.4.3 (2025-02-28 ucrt)
* using platform: x86_64-w64-mingw32
* R was compiled by
    gcc.exe (GCC) 13.3.0
    GNU Fortran (GCC) 13.3.0
* running under: Windows Server 2022 x64 (build 20348)
* using session charset: UTF-8
* using option '--no-vignettes'
* checking for file 'ngsReports/DESCRIPTION' ... OK
* this is package 'ngsReports' version '2.8.0'
* package encoding: UTF-8
* checking package namespace information ... OK
* checking package dependencies ... OK
* checking if this is a source package ... OK
* checking if there is a namespace ... OK
* checking for hidden files and directories ... OK
* checking for portable file names ... OK
* checking whether package 'ngsReports' can be installed ... OK
* checking installed package size ... OK
* checking package directory ... OK
* checking 'build' directory ... OK
* checking DESCRIPTION meta-information ... OK
* checking top-level files ... OK
* checking for left-over files ... OK
* checking index information ... OK
* checking package subdirectories ... OK
* checking code files for non-ASCII characters ... OK
* checking R files for syntax errors ... OK
* checking whether the package can be loaded ... OK
* checking whether the package can be loaded with stated dependencies ... OK
* checking whether the package can be unloaded cleanly ... OK
* checking whether the namespace can be loaded with stated dependencies ... OK
* checking whether the namespace can be unloaded cleanly ... OK
* checking dependencies in R code ... OK
* checking S3 generic/method consistency ... OK
* checking replacement functions ... OK
* checking foreign function calls ... OK
* checking R code for possible problems ... OK
* checking Rd files ... OK
* checking Rd metadata ... OK
* checking Rd cross-references ... OK
* checking for missing documentation entries ... OK
* checking for code/documentation mismatches ... OK
* checking Rd \usage sections ... OK
* checking Rd contents ... OK
* checking for unstated dependencies in examples ... OK
* checking contents of 'data' directory ... OK
* checking data for non-ASCII characters ... OK
* checking LazyData ... OK
* checking data for ASCII and uncompressed saves ... OK
* checking files in 'vignettes' ... OK
* checking examples ... OK
* checking for unstated dependencies in 'tests' ... OK
* checking tests ...
  Running 'testthat.R'
 OK
* checking for unstated dependencies in vignettes ... OK
* checking package vignettes ... OK
* checking running R code from vignettes ... SKIPPED
* checking re-building of vignette outputs ... SKIPPED
* checking PDF version of manual ... OK
* DONE
Status: OK
ngsReports.Rcheck/00install.out
############################################################################## ############################################################################## ### ### Running command: ### ### F:\biocbuild\bbs-3.20-bioc\R\bin\R.exe CMD INSTALL ngsReports ### ############################################################################## ############################################################################## * installing to library 'F:/biocbuild/bbs-3.20-bioc/R/library' * installing *source* package 'ngsReports' ... ** using staged installation ** R ** data *** moving datasets to lazyload DB ** inst ** byte-compile and prepare package for lazy loading ** help *** installing help indices *** copying figures ** building package indices ** installing vignettes ** testing if installed package can be loaded from temporary location ** testing if installed package can be loaded from final location ** testing if installed package keeps a record of temporary installation path * DONE (ngsReports)
ngsReports.Rcheck/tests/testthat.Rout
R version 4.4.3 (2025-02-28 ucrt) -- "Trophy Case"
Copyright (C) 2025 The R Foundation for Statistical Computing
Platform: x86_64-w64-mingw32/x64
R is free software and comes with ABSOLUTELY NO WARRANTY.
You are welcome to redistribute it under certain conditions.
Type 'license()' or 'licence()' for distribution details.
R is a collaborative project with many contributors.
Type 'contributors()' for more information and
'citation()' on how to cite R or R packages in publications.
Type 'demo()' for some demos, 'help()' for on-line help, or
'help.start()' for an HTML browser interface to help.
Type 'q()' to quit R.
> library(testthat)
> library(ngsReports)
Loading required package: BiocGenerics
Attaching package: 'BiocGenerics'
The following objects are masked from 'package:stats':
    IQR, mad, sd, var, xtabs
The following objects are masked from 'package:base':
    Filter, Find, Map, Position, Reduce, anyDuplicated, aperm, append,
    as.data.frame, basename, cbind, colnames, dirname, do.call,
    duplicated, eval, evalq, get, grep, grepl, intersect, is.unsorted,
    lapply, mapply, match, mget, order, paste, pmax, pmax.int, pmin,
    pmin.int, rank, rbind, rownames, sapply, saveRDS, setdiff, table,
    tapply, union, unique, unsplit, which.max, which.min
Loading required package: ggplot2
Loading required package: patchwork
Loading required package: tibble
> 
> test_check("ngsReports")
[ FAIL 0 | WARN 0 | SKIP 0 | PASS 387 ]
> 
> proc.time()
   user  system elapsed 
  57.48    2.79   63.29 
ngsReports.Rcheck/ngsReports-Ex.timings
| name | user | system | elapsed | |
| FastqcData | 0.11 | 0.01 | 0.13 | |
| FastqcDataList | 0.52 | 0.03 | 0.55 | |
| TheoreticalGC-class | 0.08 | 0.02 | 0.11 | |
| dot-FastqcFile-class | 0 | 0 | 0 | |
| dot-addPercent | 0 | 0 | 0 | |
| dot-emptyPlot | 0.11 | 0.01 | 0.12 | |
| dot-makeDendro | 0.49 | 0.05 | 0.53 | |
| dot-makeLabels | 0 | 0 | 0 | |
| dot-splitByTab | 0 | 0 | 0 | |
| estGcDistn | 0.01 | 0.02 | 0.03 | |
| extract-methods | 0.34 | 0.04 | 0.39 | |
| fqName-methods | 0.42 | 0.05 | 0.47 | |
| fqcVersion | 0.47 | 0.03 | 0.50 | |
| gcAvail | 0.03 | 0.00 | 0.03 | |
| gcTheoretical | 0.05 | 0.00 | 0.05 | |
| getColours-methods | 0 | 0 | 0 | |
| getGC | 0.00 | 0.02 | 0.02 | |
| getModule | 0.52 | 0.04 | 0.56 | |
| getSummary | 0.45 | 0.02 | 0.47 | |
| importNgsLogs | 0.03 | 0.00 | 0.03 | |
| importSJ | 0.02 | 0.00 | 0.02 | |
| isCompressed | 0 | 0 | 0 | |
| mData | 0.03 | 0.00 | 0.03 | |
| maxAdapterContent | 0.53 | 0.03 | 0.56 | |
| overRep2Fasta-methods | 0.49 | 0.05 | 0.53 | |
| path | 0.47 | 0.03 | 0.50 | |
| plotAdapterContent-methods | 3.51 | 0.03 | 3.56 | |
| plotAlignmentSummary | 0.77 | 0.02 | 0.78 | |
| plotAssemblyStats | 0.83 | 0.01 | 0.84 | |
| plotBaseQuals-methods | 1.85 | 0.05 | 1.91 | |
| plotDupLevels-methods | 1.33 | 0.04 | 1.37 | |
| plotFastqcPCA-methods | 0.67 | 0.05 | 0.72 | |
| plotGcContent-methods | 1.02 | 0.03 | 1.05 | |
| plotInsertSize-methods | 0.72 | 0.02 | 0.73 | |
| plotKmers-methods | 1.62 | 0.03 | 1.66 | |
| plotNContent-methods | 0.97 | 0.02 | 0.99 | |
| plotOverrep-methods | 0.92 | 0.00 | 0.92 | |
| plotReadTotals-methods | 0.77 | 0.03 | 0.79 | |
| plotSeqContent-methods | 4.56 | 0.06 | 4.63 | |
| plotSeqLengthDistn-methods | 1.38 | 0.01 | 1.39 | |
| plotSeqQuals-methods | 1.53 | 0.04 | 1.56 | |
| plotSummary-methods | 0.72 | 0.01 | 0.74 | |
| pwf | 0.01 | 0.00 | 0.01 | |
| readTotals | 0.44 | 0.03 | 0.47 | |
| summariseOverrep-methods | 0.89 | 0.00 | 0.89 | |
| writeHtmlReport | 0 | 0 | 0 | |