| Back to Multiple platform build/check report for BioC 3.20: simplified long | 
 | 
This page was generated on 2025-04-02 19:29 -0400 (Wed, 02 Apr 2025).
| Hostname | OS | Arch (*) | R version | Installed pkgs | 
|---|---|---|---|---|
| nebbiolo2 | Linux (Ubuntu 24.04.1 LTS) | x86_64 | 4.4.3 (2025-02-28) -- "Trophy Case" | 4764 | 
| palomino8 | Windows Server 2022 Datacenter | x64 | 4.4.3 (2025-02-28 ucrt) -- "Trophy Case" | 4495 | 
| merida1 | macOS 12.7.5 Monterey | x86_64 | 4.4.3 (2025-02-28) -- "Trophy Case" | 4522 | 
| kjohnson1 | macOS 13.6.6 Ventura | arm64 | 4.4.3 (2025-02-28) -- "Trophy Case" | 4449 | 
| taishan | Linux (openEuler 24.03 LTS) | aarch64 | 4.4.3 (2025-02-28) -- "Trophy Case" | 4426 | 
| Click on any hostname to see more info about the system (e.g. compilers) (*) as reported by 'uname -p', except on Windows and Mac OS X | ||||
| Package 1417/2289 | Hostname | OS / Arch | INSTALL | BUILD | CHECK | BUILD BIN | ||||||||
| ngsReports 2.8.0  (landing page) Stevie Pederson 
 | nebbiolo2 | Linux (Ubuntu 24.04.1 LTS) / x86_64 | OK | OK | OK |  | ||||||||
| palomino8 | Windows Server 2022 Datacenter / x64 | OK | OK | OK | OK |  | ||||||||
| merida1 | macOS 12.7.5 Monterey / x86_64 | OK | OK | OK | OK |  | ||||||||
| kjohnson1 | macOS 13.6.6 Ventura / arm64 | OK | OK | OK | OK |  | ||||||||
| taishan | Linux (openEuler 24.03 LTS) / aarch64 | OK | OK | OK | ||||||||||
| To the developers/maintainers of the ngsReports package: - Allow up to 24 hours (and sometimes 48 hours) for your latest push to git@git.bioconductor.org:packages/ngsReports.git to reflect on this report. See Troubleshooting Build Report for more information. - Use the following Renviron settings to reproduce errors and warnings. - If 'R CMD check' started to fail recently on the Linux builder(s) over a missing dependency, add the missing dependency to 'Suggests:' in your DESCRIPTION file. See Renviron.bioc for more information. | 
| Package: ngsReports | 
| Version: 2.8.0 | 
| Command: /home/biocbuild/bbs-3.20-bioc/R/bin/R CMD check --install=check:ngsReports.install-out.txt --library=/home/biocbuild/bbs-3.20-bioc/R/site-library --timings ngsReports_2.8.0.tar.gz | 
| StartedAt: 2025-04-01 00:28:32 -0400 (Tue, 01 Apr 2025) | 
| EndedAt: 2025-04-01 00:31:56 -0400 (Tue, 01 Apr 2025) | 
| EllapsedTime: 204.1 seconds | 
| RetCode: 0 | 
| Status: OK | 
| CheckDir: ngsReports.Rcheck | 
| Warnings: 0 | 
##############################################################################
##############################################################################
###
### Running command:
###
###   /home/biocbuild/bbs-3.20-bioc/R/bin/R CMD check --install=check:ngsReports.install-out.txt --library=/home/biocbuild/bbs-3.20-bioc/R/site-library --timings ngsReports_2.8.0.tar.gz
###
##############################################################################
##############################################################################
* using log directory ‘/home/biocbuild/bbs-3.20-bioc/meat/ngsReports.Rcheck’
* using R version 4.4.3 (2025-02-28)
* using platform: x86_64-pc-linux-gnu
* R was compiled by
    gcc (Ubuntu 13.3.0-6ubuntu2~24.04) 13.3.0
    GNU Fortran (Ubuntu 13.3.0-6ubuntu2~24.04) 13.3.0
* running under: Ubuntu 24.04.2 LTS
* using session charset: UTF-8
* checking for file ‘ngsReports/DESCRIPTION’ ... OK
* this is package ‘ngsReports’ version ‘2.8.0’
* package encoding: UTF-8
* checking package namespace information ... OK
* checking package dependencies ... OK
* checking if this is a source package ... OK
* checking if there is a namespace ... OK
* checking for hidden files and directories ... OK
* checking for portable file names ... OK
* checking for sufficient/correct file permissions ... OK
* checking whether package ‘ngsReports’ can be installed ... OK
* checking installed package size ... OK
* checking package directory ... OK
* checking ‘build’ directory ... OK
* checking DESCRIPTION meta-information ... OK
* checking top-level files ... OK
* checking for left-over files ... OK
* checking index information ... OK
* checking package subdirectories ... OK
* checking code files for non-ASCII characters ... OK
* checking R files for syntax errors ... OK
* checking whether the package can be loaded ... OK
* checking whether the package can be loaded with stated dependencies ... OK
* checking whether the package can be unloaded cleanly ... OK
* checking whether the namespace can be loaded with stated dependencies ... OK
* checking whether the namespace can be unloaded cleanly ... OK
* checking loading without being on the library search path ... OK
* checking dependencies in R code ... OK
* checking S3 generic/method consistency ... OK
* checking replacement functions ... OK
* checking foreign function calls ... OK
* checking R code for possible problems ... OK
* checking Rd files ... OK
* checking Rd metadata ... OK
* checking Rd cross-references ... OK
* checking for missing documentation entries ... OK
* checking for code/documentation mismatches ... OK
* checking Rd \usage sections ... OK
* checking Rd contents ... OK
* checking for unstated dependencies in examples ... OK
* checking contents of ‘data’ directory ... OK
* checking data for non-ASCII characters ... OK
* checking LazyData ... OK
* checking data for ASCII and uncompressed saves ... OK
* checking files in ‘vignettes’ ... OK
* checking examples ... OK
* checking for unstated dependencies in ‘tests’ ... OK
* checking tests ...
  Running ‘testthat.R’
 OK
* checking for unstated dependencies in vignettes ... OK
* checking package vignettes ... OK
* checking re-building of vignette outputs ... OK
* checking PDF version of manual ... OK
* DONE
Status: OK
ngsReports.Rcheck/00install.out
############################################################################## ############################################################################## ### ### Running command: ### ### /home/biocbuild/bbs-3.20-bioc/R/bin/R CMD INSTALL ngsReports ### ############################################################################## ############################################################################## * installing to library ‘/home/biocbuild/bbs-3.20-bioc/R/site-library’ * installing *source* package ‘ngsReports’ ... ** using staged installation ** R ** data *** moving datasets to lazyload DB ** inst ** byte-compile and prepare package for lazy loading ** help *** installing help indices *** copying figures ** building package indices ** installing vignettes ** testing if installed package can be loaded from temporary location ** testing if installed package can be loaded from final location ** testing if installed package keeps a record of temporary installation path * DONE (ngsReports)
ngsReports.Rcheck/tests/testthat.Rout
R version 4.4.3 (2025-02-28) -- "Trophy Case"
Copyright (C) 2025 The R Foundation for Statistical Computing
Platform: x86_64-pc-linux-gnu
R is free software and comes with ABSOLUTELY NO WARRANTY.
You are welcome to redistribute it under certain conditions.
Type 'license()' or 'licence()' for distribution details.
R is a collaborative project with many contributors.
Type 'contributors()' for more information and
'citation()' on how to cite R or R packages in publications.
Type 'demo()' for some demos, 'help()' for on-line help, or
'help.start()' for an HTML browser interface to help.
Type 'q()' to quit R.
> library(testthat)
> library(ngsReports)
Loading required package: BiocGenerics
Attaching package: 'BiocGenerics'
The following objects are masked from 'package:stats':
    IQR, mad, sd, var, xtabs
The following objects are masked from 'package:base':
    Filter, Find, Map, Position, Reduce, anyDuplicated, aperm, append,
    as.data.frame, basename, cbind, colnames, dirname, do.call,
    duplicated, eval, evalq, get, grep, grepl, intersect, is.unsorted,
    lapply, mapply, match, mget, order, paste, pmax, pmax.int, pmin,
    pmin.int, rank, rbind, rownames, sapply, saveRDS, setdiff, table,
    tapply, union, unique, unsplit, which.max, which.min
Loading required package: ggplot2
Loading required package: patchwork
Loading required package: tibble
> 
> test_check("ngsReports")
[ FAIL 0 | WARN 0 | SKIP 0 | PASS 387 ]
> 
> proc.time()
   user  system elapsed 
 46.386   1.302  47.693 
ngsReports.Rcheck/ngsReports-Ex.timings
| name | user | system | elapsed | |
| FastqcData | 0.075 | 0.002 | 0.079 | |
| FastqcDataList | 0.365 | 0.007 | 0.380 | |
| TheoreticalGC-class | 0.065 | 0.003 | 0.068 | |
| dot-FastqcFile-class | 0.000 | 0.002 | 0.003 | |
| dot-addPercent | 0 | 0 | 0 | |
| dot-emptyPlot | 0.126 | 0.001 | 0.127 | |
| dot-makeDendro | 0.454 | 0.008 | 0.462 | |
| dot-makeLabels | 0.000 | 0.000 | 0.001 | |
| dot-splitByTab | 0.004 | 0.000 | 0.004 | |
| estGcDistn | 0.021 | 0.000 | 0.021 | |
| extract-methods | 0.338 | 0.024 | 0.363 | |
| fqName-methods | 0.320 | 0.009 | 0.329 | |
| fqcVersion | 0.341 | 0.031 | 0.372 | |
| gcAvail | 0.018 | 0.001 | 0.019 | |
| gcTheoretical | 0.030 | 0.001 | 0.031 | |
| getColours-methods | 0.001 | 0.001 | 0.002 | |
| getGC | 0.015 | 0.001 | 0.016 | |
| getModule | 0.349 | 0.031 | 0.380 | |
| getSummary | 0.363 | 0.026 | 0.389 | |
| importNgsLogs | 0.021 | 0.002 | 0.023 | |
| importSJ | 0.007 | 0.000 | 0.007 | |
| isCompressed | 0.002 | 0.000 | 0.002 | |
| mData | 0.018 | 0.001 | 0.019 | |
| maxAdapterContent | 0.371 | 0.019 | 0.390 | |
| overRep2Fasta-methods | 0.333 | 0.011 | 0.344 | |
| path | 0.305 | 0.001 | 0.307 | |
| plotAdapterContent-methods | 2.534 | 0.080 | 2.615 | |
| plotAlignmentSummary | 0.582 | 0.030 | 0.613 | |
| plotAssemblyStats | 0.455 | 0.071 | 0.526 | |
| plotBaseQuals-methods | 1.333 | 0.070 | 1.402 | |
| plotDupLevels-methods | 0.895 | 0.031 | 0.925 | |
| plotFastqcPCA-methods | 0.502 | 0.014 | 0.515 | |
| plotGcContent-methods | 0.740 | 0.013 | 0.753 | |
| plotInsertSize-methods | 0.475 | 0.000 | 0.476 | |
| plotKmers-methods | 1.246 | 0.034 | 1.281 | |
| plotNContent-methods | 0.636 | 0.003 | 0.639 | |
| plotOverrep-methods | 0.660 | 0.045 | 0.706 | |
| plotReadTotals-methods | 0.648 | 0.014 | 0.663 | |
| plotSeqContent-methods | 2.933 | 0.017 | 2.950 | |
| plotSeqLengthDistn-methods | 1.010 | 0.006 | 1.016 | |
| plotSeqQuals-methods | 1.077 | 0.003 | 1.080 | |
| plotSummary-methods | 0.493 | 0.002 | 0.495 | |
| pwf | 0.003 | 0.000 | 0.004 | |
| readTotals | 0.352 | 0.001 | 0.353 | |
| summariseOverrep-methods | 0.616 | 0.014 | 0.630 | |
| writeHtmlReport | 0 | 0 | 0 | |