| Back to Multiple platform build/check report for BioC 3.20: simplified long | 
 | 
This page was generated on 2024-11-20 12:06 -0500 (Wed, 20 Nov 2024).
| Hostname | OS | Arch (*) | R version | Installed pkgs | 
|---|---|---|---|---|
| teran2 | Linux (Ubuntu 24.04.1 LTS) | x86_64 | 4.4.2 (2024-10-31) -- "Pile of Leaves" | 4481 | 
| nebbiolo2 | Linux (Ubuntu 24.04.1 LTS) | x86_64 | 4.4.2 (2024-10-31) -- "Pile of Leaves" | 4479 | 
| palomino8 | Windows Server 2022 Datacenter | x64 | 4.4.2 (2024-10-31 ucrt) -- "Pile of Leaves" | 4359 | 
| lconway | macOS 12.7.1 Monterey | x86_64 | 4.4.1 (2024-06-14) -- "Race for Your Life" | 4539 | 
| kunpeng2 | Linux (openEuler 22.03 LTS-SP1) | aarch64 | 4.4.1 (2024-06-14) -- "Race for Your Life" | 4493 | 
| Click on any hostname to see more info about the system (e.g. compilers) (*) as reported by 'uname -p', except on Windows and Mac OS X | ||||
| Package 1381/2289 | Hostname | OS / Arch | INSTALL | BUILD | CHECK | BUILD BIN | ||||||||
| musicatk 2.0.0  (landing page) Joshua D. Campbell 
 | teran2 | Linux (Ubuntu 24.04.1 LTS) / x86_64 | OK | OK | OK |  | ||||||||
| nebbiolo2 | Linux (Ubuntu 24.04.1 LTS) / x86_64 | OK | OK | OK | ||||||||||
| palomino8 | Windows Server 2022 Datacenter / x64 | OK | OK | OK | OK |  | ||||||||
| lconway | macOS 12.7.1 Monterey / x86_64 | OK | OK | OK | OK |  | ||||||||
| kunpeng2 | Linux (openEuler 22.03 LTS-SP1) / aarch64 | OK | OK | OK | ||||||||||
| To the developers/maintainers of the musicatk package: - Allow up to 24 hours (and sometimes 48 hours) for your latest push to git@git.bioconductor.org:packages/musicatk.git to reflect on this report. See Troubleshooting Build Report for more information. - Use the following Renviron settings to reproduce errors and warnings. - If 'R CMD check' started to fail recently on the Linux builder(s) over a missing dependency, add the missing dependency to 'Suggests:' in your DESCRIPTION file. See Renviron.bioc for more information. | 
| Package: musicatk | 
| Version: 2.0.0 | 
| Command: /Library/Frameworks/R.framework/Resources/bin/R CMD check --install=check:musicatk.install-out.txt --library=/Library/Frameworks/R.framework/Resources/library --no-vignettes --timings musicatk_2.0.0.tar.gz | 
| StartedAt: 2024-11-20 00:31:03 -0500 (Wed, 20 Nov 2024) | 
| EndedAt: 2024-11-20 00:45:00 -0500 (Wed, 20 Nov 2024) | 
| EllapsedTime: 836.7 seconds | 
| RetCode: 0 | 
| Status: OK | 
| CheckDir: musicatk.Rcheck | 
| Warnings: 0 | 
##############################################################################
##############################################################################
###
### Running command:
###
###   /Library/Frameworks/R.framework/Resources/bin/R CMD check --install=check:musicatk.install-out.txt --library=/Library/Frameworks/R.framework/Resources/library --no-vignettes --timings musicatk_2.0.0.tar.gz
###
##############################################################################
##############################################################################
* using log directory ‘/Users/biocbuild/bbs-3.20-bioc/meat/musicatk.Rcheck’
* using R version 4.4.1 (2024-06-14)
* using platform: x86_64-apple-darwin20
* R was compiled by
    Apple clang version 14.0.0 (clang-1400.0.29.202)
    GNU Fortran (GCC) 12.2.0
* running under: macOS Monterey 12.7.6
* using session charset: UTF-8
* using option ‘--no-vignettes’
* checking for file ‘musicatk/DESCRIPTION’ ... OK
* checking extension type ... Package
* this is package ‘musicatk’ version ‘2.0.0’
* package encoding: UTF-8
* checking package namespace information ... OK
* checking package dependencies ...Warning: unable to access index for repository https://CRAN.R-project.org/src/contrib:
  cannot open URL 'https://CRAN.R-project.org/src/contrib/PACKAGES'
 OK
* checking if this is a source package ... OK
* checking if there is a namespace ... OK
* checking for hidden files and directories ... OK
* checking for portable file names ... OK
* checking for sufficient/correct file permissions ... OK
* checking whether package ‘musicatk’ can be installed ... OK
* checking installed package size ... OK
* checking package directory ... OK
* checking ‘build’ directory ... OK
* checking DESCRIPTION meta-information ... OK
* checking top-level files ... OK
* checking for left-over files ... OK
* checking index information ... OK
* checking package subdirectories ... OK
* checking code files for non-ASCII characters ... OK
* checking R files for syntax errors ... OK
* checking whether the package can be loaded ... OK
* checking whether the package can be loaded with stated dependencies ... OK
* checking whether the package can be unloaded cleanly ... OK
* checking whether the namespace can be loaded with stated dependencies ... OK
* checking whether the namespace can be unloaded cleanly ... OK
* checking dependencies in R code ... OK
* checking S3 generic/method consistency ... OK
* checking replacement functions ... OK
* checking foreign function calls ... OK
* checking R code for possible problems ... OK
* checking Rd files ... OK
* checking Rd metadata ... OK
* checking Rd cross-references ... OK
* checking for missing documentation entries ... OK
* checking for code/documentation mismatches ... OK
* checking Rd \usage sections ... OK
* checking Rd contents ... OK
* checking for unstated dependencies in examples ... OK
* checking contents of ‘data’ directory ... OK
* checking data for non-ASCII characters ... OK
* checking LazyData ... OK
* checking data for ASCII and uncompressed saves ... OK
* checking files in ‘vignettes’ ... OK
* checking examples ... OK
Examples with CPU (user + system) or elapsed time > 5s
                        user system elapsed
plot_k_comparison    151.424  1.006 153.346
compare_k_vals       139.628  1.320 141.463
build_standard_table   6.158  0.664   6.863
* checking for unstated dependencies in ‘tests’ ... OK
* checking tests ...
  Running ‘testthat.R’
 OK
* checking for unstated dependencies in vignettes ... OK
* checking package vignettes ... OK
* checking running R code from vignettes ... SKIPPED
* checking re-building of vignette outputs ... SKIPPED
* checking PDF version of manual ... OK
* DONE
Status: OK
musicatk.Rcheck/00install.out
############################################################################## ############################################################################## ### ### Running command: ### ### /Library/Frameworks/R.framework/Resources/bin/R CMD INSTALL musicatk ### ############################################################################## ############################################################################## * installing to library ‘/Library/Frameworks/R.framework/Versions/4.4-x86_64/Resources/library’ * installing *source* package ‘musicatk’ ... ** using staged installation ** R ** data *** moving datasets to lazyload DB ** inst ** byte-compile and prepare package for lazy loading ** help *** installing help indices ** building package indices ** installing vignettes ** testing if installed package can be loaded from temporary location ** testing if installed package can be loaded from final location ** testing if installed package keeps a record of temporary installation path * DONE (musicatk)
musicatk.Rcheck/tests/testthat.Rout
R version 4.4.1 (2024-06-14) -- "Race for Your Life"
Copyright (C) 2024 The R Foundation for Statistical Computing
Platform: x86_64-apple-darwin20
R is free software and comes with ABSOLUTELY NO WARRANTY.
You are welcome to redistribute it under certain conditions.
Type 'license()' or 'licence()' for distribution details.
R is a collaborative project with many contributors.
Type 'contributors()' for more information and
'citation()' on how to cite R or R packages in publications.
Type 'demo()' for some demos, 'help()' for on-line help, or
'help.start()' for an HTML browser interface to help.
Type 'q()' to quit R.
> library("testthat")
> library("musicatk")
Loading required package: NMF
Loading required package: registry
Loading required package: rngtools
Loading required package: cluster
NMF - BioConductor layer [OK] | Shared memory capabilities [NO: synchronicity] | Cores 2/2
  To enable shared memory capabilities, try: install.extras('
NMF
')
Attaching package: 'NMF'
The following object is masked from 'package:testthat':
    compare
> 
> test_check("musicatk")
[ FAIL 0 | WARN 1 | SKIP 0 | PASS 41 ]
[ FAIL 0 | WARN 1 | SKIP 0 | PASS 41 ]
> 
> proc.time()
   user  system elapsed 
 16.778   0.885  18.533 
musicatk.Rcheck/musicatk-Ex.timings
| name | user | system | elapsed | |
| add_flank_to_variants | 2.550 | 0.252 | 2.813 | |
| add_variant_type | 0.013 | 0.002 | 0.016 | |
| annotate_replication_strand | 0.099 | 0.009 | 0.107 | |
| annotate_transcript_strand | 1.074 | 0.076 | 1.208 | |
| annotate_variant_length | 0.011 | 0.002 | 0.013 | |
| annotate_variant_type | 0.002 | 0.001 | 0.003 | |
| auto_predict_grid | 2.341 | 0.066 | 2.416 | |
| build_custom_table | 0.883 | 0.037 | 0.925 | |
| build_standard_table | 6.158 | 0.664 | 6.863 | |
| built_tables | 0.001 | 0.001 | 0.002 | |
| cluster_exposure | 0.014 | 0.003 | 0.018 | |
| combine_count_tables | 1.970 | 0.180 | 2.161 | |
| combine_predict_grid | 0.355 | 0.021 | 0.377 | |
| compare_cosmic_v2 | 2.202 | 0.031 | 2.246 | |
| compare_cosmic_v3 | 1.177 | 0.007 | 1.188 | |
| compare_k_vals | 139.628 | 1.320 | 141.463 | |
| compare_results | 1.241 | 0.016 | 1.260 | |
| cosmic_v2_subtype_map | 0.001 | 0.001 | 0.000 | |
| create_musica_from_counts | 0.003 | 0.001 | 0.004 | |
| create_musica_from_variants | 0.586 | 0.117 | 0.757 | |
| create_result_model | 0.001 | 0.000 | 0.001 | |
| create_umap | 3.698 | 0.058 | 3.758 | |
| credible_intervals | 0.002 | 0.001 | 0.003 | |
| discover_signatures | 0.525 | 0.066 | 0.593 | |
| drop_annotation | 0.001 | 0.001 | 0.002 | |
| exposure_differential_analysis | 0.008 | 0.002 | 0.010 | |
| exposures | 0.013 | 0.003 | 0.015 | |
| extract_count_tables | 0.003 | 0.001 | 0.003 | |
| extract_variants | 2.966 | 0.079 | 3.048 | |
| extract_variants_from_maf | 0.074 | 0.001 | 0.076 | |
| extract_variants_from_maf_file | 0.060 | 0.001 | 0.061 | |
| extract_variants_from_matrix | 0.076 | 0.003 | 0.079 | |
| extract_variants_from_vcf | 0.500 | 0.018 | 0.519 | |
| extract_variants_from_vcf_file | 0.324 | 0.005 | 0.331 | |
| generate_result_grid | 0.285 | 0.005 | 0.291 | |
| get_modality | 0.004 | 0.003 | 0.007 | |
| get_model | 0.003 | 0.003 | 0.007 | |
| get_result_list_entry | 0.004 | 0.001 | 0.005 | |
| hyperparameter | 0.001 | 0.001 | 0.002 | |
| k_select | 0.509 | 0.009 | 0.521 | |
| metrics | 0.002 | 0.001 | 0.003 | |
| modality | 0.002 | 0.001 | 0.002 | |
| model_id | 0.002 | 0.001 | 0.002 | |
| musicatk | 0 | 0 | 0 | |
| name_signatures | 0.023 | 0.001 | 0.023 | |
| num_signatures | 0.001 | 0.001 | 0.003 | |
| other_parameters | 0.001 | 0.001 | 0.003 | |
| parameter | 0.001 | 0.001 | 0.002 | |
| pipe | 0.002 | 0.000 | 0.003 | |
| plot_cluster | 3.881 | 0.120 | 4.009 | |
| plot_differential_analysis | 0.113 | 0.002 | 0.115 | |
| plot_exposures | 0.219 | 0.003 | 0.222 | |
| plot_heatmap | 0.543 | 0.010 | 0.553 | |
| plot_k_comparison | 151.424 | 1.006 | 153.346 | |
| plot_sample_counts | 0.419 | 0.005 | 0.569 | |
| plot_sample_reconstruction_error | 0.600 | 0.016 | 1.591 | |
| plot_signatures | 0.627 | 0.008 | 2.096 | |
| plot_umap | 3.695 | 0.043 | 3.743 | |
| predict_exposure | 0.867 | 0.062 | 0.975 | |
| rc | 0.002 | 0.000 | 0.002 | |
| result_list | 0.003 | 0.001 | 0.004 | |
| samp_annot | 0.006 | 0.003 | 0.008 | |
| sample_names | 0.002 | 0.001 | 0.003 | |
| select_genome | 0 | 0 | 0 | |
| signatures | 0.015 | 0.006 | 0.022 | |
| subset_musica_by_annotation | 0.004 | 0.003 | 0.114 | |
| subset_musica_by_counts | 0.007 | 0.003 | 0.010 | |
| subset_variant_by_type | 0.005 | 0.003 | 0.007 | |
| subset_variants_by_samples | 0.004 | 0.002 | 0.007 | |
| table_selected | 0.002 | 0.001 | 0.003 | |
| tables | 0.004 | 0.001 | 0.005 | |
| umap | 0.002 | 0.001 | 0.004 | |
| variants | 0.004 | 0.002 | 0.007 | |