| Back to Multiple platform build/check report for BioC 3.20: simplified long | 
 | 
This page was generated on 2024-11-20 12:07 -0500 (Wed, 20 Nov 2024).
| Hostname | OS | Arch (*) | R version | Installed pkgs | 
|---|---|---|---|---|
| teran2 | Linux (Ubuntu 24.04.1 LTS) | x86_64 | 4.4.2 (2024-10-31) -- "Pile of Leaves" | 4481 | 
| nebbiolo2 | Linux (Ubuntu 24.04.1 LTS) | x86_64 | 4.4.2 (2024-10-31) -- "Pile of Leaves" | 4479 | 
| palomino8 | Windows Server 2022 Datacenter | x64 | 4.4.2 (2024-10-31 ucrt) -- "Pile of Leaves" | 4359 | 
| lconway | macOS 12.7.1 Monterey | x86_64 | 4.4.1 (2024-06-14) -- "Race for Your Life" | 4539 | 
| kunpeng2 | Linux (openEuler 22.03 LTS-SP1) | aarch64 | 4.4.1 (2024-06-14) -- "Race for Your Life" | 4493 | 
| Click on any hostname to see more info about the system (e.g. compilers) (*) as reported by 'uname -p', except on Windows and Mac OS X | ||||
| Package 1381/2289 | Hostname | OS / Arch | INSTALL | BUILD | CHECK | BUILD BIN | ||||||||
| musicatk 2.0.0  (landing page) Joshua D. Campbell 
 | teran2 | Linux (Ubuntu 24.04.1 LTS) / x86_64 | OK | OK | OK |  | ||||||||
| nebbiolo2 | Linux (Ubuntu 24.04.1 LTS) / x86_64 | OK | OK | OK | ||||||||||
| palomino8 | Windows Server 2022 Datacenter / x64 | OK | OK | OK | OK |  | ||||||||
| lconway | macOS 12.7.1 Monterey / x86_64 | OK | OK | OK | OK |  | ||||||||
| kunpeng2 | Linux (openEuler 22.03 LTS-SP1) / aarch64 | OK | OK | OK | ||||||||||
| To the developers/maintainers of the musicatk package: - Allow up to 24 hours (and sometimes 48 hours) for your latest push to git@git.bioconductor.org:packages/musicatk.git to reflect on this report. See Troubleshooting Build Report for more information. - Use the following Renviron settings to reproduce errors and warnings. - If 'R CMD check' started to fail recently on the Linux builder(s) over a missing dependency, add the missing dependency to 'Suggests:' in your DESCRIPTION file. See Renviron.bioc for more information. - See Martin Grigorov's blog post for how to debug Linux ARM64 related issues on a x86_64 host. | 
| Package: musicatk | 
| Version: 2.0.0 | 
| Command: /home/biocbuild/R/R/bin/R CMD check --install=check:musicatk.install-out.txt --library=/home/biocbuild/R/R/site-library --no-vignettes --timings musicatk_2.0.0.tar.gz | 
| StartedAt: 2024-11-20 10:22:38 -0000 (Wed, 20 Nov 2024) | 
| EndedAt: 2024-11-20 10:39:26 -0000 (Wed, 20 Nov 2024) | 
| EllapsedTime: 1007.9 seconds | 
| RetCode: 0 | 
| Status: OK | 
| CheckDir: musicatk.Rcheck | 
| Warnings: 0 | 
##############################################################################
##############################################################################
###
### Running command:
###
###   /home/biocbuild/R/R/bin/R CMD check --install=check:musicatk.install-out.txt --library=/home/biocbuild/R/R/site-library --no-vignettes --timings musicatk_2.0.0.tar.gz
###
##############################################################################
##############################################################################
* using log directory ‘/home/biocbuild/bbs-3.20-bioc/meat/musicatk.Rcheck’
* using R version 4.4.1 (2024-06-14)
* using platform: aarch64-unknown-linux-gnu
* R was compiled by
    gcc (GCC) 12.2.1 20220819 (openEuler 12.2.1-14)
    GNU Fortran (GCC) 10.3.1
* running under: openEuler 22.03 (LTS-SP1)
* using session charset: UTF-8
* using option ‘--no-vignettes’
* checking for file ‘musicatk/DESCRIPTION’ ... OK
* checking extension type ... Package
* this is package ‘musicatk’ version ‘2.0.0’
* package encoding: UTF-8
* checking package namespace information ... OK
* checking package dependencies ... OK
* checking if this is a source package ... OK
* checking if there is a namespace ... OK
* checking for hidden files and directories ... OK
* checking for portable file names ... OK
* checking for sufficient/correct file permissions ... OK
* checking whether package ‘musicatk’ can be installed ... OK
* checking installed package size ... OK
* checking package directory ... OK
* checking ‘build’ directory ... OK
* checking DESCRIPTION meta-information ... OK
* checking top-level files ... OK
* checking for left-over files ... OK
* checking index information ... OK
* checking package subdirectories ... OK
* checking code files for non-ASCII characters ... OK
* checking R files for syntax errors ... OK
* checking whether the package can be loaded ... OK
* checking whether the package can be loaded with stated dependencies ... OK
* checking whether the package can be unloaded cleanly ... OK
* checking whether the namespace can be loaded with stated dependencies ... OK
* checking whether the namespace can be unloaded cleanly ... OK
* checking loading without being on the library search path ... OK
* checking dependencies in R code ... OK
* checking S3 generic/method consistency ... OK
* checking replacement functions ... OK
* checking foreign function calls ... OK
* checking R code for possible problems ... OK
* checking Rd files ... OK
* checking Rd metadata ... OK
* checking Rd cross-references ... OK
* checking for missing documentation entries ... OK
* checking for code/documentation mismatches ... OK
* checking Rd \usage sections ... OK
* checking Rd contents ... OK
* checking for unstated dependencies in examples ... OK
* checking contents of ‘data’ directory ... OK
* checking data for non-ASCII characters ... OK
* checking LazyData ... OK
* checking data for ASCII and uncompressed saves ... OK
* checking files in ‘vignettes’ ... OK
* checking examples ... OK
Examples with CPU (user + system) or elapsed time > 5s
                        user system elapsed
plot_k_comparison    257.569 14.555 272.834
compare_k_vals       234.086 10.336 245.062
build_standard_table   9.707  0.822  10.554
plot_cluster           6.328  0.192   6.528
create_umap            6.054  0.243   6.305
plot_umap              5.742  0.284   6.033
extract_variants       5.778  0.048   5.840
* checking for unstated dependencies in ‘tests’ ... OK
* checking tests ...
  Running ‘testthat.R’
 OK
* checking for unstated dependencies in vignettes ... OK
* checking package vignettes ... OK
* checking running R code from vignettes ... SKIPPED
* checking re-building of vignette outputs ... SKIPPED
* checking PDF version of manual ... OK
* DONE
Status: OK
musicatk.Rcheck/00install.out
############################################################################## ############################################################################## ### ### Running command: ### ### /home/biocbuild/R/R/bin/R CMD INSTALL musicatk ### ############################################################################## ############################################################################## * installing to library ‘/home/biocbuild/R/R-4.4.1/site-library’ * installing *source* package ‘musicatk’ ... ** using staged installation ** R ** data *** moving datasets to lazyload DB ** inst ** byte-compile and prepare package for lazy loading ** help *** installing help indices ** building package indices ** installing vignettes ** testing if installed package can be loaded from temporary location ** testing if installed package can be loaded from final location ** testing if installed package keeps a record of temporary installation path * DONE (musicatk)
musicatk.Rcheck/tests/testthat.Rout
R version 4.4.1 (2024-06-14) -- "Race for Your Life"
Copyright (C) 2024 The R Foundation for Statistical Computing
Platform: aarch64-unknown-linux-gnu
R is free software and comes with ABSOLUTELY NO WARRANTY.
You are welcome to redistribute it under certain conditions.
Type 'license()' or 'licence()' for distribution details.
R is a collaborative project with many contributors.
Type 'contributors()' for more information and
'citation()' on how to cite R or R packages in publications.
Type 'demo()' for some demos, 'help()' for on-line help, or
'help.start()' for an HTML browser interface to help.
Type 'q()' to quit R.
> library("testthat")
> library("musicatk")
Loading required package: NMF
Loading required package: registry
Loading required package: rngtools
Loading required package: cluster
NMF - BioConductor layer [OK] | Shared memory capabilities [NO: bigmemory] | Cores 2/2
  To enable shared memory capabilities, try: install.extras('
NMF
')
Attaching package: 'NMF'
The following object is masked from 'package:testthat':
    compare
> 
> test_check("musicatk")
[ FAIL 0 | WARN 1 | SKIP 0 | PASS 41 ]
[ FAIL 0 | WARN 1 | SKIP 0 | PASS 41 ]
> 
> proc.time()
   user  system elapsed 
 26.001   0.983  26.932 
musicatk.Rcheck/musicatk-Ex.timings
| name | user | system | elapsed | |
| add_flank_to_variants | 3.895 | 0.232 | 4.136 | |
| add_variant_type | 0.018 | 0.004 | 0.022 | |
| annotate_replication_strand | 0.197 | 0.008 | 0.205 | |
| annotate_transcript_strand | 2.719 | 0.084 | 2.807 | |
| annotate_variant_length | 0.015 | 0.000 | 0.015 | |
| annotate_variant_type | 0.003 | 0.000 | 0.003 | |
| auto_predict_grid | 3.001 | 0.008 | 3.020 | |
| build_custom_table | 1.258 | 0.003 | 1.264 | |
| build_standard_table | 9.707 | 0.822 | 10.554 | |
| built_tables | 0.002 | 0.000 | 0.002 | |
| cluster_exposure | 0.014 | 0.004 | 0.019 | |
| combine_count_tables | 3.176 | 0.171 | 3.356 | |
| combine_predict_grid | 0.913 | 0.024 | 0.939 | |
| compare_cosmic_v2 | 3.905 | 0.016 | 3.930 | |
| compare_cosmic_v3 | 2.240 | 0.004 | 2.250 | |
| compare_k_vals | 234.086 | 10.336 | 245.062 | |
| compare_results | 2.530 | 0.052 | 2.587 | |
| cosmic_v2_subtype_map | 0.002 | 0.000 | 0.001 | |
| create_musica_from_counts | 0.005 | 0.000 | 0.005 | |
| create_musica_from_variants | 1.014 | 0.088 | 1.108 | |
| create_result_model | 0.002 | 0.000 | 0.002 | |
| create_umap | 6.054 | 0.243 | 6.305 | |
| credible_intervals | 0.004 | 0.000 | 0.003 | |
| discover_signatures | 1.003 | 0.028 | 1.034 | |
| drop_annotation | 0.003 | 0.000 | 0.003 | |
| exposure_differential_analysis | 0.014 | 0.000 | 0.014 | |
| exposures | 0.026 | 0.000 | 0.026 | |
| extract_count_tables | 0.006 | 0.004 | 0.010 | |
| extract_variants | 5.778 | 0.048 | 5.840 | |
| extract_variants_from_maf | 0.151 | 0.004 | 0.153 | |
| extract_variants_from_maf_file | 0.131 | 0.000 | 0.129 | |
| extract_variants_from_matrix | 0.153 | 0.003 | 0.156 | |
| extract_variants_from_vcf | 0.930 | 0.016 | 0.949 | |
| extract_variants_from_vcf_file | 0.625 | 0.056 | 0.683 | |
| generate_result_grid | 0.484 | 0.040 | 0.525 | |
| get_modality | 0.008 | 0.000 | 0.007 | |
| get_model | 0.006 | 0.000 | 0.005 | |
| get_result_list_entry | 0.003 | 0.004 | 0.006 | |
| hyperparameter | 0.002 | 0.000 | 0.002 | |
| k_select | 1.042 | 0.040 | 1.083 | |
| metrics | 0.003 | 0.000 | 0.003 | |
| modality | 0.003 | 0.000 | 0.002 | |
| model_id | 0.003 | 0.000 | 0.002 | |
| musicatk | 0 | 0 | 0 | |
| name_signatures | 0.043 | 0.004 | 0.048 | |
| num_signatures | 0.003 | 0.000 | 0.002 | |
| other_parameters | 0.000 | 0.003 | 0.003 | |
| parameter | 0.002 | 0.001 | 0.002 | |
| pipe | 0.003 | 0.000 | 0.003 | |
| plot_cluster | 6.328 | 0.192 | 6.528 | |
| plot_differential_analysis | 0.247 | 0.004 | 0.252 | |
| plot_exposures | 0.422 | 0.004 | 0.427 | |
| plot_heatmap | 1.010 | 0.028 | 1.040 | |
| plot_k_comparison | 257.569 | 14.555 | 272.834 | |
| plot_sample_counts | 0.739 | 0.055 | 0.796 | |
| plot_sample_reconstruction_error | 1.073 | 0.067 | 1.143 | |
| plot_signatures | 1.087 | 0.032 | 1.122 | |
| plot_umap | 5.742 | 0.284 | 6.033 | |
| predict_exposure | 1.804 | 0.092 | 1.900 | |
| rc | 0.003 | 0.000 | 0.003 | |
| result_list | 0.004 | 0.000 | 0.004 | |
| samp_annot | 0.008 | 0.000 | 0.008 | |
| sample_names | 0.003 | 0.000 | 0.003 | |
| select_genome | 0 | 0 | 0 | |
| signatures | 0.027 | 0.000 | 0.026 | |
| subset_musica_by_annotation | 0.006 | 0.000 | 0.007 | |
| subset_musica_by_counts | 0.013 | 0.000 | 0.013 | |
| subset_variant_by_type | 0.004 | 0.004 | 0.008 | |
| subset_variants_by_samples | 0.007 | 0.000 | 0.007 | |
| table_selected | 0.002 | 0.000 | 0.002 | |
| tables | 0.006 | 0.000 | 0.006 | |
| umap | 0.003 | 0.000 | 0.003 | |
| variants | 0.007 | 0.000 | 0.007 | |