| Back to Multiple platform build/check report for BioC 3.20: simplified long |
|
This page was generated on 2024-07-16 11:40 -0400 (Tue, 16 Jul 2024).
| Hostname | OS | Arch (*) | R version | Installed pkgs |
|---|---|---|---|---|
| nebbiolo2 | Linux (Ubuntu 22.04.3 LTS) | x86_64 | 4.4.1 (2024-06-14) -- "Race for Your Life" | 4677 |
| palomino6 | Windows Server 2022 Datacenter | x64 | 4.4.1 (2024-06-14 ucrt) -- "Race for Your Life" | 4416 |
| lconway | macOS 12.7.1 Monterey | x86_64 | 4.4.1 (2024-06-14) -- "Race for Your Life" | 4444 |
| kjohnson3 | macOS 13.6.5 Ventura | arm64 | 4.4.1 (2024-06-14) -- "Race for Your Life" | 4393 |
| palomino8 | Windows Server 2022 Datacenter | x64 | 4.4.1 (2024-06-14 ucrt) -- "Race for Your Life" | 4373 |
| Click on any hostname to see more info about the system (e.g. compilers) (*) as reported by 'uname -p', except on Windows and Mac OS X | ||||
| Package 1185/2243 | Hostname | OS / Arch | INSTALL | BUILD | CHECK | BUILD BIN | ||||||||
| metagenomeSeq 1.47.0 (landing page) Joseph N. Paulson
| nebbiolo2 | Linux (Ubuntu 22.04.3 LTS) / x86_64 | OK | OK | OK | |||||||||
| palomino6 | Windows Server 2022 Datacenter / x64 | OK | OK | OK | OK | |||||||||
| lconway | macOS 12.7.1 Monterey / x86_64 | OK | OK | OK | OK | |||||||||
| kjohnson3 | macOS 13.6.5 Ventura / arm64 | OK | OK | OK | OK | |||||||||
| palomino8 | Windows Server 2022 Datacenter / x64 | OK | OK | OK | OK | |||||||||
|
To the developers/maintainers of the metagenomeSeq package: - Allow up to 24 hours (and sometimes 48 hours) for your latest push to git@git.bioconductor.org:packages/metagenomeSeq.git to reflect on this report. See Troubleshooting Build Report for more information. - Use the following Renviron settings to reproduce errors and warnings. - If 'R CMD check' started to fail recently on the Linux builder(s) over a missing dependency, add the missing dependency to 'Suggests:' in your DESCRIPTION file. See Renviron.bioc for more information. |
| Package: metagenomeSeq |
| Version: 1.47.0 |
| Command: C:\Users\biocbuild\bbs-3.20-bioc\R\bin\R.exe CMD check --no-multiarch --install=check:metagenomeSeq.install-out.txt --library=C:\Users\biocbuild\bbs-3.20-bioc\R\library --no-vignettes --timings metagenomeSeq_1.47.0.tar.gz |
| StartedAt: 2024-07-16 01:33:03 -0400 (Tue, 16 Jul 2024) |
| EndedAt: 2024-07-16 01:36:48 -0400 (Tue, 16 Jul 2024) |
| EllapsedTime: 224.9 seconds |
| RetCode: 0 |
| Status: OK |
| CheckDir: metagenomeSeq.Rcheck |
| Warnings: 0 |
##############################################################################
##############################################################################
###
### Running command:
###
### C:\Users\biocbuild\bbs-3.20-bioc\R\bin\R.exe CMD check --no-multiarch --install=check:metagenomeSeq.install-out.txt --library=C:\Users\biocbuild\bbs-3.20-bioc\R\library --no-vignettes --timings metagenomeSeq_1.47.0.tar.gz
###
##############################################################################
##############################################################################
* using log directory 'C:/Users/biocbuild/bbs-3.20-bioc/meat/metagenomeSeq.Rcheck'
* using R version 4.4.1 (2024-06-14 ucrt)
* using platform: x86_64-w64-mingw32
* R was compiled by
gcc.exe (GCC) 13.2.0
GNU Fortran (GCC) 13.2.0
* running under: Windows Server 2022 x64 (build 20348)
* using session charset: UTF-8
* using option '--no-vignettes'
* checking for file 'metagenomeSeq/DESCRIPTION' ... OK
* this is package 'metagenomeSeq' version '1.47.0'
* checking package namespace information ... OK
* checking package dependencies ... OK
* checking if this is a source package ... OK
* checking if there is a namespace ... OK
* checking for hidden files and directories ... OK
* checking for portable file names ... OK
* checking whether package 'metagenomeSeq' can be installed ... OK
* checking installed package size ... OK
* checking package directory ... OK
* checking 'build' directory ... OK
* checking DESCRIPTION meta-information ... OK
* checking top-level files ... OK
* checking for left-over files ... OK
* checking index information ... OK
* checking package subdirectories ... OK
* checking code files for non-ASCII characters ... OK
* checking R files for syntax errors ... OK
* checking whether the package can be loaded ... OK
* checking whether the package can be loaded with stated dependencies ... OK
* checking whether the package can be unloaded cleanly ... OK
* checking whether the namespace can be loaded with stated dependencies ... OK
* checking whether the namespace can be unloaded cleanly ... OK
* checking dependencies in R code ... OK
* checking S3 generic/method consistency ... OK
* checking replacement functions ... OK
* checking foreign function calls ... OK
* checking R code for possible problems ... OK
* checking Rd files ... OK
* checking Rd metadata ... OK
* checking Rd cross-references ... OK
* checking for missing documentation entries ... OK
* checking for code/documentation mismatches ... OK
* checking Rd \usage sections ... OK
* checking Rd contents ... OK
* checking for unstated dependencies in examples ... OK
* checking contents of 'data' directory ... OK
* checking data for non-ASCII characters ... OK
* checking data for ASCII and uncompressed saves ... OK
* checking sizes of PDF files under 'inst/doc' ... OK
* checking files in 'vignettes' ... OK
* checking examples ... OK
Examples with CPU (user + system) or elapsed time > 5s
user system elapsed
wrenchNorm 14.31 0.96 15.29
* checking for unstated dependencies in 'tests' ... OK
* checking tests ...
Running 'testthat.R'
OK
* checking for unstated dependencies in vignettes ... OK
* checking package vignettes ... OK
* checking running R code from vignettes ... SKIPPED
* checking re-building of vignette outputs ... SKIPPED
* checking PDF version of manual ... OK
* DONE
Status: OK
metagenomeSeq.Rcheck/00install.out
############################################################################## ############################################################################## ### ### Running command: ### ### C:\Users\biocbuild\bbs-3.20-bioc\R\bin\R.exe CMD INSTALL metagenomeSeq ### ############################################################################## ############################################################################## * installing to library 'C:/Users/biocbuild/bbs-3.20-bioc/R/library' * installing *source* package 'metagenomeSeq' ... ** using staged installation ** R ** data ** inst ** byte-compile and prepare package for lazy loading in method for 'MRihw' with signature '"fitFeatureModelResults"': no definition for class "fitFeatureModelResults" in method for 'MRihw' with signature '"fitZigResults"': no definition for class "fitZigResults" ** help *** installing help indices ** building package indices ** installing vignettes ** testing if installed package can be loaded from temporary location ** testing if installed package can be loaded from final location ** testing if installed package keeps a record of temporary installation path * DONE (metagenomeSeq)
metagenomeSeq.Rcheck/tests/testthat.Rout
R version 4.4.1 (2024-06-14 ucrt) -- "Race for Your Life"
Copyright (C) 2024 The R Foundation for Statistical Computing
Platform: x86_64-w64-mingw32/x64
R is free software and comes with ABSOLUTELY NO WARRANTY.
You are welcome to redistribute it under certain conditions.
Type 'license()' or 'licence()' for distribution details.
R is a collaborative project with many contributors.
Type 'contributors()' for more information and
'citation()' on how to cite R or R packages in publications.
Type 'demo()' for some demos, 'help()' for on-line help, or
'help.start()' for an HTML browser interface to help.
Type 'q()' to quit R.
> library("testthat")
> packageVersion("metagenomeSeq")
[1] '1.47.0'
> # As suggested for opt-out option on testing by users,
> # recommended by CRAN: http://adv-r.had.co.nz/Testing.html
> # Previously, best practice was to put all test files in inst/tests
> # and ensure that R CMD check ran them by putting the following code in tests/test-all.R:
> # >library(testthat)
> # >library(yourpackage)
> # >test_package("yourpackage")
> # Now, recommended practice is to put your tests in tests/testthat,
> # and ensure R CMD check runs them by putting the following code in tests/test-all.R:
> # >library(testthat)
> # >test_check("yourpackage")
> # The advantage of this new structure is that the user has control over whether or not tests are installed using the –install-tests parameter to
> # R CMD install, or INSTALL_opts = c(“–install-tests”) argument to install.packages(). I’m not sure why you wouldn’t want to install the tests,
> # but now you have the flexibility as requested by CRAN maintainers.
> test_check("metagenomeSeq")
Loading required package: metagenomeSeq
Loading required package: Biobase
Loading required package: BiocGenerics
Attaching package: 'BiocGenerics'
The following objects are masked from 'package:stats':
IQR, mad, sd, var, xtabs
The following objects are masked from 'package:base':
Filter, Find, Map, Position, Reduce, anyDuplicated, aperm, append,
as.data.frame, basename, cbind, colnames, dirname, do.call,
duplicated, eval, evalq, get, grep, grepl, intersect, is.unsorted,
lapply, mapply, match, mget, order, paste, pmax, pmax.int, pmin,
pmin.int, rank, rbind, rownames, sapply, setdiff, table, tapply,
union, unique, unsplit, which.max, which.min
Welcome to Bioconductor
Vignettes contain introductory material; view with
'browseVignettes()'. To cite Bioconductor, see
'citation("Biobase")', and for packages 'citation("pkgname")'.
Loading required package: limma
Attaching package: 'limma'
The following object is masked from 'package:BiocGenerics':
plotMA
Loading required package: glmnet
Loading required package: Matrix
Loaded glmnet 4.1-8
Loading required package: RColorBrewer
[ FAIL 0 | WARN 6 | SKIP 0 | PASS 15 ]
[ FAIL 0 | WARN 6 | SKIP 0 | PASS 15 ]
>
> proc.time()
user system elapsed
83.14 6.18 89.17
metagenomeSeq.Rcheck/metagenomeSeq-Ex.timings
| name | user | system | elapsed | |
| MRcoefs | 0.97 | 0.11 | 1.08 | |
| MRcounts | 0.89 | 0.06 | 1.09 | |
| MRexperiment-class | 0 | 0 | 0 | |
| MRfulltable | 0.82 | 0.11 | 4.34 | |
| MRtable | 0.78 | 0.11 | 0.89 | |
| aggregateBySample | 0.09 | 0.06 | 0.16 | |
| aggregateByTaxonomy | 0.11 | 0.05 | 0.16 | |
| biom2MRexperiment | 0.19 | 0.03 | 0.21 | |
| calcNormFactors | 1.34 | 0.11 | 1.46 | |
| correctIndices | 0.05 | 0.05 | 0.09 | |
| correlationTest | 0.14 | 0.07 | 0.22 | |
| cumNorm | 0.50 | 0.08 | 0.58 | |
| cumNormMat | 0.45 | 0.10 | 0.55 | |
| cumNormStat | 0.69 | 0.11 | 0.79 | |
| cumNormStatFast | 0.33 | 0.01 | 0.35 | |
| expSummary | 0.05 | 0.05 | 0.09 | |
| exportMat | 1.10 | 1.36 | 2.48 | |
| exportStats | 0.30 | 0.11 | 0.43 | |
| extractMR | 1.11 | 0.86 | 1.96 | |
| filterData | 0.16 | 0.00 | 0.16 | |
| fitDO | 0.29 | 0.06 | 2.36 | |
| fitFeatureModel | 0.88 | 0.09 | 0.97 | |
| fitLogNormal | 1.87 | 0.32 | 2.19 | |
| fitMultipleTimeSeries | 3.80 | 0.34 | 4.14 | |
| fitPA | 0.25 | 0.14 | 2.20 | |
| fitSSTimeSeries | 0.31 | 0.08 | 0.39 | |
| fitTimeSeries | 0.30 | 0.09 | 0.39 | |
| fitZig | 2.00 | 0.39 | 2.41 | |
| libSize-set | 0.30 | 0.03 | 0.33 | |
| libSize | 0.22 | 0.07 | 0.28 | |
| loadBiom | 0.03 | 0.00 | 0.03 | |
| loadMeta | 0.00 | 0.03 | 0.03 | |
| loadMetaQ | 0 | 0 | 0 | |
| loadPhenoData | 0 | 0 | 0 | |
| makeLabels | 0 | 0 | 0 | |
| mergeMRexperiments | 1.36 | 0.43 | 1.80 | |
| newMRexperiment | 0.01 | 0.00 | 0.01 | |
| normFactors-set | 0.21 | 0.10 | 0.30 | |
| normFactors | 0.17 | 0.08 | 0.25 | |
| plotBubble | 0.86 | 0.04 | 3.73 | |
| plotClassTimeSeries | 0.81 | 0.19 | 1.00 | |
| plotCorr | 0.44 | 0.08 | 0.52 | |
| plotFeature | 0.11 | 0.02 | 0.13 | |
| plotGenus | 0.17 | 0.00 | 0.17 | |
| plotMRheatmap | 1.65 | 0.22 | 1.88 | |
| plotOTU | 0.18 | 0.01 | 0.18 | |
| plotOrd | 0.25 | 0.05 | 0.32 | |
| plotRare | 0.09 | 0.03 | 0.12 | |
| plotTimeSeries | 0.97 | 0.28 | 1.25 | |
| posteriorProbs | 1.76 | 0.43 | 2.19 | |
| returnAppropriateObj | 0.22 | 0.07 | 0.30 | |
| ssFit | 0 | 0 | 0 | |
| ssIntervalCandidate | 0 | 0 | 0 | |
| ssPerm | 0 | 0 | 0 | |
| ssPermAnalysis | 0 | 0 | 0 | |
| trapz | 0 | 0 | 0 | |
| ts2MRexperiment | 1.13 | 0.52 | 1.64 | |
| uniqueFeatures | 0.08 | 0.02 | 0.10 | |
| wrenchNorm | 14.31 | 0.96 | 15.29 | |
| zigControl | 0 | 0 | 0 | |