| Back to Multiple platform build/check report for BioC 3.20: simplified long |
|
This page was generated on 2024-11-20 12:06 -0500 (Wed, 20 Nov 2024).
| Hostname | OS | Arch (*) | R version | Installed pkgs |
|---|---|---|---|---|
| teran2 | Linux (Ubuntu 24.04.1 LTS) | x86_64 | 4.4.2 (2024-10-31) -- "Pile of Leaves" | 4481 |
| nebbiolo2 | Linux (Ubuntu 24.04.1 LTS) | x86_64 | 4.4.2 (2024-10-31) -- "Pile of Leaves" | 4479 |
| palomino8 | Windows Server 2022 Datacenter | x64 | 4.4.2 (2024-10-31 ucrt) -- "Pile of Leaves" | 4359 |
| lconway | macOS 12.7.1 Monterey | x86_64 | 4.4.1 (2024-06-14) -- "Race for Your Life" | 4539 |
| kunpeng2 | Linux (openEuler 22.03 LTS-SP1) | aarch64 | 4.4.1 (2024-06-14) -- "Race for Your Life" | 4493 |
| Click on any hostname to see more info about the system (e.g. compilers) (*) as reported by 'uname -p', except on Windows and Mac OS X | ||||
| Package 1207/2289 | Hostname | OS / Arch | INSTALL | BUILD | CHECK | BUILD BIN | ||||||||
| metagenomeSeq 1.48.0 (landing page) Joseph N. Paulson
| teran2 | Linux (Ubuntu 24.04.1 LTS) / x86_64 | OK | OK | ERROR | |||||||||
| nebbiolo2 | Linux (Ubuntu 24.04.1 LTS) / x86_64 | OK | OK | ERROR | ||||||||||
| palomino8 | Windows Server 2022 Datacenter / x64 | OK | OK | ERROR | OK | |||||||||
| lconway | macOS 12.7.1 Monterey / x86_64 | OK | OK | ERROR | OK | |||||||||
| kunpeng2 | Linux (openEuler 22.03 LTS-SP1) / aarch64 | OK | OK | ERROR | ||||||||||
|
To the developers/maintainers of the metagenomeSeq package: - Allow up to 24 hours (and sometimes 48 hours) for your latest push to git@git.bioconductor.org:packages/metagenomeSeq.git to reflect on this report. See Troubleshooting Build Report for more information. - Use the following Renviron settings to reproduce errors and warnings. - If 'R CMD check' started to fail recently on the Linux builder(s) over a missing dependency, add the missing dependency to 'Suggests:' in your DESCRIPTION file. See Renviron.bioc for more information. |
| Package: metagenomeSeq |
| Version: 1.48.0 |
| Command: /Library/Frameworks/R.framework/Resources/bin/R CMD check --install=check:metagenomeSeq.install-out.txt --library=/Library/Frameworks/R.framework/Resources/library --no-vignettes --timings metagenomeSeq_1.48.0.tar.gz |
| StartedAt: 2024-11-19 23:49:56 -0500 (Tue, 19 Nov 2024) |
| EndedAt: 2024-11-19 23:56:32 -0500 (Tue, 19 Nov 2024) |
| EllapsedTime: 395.8 seconds |
| RetCode: 1 |
| Status: ERROR |
| CheckDir: metagenomeSeq.Rcheck |
| Warnings: NA |
##############################################################################
##############################################################################
###
### Running command:
###
### /Library/Frameworks/R.framework/Resources/bin/R CMD check --install=check:metagenomeSeq.install-out.txt --library=/Library/Frameworks/R.framework/Resources/library --no-vignettes --timings metagenomeSeq_1.48.0.tar.gz
###
##############################################################################
##############################################################################
* using log directory ‘/Users/biocbuild/bbs-3.20-bioc/meat/metagenomeSeq.Rcheck’
* using R version 4.4.1 (2024-06-14)
* using platform: x86_64-apple-darwin20
* R was compiled by
Apple clang version 14.0.0 (clang-1400.0.29.202)
GNU Fortran (GCC) 12.2.0
* running under: macOS Monterey 12.7.6
* using session charset: UTF-8
* using option ‘--no-vignettes’
* checking for file ‘metagenomeSeq/DESCRIPTION’ ... OK
* this is package ‘metagenomeSeq’ version ‘1.48.0’
* checking package namespace information ... OK
* checking package dependencies ...Warning: unable to access index for repository https://CRAN.R-project.org/src/contrib:
cannot open URL 'https://CRAN.R-project.org/src/contrib/PACKAGES'
OK
* checking if this is a source package ... OK
* checking if there is a namespace ... OK
* checking for hidden files and directories ... OK
* checking for portable file names ... OK
* checking for sufficient/correct file permissions ... OK
* checking whether package ‘metagenomeSeq’ can be installed ... OK
* checking installed package size ... OK
* checking package directory ... OK
* checking ‘build’ directory ... OK
* checking DESCRIPTION meta-information ... OK
* checking top-level files ... OK
* checking for left-over files ... OK
* checking index information ... OK
* checking package subdirectories ... OK
* checking code files for non-ASCII characters ... OK
* checking R files for syntax errors ... OK
* checking whether the package can be loaded ... OK
* checking whether the package can be loaded with stated dependencies ... OK
* checking whether the package can be unloaded cleanly ... OK
* checking whether the namespace can be loaded with stated dependencies ... OK
* checking whether the namespace can be unloaded cleanly ... OK
* checking dependencies in R code ... OK
* checking S3 generic/method consistency ... OK
* checking replacement functions ... OK
* checking foreign function calls ... OK
* checking R code for possible problems ... OK
* checking Rd files ... OK
* checking Rd metadata ... OK
* checking Rd cross-references ... OK
* checking for missing documentation entries ... OK
* checking for code/documentation mismatches ... OK
* checking Rd \usage sections ... OK
* checking Rd contents ... OK
* checking for unstated dependencies in examples ... OK
* checking contents of ‘data’ directory ... OK
* checking data for non-ASCII characters ... OK
* checking data for ASCII and uncompressed saves ... OK
* checking sizes of PDF files under ‘inst/doc’ ... OK
* checking files in ‘vignettes’ ... OK
* checking examples ... OK
Examples with CPU (user + system) or elapsed time > 5s
user system elapsed
wrenchNorm 9.396 0.932 10.353
* checking for unstated dependencies in ‘tests’ ... OK
* checking tests ...
Running ‘testthat.R’
ERROR
Running the tests in ‘tests/testthat.R’ failed.
Last 13 lines of output:
── Failure ('test-fitZig.R:67:3'): `fitZig` function treats a matrix the same ──
`fit` not equal to `fit2`.
Component "eb": Component "df.prior": Mean relative difference: 0.01522971
Component "eb": Component "s2.prior": Mean relative difference: 0.0208853
Component "eb": Component "var.prior": Mean relative difference: 0.01489299
Component "eb": Component "s2.post": Mean relative difference: 0.002818974
Component "eb": Component "t": Mean relative difference: 0.001476944
Component "eb": Component "df.total": Mean relative difference: 0.002226407
Component "eb": Component "p.value": Mean relative difference: 0.001045802
Component "eb": Component "lods": Mean relative difference: 0.002124969
Component "eb": Component "F": Mean relative difference: 0.002818882
[ FAIL 2 | WARN 6 | SKIP 0 | PASS 13 ]
Error: Test failures
Execution halted
* checking for unstated dependencies in vignettes ... OK
* checking package vignettes ... OK
* checking running R code from vignettes ... SKIPPED
* checking re-building of vignette outputs ... SKIPPED
* checking PDF version of manual ... OK
* DONE
Status: 1 ERROR
See
‘/Users/biocbuild/bbs-3.20-bioc/meat/metagenomeSeq.Rcheck/00check.log’
for details.
metagenomeSeq.Rcheck/00install.out
############################################################################## ############################################################################## ### ### Running command: ### ### /Library/Frameworks/R.framework/Resources/bin/R CMD INSTALL metagenomeSeq ### ############################################################################## ############################################################################## * installing to library ‘/Library/Frameworks/R.framework/Versions/4.4-x86_64/Resources/library’ * installing *source* package ‘metagenomeSeq’ ... ** using staged installation ** R ** data ** inst ** byte-compile and prepare package for lazy loading in method for ‘MRihw’ with signature ‘"fitFeatureModelResults"’: no definition for class “fitFeatureModelResults” in method for ‘MRihw’ with signature ‘"fitZigResults"’: no definition for class “fitZigResults” ** help *** installing help indices ** building package indices ** installing vignettes ** testing if installed package can be loaded from temporary location ** testing if installed package can be loaded from final location ** testing if installed package keeps a record of temporary installation path * DONE (metagenomeSeq)
metagenomeSeq.Rcheck/tests/testthat.Rout.fail
R version 4.4.1 (2024-06-14) -- "Race for Your Life"
Copyright (C) 2024 The R Foundation for Statistical Computing
Platform: x86_64-apple-darwin20
R is free software and comes with ABSOLUTELY NO WARRANTY.
You are welcome to redistribute it under certain conditions.
Type 'license()' or 'licence()' for distribution details.
R is a collaborative project with many contributors.
Type 'contributors()' for more information and
'citation()' on how to cite R or R packages in publications.
Type 'demo()' for some demos, 'help()' for on-line help, or
'help.start()' for an HTML browser interface to help.
Type 'q()' to quit R.
> library("testthat")
> packageVersion("metagenomeSeq")
[1] '1.48.0'
> # As suggested for opt-out option on testing by users,
> # recommended by CRAN: http://adv-r.had.co.nz/Testing.html
> # Previously, best practice was to put all test files in inst/tests
> # and ensure that R CMD check ran them by putting the following code in tests/test-all.R:
> # >library(testthat)
> # >library(yourpackage)
> # >test_package("yourpackage")
> # Now, recommended practice is to put your tests in tests/testthat,
> # and ensure R CMD check runs them by putting the following code in tests/test-all.R:
> # >library(testthat)
> # >test_check("yourpackage")
> # The advantage of this new structure is that the user has control over whether or not tests are installed using the –install-tests parameter to
> # R CMD install, or INSTALL_opts = c(“–install-tests”) argument to install.packages(). I’m not sure why you wouldn’t want to install the tests,
> # but now you have the flexibility as requested by CRAN maintainers.
> test_check("metagenomeSeq")
Loading required package: metagenomeSeq
Loading required package: Biobase
Loading required package: BiocGenerics
Attaching package: 'BiocGenerics'
The following objects are masked from 'package:stats':
IQR, mad, sd, var, xtabs
The following objects are masked from 'package:base':
Filter, Find, Map, Position, Reduce, anyDuplicated, aperm, append,
as.data.frame, basename, cbind, colnames, dirname, do.call,
duplicated, eval, evalq, get, grep, grepl, intersect, is.unsorted,
lapply, mapply, match, mget, order, paste, pmax, pmax.int, pmin,
pmin.int, rank, rbind, rownames, sapply, saveRDS, setdiff, table,
tapply, union, unique, unsplit, which.max, which.min
Welcome to Bioconductor
Vignettes contain introductory material; view with
'browseVignettes()'. To cite Bioconductor, see
'citation("Biobase")', and for packages 'citation("pkgname")'.
Loading required package: limma
Attaching package: 'limma'
The following object is masked from 'package:BiocGenerics':
plotMA
Loading required package: glmnet
Loading required package: Matrix
Loaded glmnet 4.1-8
Loading required package: RColorBrewer
[ FAIL 2 | WARN 6 | SKIP 0 | PASS 13 ]
══ Failed tests ════════════════════════════════════════════════════════════════
── Failure ('test-fitZig.R:35:3'): `fitZig` function provides expected values prior to split ──
`fit` not equal to `fit2`.
Component "eb": Component "df.prior": Mean relative difference: 0.01522971
Component "eb": Component "s2.prior": Mean relative difference: 0.0208853
Component "eb": Component "var.prior": Mean relative difference: 0.01489299
Component "eb": Component "s2.post": Mean relative difference: 0.002818974
Component "eb": Component "t": Mean relative difference: 0.001476944
Component "eb": Component "df.total": Mean relative difference: 0.002226407
Component "eb": Component "p.value": Mean relative difference: 0.001045802
Component "eb": Component "lods": Mean relative difference: 0.002124969
Component "eb": Component "F": Mean relative difference: 0.002818882
── Failure ('test-fitZig.R:67:3'): `fitZig` function treats a matrix the same ──
`fit` not equal to `fit2`.
Component "eb": Component "df.prior": Mean relative difference: 0.01522971
Component "eb": Component "s2.prior": Mean relative difference: 0.0208853
Component "eb": Component "var.prior": Mean relative difference: 0.01489299
Component "eb": Component "s2.post": Mean relative difference: 0.002818974
Component "eb": Component "t": Mean relative difference: 0.001476944
Component "eb": Component "df.total": Mean relative difference: 0.002226407
Component "eb": Component "p.value": Mean relative difference: 0.001045802
Component "eb": Component "lods": Mean relative difference: 0.002124969
Component "eb": Component "F": Mean relative difference: 0.002818882
[ FAIL 2 | WARN 6 | SKIP 0 | PASS 13 ]
Error: Test failures
Execution halted
metagenomeSeq.Rcheck/metagenomeSeq-Ex.timings
| name | user | system | elapsed | |
| MRcoefs | 0.825 | 0.043 | 0.869 | |
| MRcounts | 0.373 | 0.015 | 0.388 | |
| MRexperiment-class | 0 | 0 | 0 | |
| MRfulltable | 0.710 | 0.021 | 3.947 | |
| MRtable | 0.710 | 0.018 | 0.728 | |
| aggregateBySample | 0.099 | 0.008 | 0.107 | |
| aggregateByTaxonomy | 0.111 | 0.008 | 0.119 | |
| biom2MRexperiment | 0.154 | 0.010 | 0.164 | |
| calcNormFactors | 0.465 | 0.103 | 0.568 | |
| correctIndices | 0.076 | 0.008 | 0.083 | |
| correlationTest | 0.157 | 0.016 | 0.172 | |
| cumNorm | 0.315 | 0.064 | 0.379 | |
| cumNormMat | 0.349 | 0.089 | 0.438 | |
| cumNormStat | 0.446 | 0.044 | 0.489 | |
| cumNormStatFast | 0.200 | 0.031 | 0.231 | |
| expSummary | 0.072 | 0.006 | 0.077 | |
| exportMat | 0.975 | 1.817 | 2.803 | |
| exportStats | 0.310 | 0.011 | 0.320 | |
| extractMR | 0.732 | 0.758 | 1.494 | |
| filterData | 0.117 | 0.015 | 0.133 | |
| fitDO | 0.294 | 0.012 | 2.212 | |
| fitFeatureModel | 0.773 | 0.043 | 0.816 | |
| fitLogNormal | 1.169 | 0.134 | 1.305 | |
| fitMultipleTimeSeries | 1.319 | 0.186 | 1.508 | |
| fitPA | 0.318 | 0.016 | 2.151 | |
| fitSSTimeSeries | 0.293 | 0.018 | 0.312 | |
| fitTimeSeries | 0.303 | 0.034 | 0.338 | |
| fitZig | 1.049 | 0.135 | 1.187 | |
| libSize-set | 0.286 | 0.017 | 0.303 | |
| libSize | 0.268 | 0.057 | 0.330 | |
| loadBiom | 0.028 | 0.001 | 0.029 | |
| loadMeta | 0.012 | 0.001 | 0.014 | |
| loadMetaQ | 0.000 | 0.000 | 0.001 | |
| loadPhenoData | 0.006 | 0.000 | 0.007 | |
| makeLabels | 0.000 | 0.000 | 0.001 | |
| mergeMRexperiments | 1.182 | 0.126 | 1.311 | |
| newMRexperiment | 0.02 | 0.00 | 0.02 | |
| normFactors-set | 0.268 | 0.024 | 0.293 | |
| normFactors | 0.250 | 0.003 | 0.253 | |
| plotBubble | 0.211 | 0.018 | 2.107 | |
| plotClassTimeSeries | 0.774 | 0.108 | 0.883 | |
| plotCorr | 0.312 | 0.043 | 0.354 | |
| plotFeature | 0.119 | 0.009 | 0.129 | |
| plotGenus | 0.102 | 0.011 | 0.113 | |
| plotMRheatmap | 1.289 | 0.086 | 1.378 | |
| plotOTU | 0.106 | 0.008 | 0.114 | |
| plotOrd | 0.158 | 0.011 | 0.168 | |
| plotRare | 0.093 | 0.010 | 0.104 | |
| plotTimeSeries | 0.726 | 0.146 | 0.873 | |
| posteriorProbs | 1.173 | 0.187 | 1.364 | |
| returnAppropriateObj | 0.242 | 0.014 | 0.257 | |
| ssFit | 0.000 | 0.000 | 0.001 | |
| ssIntervalCandidate | 0 | 0 | 0 | |
| ssPerm | 0.001 | 0.000 | 0.001 | |
| ssPermAnalysis | 0.000 | 0.000 | 0.001 | |
| trapz | 0.000 | 0.000 | 0.001 | |
| ts2MRexperiment | 1.188 | 0.192 | 1.384 | |
| uniqueFeatures | 0.078 | 0.008 | 0.086 | |
| wrenchNorm | 9.396 | 0.932 | 10.353 | |
| zigControl | 0 | 0 | 0 | |