| Back to Multiple platform build/check report for BioC 3.20: simplified long | 
 | 
This page was generated on 2024-11-20 12:02 -0500 (Wed, 20 Nov 2024).
| Hostname | OS | Arch (*) | R version | Installed pkgs | 
|---|---|---|---|---|
| teran2 | Linux (Ubuntu 24.04.1 LTS) | x86_64 | 4.4.2 (2024-10-31) -- "Pile of Leaves" | 4481 | 
| nebbiolo2 | Linux (Ubuntu 24.04.1 LTS) | x86_64 | 4.4.2 (2024-10-31) -- "Pile of Leaves" | 4479 | 
| palomino8 | Windows Server 2022 Datacenter | x64 | 4.4.2 (2024-10-31 ucrt) -- "Pile of Leaves" | 4359 | 
| lconway | macOS 12.7.1 Monterey | x86_64 | 4.4.1 (2024-06-14) -- "Race for Your Life" | 4539 | 
| kunpeng2 | Linux (openEuler 22.03 LTS-SP1) | aarch64 | 4.4.1 (2024-06-14) -- "Race for Your Life" | 4493 | 
| Click on any hostname to see more info about the system (e.g. compilers) (*) as reported by 'uname -p', except on Windows and Mac OS X | ||||
| Package 1198/2289 | Hostname | OS / Arch | INSTALL | BUILD | CHECK | BUILD BIN | ||||||||
| metabinR 1.8.0  (landing page) Anestis Gkanogiannis 
 | teran2 | Linux (Ubuntu 24.04.1 LTS) / x86_64 | OK | OK | OK |  | ||||||||
| nebbiolo2 | Linux (Ubuntu 24.04.1 LTS) / x86_64 | OK | OK | OK | ||||||||||
| palomino8 | Windows Server 2022 Datacenter / x64 | OK | OK | OK | OK |  | ||||||||
| lconway | macOS 12.7.1 Monterey / x86_64 | OK | OK | OK | OK |  | ||||||||
| kunpeng2 | Linux (openEuler 22.03 LTS-SP1) / aarch64 | ERROR | ERROR | skipped | ||||||||||
| To the developers/maintainers of the metabinR package: - Allow up to 24 hours (and sometimes 48 hours) for your latest push to git@git.bioconductor.org:packages/metabinR.git to reflect on this report. See Troubleshooting Build Report for more information. - Use the following Renviron settings to reproduce errors and warnings. - If 'R CMD check' started to fail recently on the Linux builder(s) over a missing dependency, add the missing dependency to 'Suggests:' in your DESCRIPTION file. See Renviron.bioc for more information. | 
| Package: metabinR | 
| Version: 1.8.0 | 
| Command: /home/biocbuild/bbs-3.20-bioc/R/bin/R CMD check --install=check:metabinR.install-out.txt --library=/home/biocbuild/bbs-3.20-bioc/R/site-library --timings metabinR_1.8.0.tar.gz | 
| StartedAt: 2024-11-20 05:25:23 -0500 (Wed, 20 Nov 2024) | 
| EndedAt: 2024-11-20 05:26:34 -0500 (Wed, 20 Nov 2024) | 
| EllapsedTime: 71.1 seconds | 
| RetCode: 0 | 
| Status: OK | 
| CheckDir: metabinR.Rcheck | 
| Warnings: 0 | 
##############################################################################
##############################################################################
###
### Running command:
###
###   /home/biocbuild/bbs-3.20-bioc/R/bin/R CMD check --install=check:metabinR.install-out.txt --library=/home/biocbuild/bbs-3.20-bioc/R/site-library --timings metabinR_1.8.0.tar.gz
###
##############################################################################
##############################################################################
* using log directory ‘/media/volume/teran2_disk/biocbuild/bbs-3.20-bioc/meat/metabinR.Rcheck’
* using R version 4.4.2 (2024-10-31)
* using platform: x86_64-pc-linux-gnu
* R was compiled by
    gcc (Ubuntu 13.2.0-23ubuntu4) 13.2.0
    GNU Fortran (Ubuntu 13.2.0-23ubuntu4) 13.2.0
* running under: Ubuntu 24.04.1 LTS
* using session charset: UTF-8
* checking for file ‘metabinR/DESCRIPTION’ ... OK
* checking extension type ... Package
* this is package ‘metabinR’ version ‘1.8.0’
* package encoding: UTF-8
* checking package namespace information ... OK
* checking package dependencies ... OK
* checking if this is a source package ... OK
* checking if there is a namespace ... OK
* checking for hidden files and directories ... OK
* checking for portable file names ... OK
* checking for sufficient/correct file permissions ... OK
* checking whether package ‘metabinR’ can be installed ... OK
* checking installed package size ... OK
* checking package directory ... OK
* checking ‘build’ directory ... OK
* checking DESCRIPTION meta-information ... OK
* checking top-level files ... OK
* checking for left-over files ... OK
* checking index information ... OK
* checking package subdirectories ... OK
* checking code files for non-ASCII characters ... OK
* checking R files for syntax errors ... OK
* checking whether the package can be loaded ... OK
* checking whether the package can be loaded with stated dependencies ... OK
* checking whether the package can be unloaded cleanly ... OK
* checking whether the namespace can be loaded with stated dependencies ... OK
* checking whether the namespace can be unloaded cleanly ... OK
* checking loading without being on the library search path ... OK
* checking whether startup messages can be suppressed ... OK
* checking dependencies in R code ... OK
* checking S3 generic/method consistency ... OK
* checking replacement functions ... OK
* checking foreign function calls ... OK
* checking R code for possible problems ... OK
* checking Rd files ... OK
* checking Rd metadata ... OK
* checking Rd cross-references ... OK
* checking for missing documentation entries ... OK
* checking for code/documentation mismatches ... OK
* checking Rd \usage sections ... OK
* checking Rd contents ... OK
* checking for unstated dependencies in examples ... OK
* checking files in ‘vignettes’ ... OK
* checking examples ... OK
Examples with CPU (user + system) or elapsed time > 5s
                        user system elapsed
abundance_based_binning 4.43  0.608   3.521
* checking for unstated dependencies in ‘tests’ ... OK
* checking tests ...
  Running ‘spelling.R’
  Running ‘testthat.R’
 OK
* checking for unstated dependencies in vignettes ... OK
* checking package vignettes ... OK
* checking re-building of vignette outputs ... OK
* checking PDF version of manual ... OK
* DONE
Status: OK
metabinR.Rcheck/00install.out
############################################################################## ############################################################################## ### ### Running command: ### ### /home/biocbuild/bbs-3.20-bioc/R/bin/R CMD INSTALL metabinR ### ############################################################################## ############################################################################## * installing to library ‘/media/volume/teran2_disk/biocbuild/bbs-3.20-bioc/R/site-library’ * installing *source* package ‘metabinR’ ... ** using staged installation ** R ** inst ** byte-compile and prepare package for lazy loading ** help *** installing help indices ** building package indices ** installing vignettes ** testing if installed package can be loaded from temporary location ** testing if installed package can be loaded from final location ** testing if installed package keeps a record of temporary installation path * DONE (metabinR)
metabinR.Rcheck/tests/spelling.Rout
R version 4.4.2 (2024-10-31) -- "Pile of Leaves"
Copyright (C) 2024 The R Foundation for Statistical Computing
Platform: x86_64-pc-linux-gnu
R is free software and comes with ABSOLUTELY NO WARRANTY.
You are welcome to redistribute it under certain conditions.
Type 'license()' or 'licence()' for distribution details.
R is a collaborative project with many contributors.
Type 'contributors()' for more information and
'citation()' on how to cite R or R packages in publications.
Type 'demo()' for some demos, 'help()' for on-line help, or
'help.start()' for an HTML browser interface to help.
Type 'q()' to quit R.
> if(requireNamespace('spelling', quietly = TRUE))
+     spelling::spell_check_test(vignettes = TRUE, error = FALSE,
+                                                         skip_on_cran = TRUE)
NULL
> 
> proc.time()
   user  system elapsed 
  0.099   0.052   0.137 
metabinR.Rcheck/tests/testthat.Rout
R version 4.4.2 (2024-10-31) -- "Pile of Leaves"
Copyright (C) 2024 The R Foundation for Statistical Computing
Platform: x86_64-pc-linux-gnu
R is free software and comes with ABSOLUTELY NO WARRANTY.
You are welcome to redistribute it under certain conditions.
Type 'license()' or 'licence()' for distribution details.
R is a collaborative project with many contributors.
Type 'contributors()' for more information and
'citation()' on how to cite R or R packages in publications.
Type 'demo()' for some demos, 'help()' for on-line help, or
'help.start()' for an HTML browser interface to help.
Type 'q()' to quit R.
> library(testthat)
> library(metabinR)
> 
> test_check("metabinR")
version MTxAB =Tue Nov 19 20:23:18 UTC 2024
cpus=16
using=1
2024/11/20 10:25:51 Using Dictionary ORIGINAL
2024/11/20 10:25:51 START of AB Counting
2024/11/20 10:25:51 FastaManager: START READ
CHUNK_SIZE=67108864
2024/11/20 10:25:51 SequenceProcessor: 0	AB_KMERCOUNT START
2024/11/20 10:25:51 FastaManager: lines read 53328
2024/11/20 10:25:51 FastaManager: END READ
2024/11/20 10:25:51 FastaManager: FASTA
2024/11/20 10:25:52 SequenceProcessor: 0	AB_KMERCOUNT EXIT
2024/11/20 10:25:52 END of AB Counting
2024/11/20 10:25:52 Loaded sequences: 26664
2024/11/20 10:25:52 Total kmers(before remove):	65536
##### Heap utilization statistics [GB] #####
Max Memory=0.5
Current Total Memory=0.5
Current Used Memory=0.298
Current Free Memory=0.202
############################################
2024/11/20 10:25:52
Unique:		0
Distinct:	65536
Total:		7625904
MaxCount:	1574
2024/11/20 10:25:52 START of EMsync
	Run=1
	Run=2
	Run=3
	Run=4
	Run=5
	Run=6
	Run=7
	Run=8
	Run=9
	Run=10
	Run=11
	Run=12
	Run=13
	Run=14
	Run=15
	Run=16
	Run=17
	Run=18
	Run=19
	Run=20
	Run=21
	Run=22
	Run=23
	Run=24
	Run=25
2024/11/20 10:25:52	Runs=25
2024/11/20 10:25:52 END of EMsync
2024/11/20 10:25:52 START of Creating AB Cluster Vectors
	Cluster 1	Abundance=241.01134335779187	Length=16168.173737759438	LowLimit=163	HighLimit=318
	Cluster 2	Abundance=75.53888858729701	Length=49367.826262240575	LowLimit=32	HighLimit=118
2024/11/20 10:25:52	Trove size/4=18022
2024/11/20 10:25:52	Trove size/4=18022
2024/11/20 10:25:52	Cluster 1	size in kmers=65536	norm=126.5058948513796
2024/11/20 10:25:52	Cluster 2	size in kmers=65536	norm=221.81983091435748
2024/11/20 10:25:52 END of Creating AB Cluster Vectors
cpus=16
using=1
2024/11/20 10:25:52 START of AB Binning
2024/11/20 10:25:52 FastaManager: START READ
2024/11/20 10:25:52 SequenceProcessor: 0	AB_BINNING START
2024/11/20 10:25:52 FastaManager: lines read 53328
2024/11/20 10:25:52 FastaManager: END READ
2024/11/20 10:25:52 FastaManager: FASTA
2024/11/20 10:25:54 SequenceProcessor: 0	AB_BINNING EXIT
2024/11/20 10:25:54 END of AB Binning
	Clustered reads:
		AB Cluster 1: 19871
		AB Cluster 2: 6793
##### Heap utilization statistics [GB] #####
Max Memory=0.5
Current Total Memory=0.5
Current Used Memory=0.383
Current Free Memory=0.117
############################################
version MTxCB =Tue Nov 19 20:23:18 UTC 2024
cpus=16
using=1
2024/11/20 10:25:54 START of CB Counting
2024/11/20 10:25:54 FastaManager: START READ
2024/11/20 10:25:54 SequenceProcessor: 0	CB_SEQUENCEVECTORBUILD START
2024/11/20 10:25:54 FastaManager: lines read 53328
2024/11/20 10:25:54 FastaManager: END READ
2024/11/20 10:25:54 FastaManager: FASTA
2024/11/20 10:25:54 SequenceProcessor: 0	CB_SEQUENCEVECTORBUILD EXIT
2024/11/20 10:25:54 END of CB Counting
2024/11/20 10:25:54 Loaded sequences: 26664
##### Heap utilization statistics [GB] #####
Max Memory=0.5
Current Total Memory=0.5
Current Used Memory=0.373
Current Free Memory=0.127
############################################
cpus=16
using=1
2024/11/20 10:25:54 START of Creating CB Clusters	Size=26664
K-Means clustering started
... centers initialized
... concurrent processing mode with 1 subtask threads
... iteration 1 moves = 4968
... iteration 2 moves = 4964
... iteration 3 moves = 2645
... iteration 4 moves = 894
... iteration 5 moves = 374
... iteration 6 moves = 225
... iteration 7 moves = 174
... iteration 8 moves = 93
... iteration 9 moves = 56
... iteration 10 moves = 55
... iteration 11 moves = 32
... iteration 12 moves = 9
... iteration 13 moves = 10
... iteration 14 moves = 8
... iteration 15 moves = 2
... iteration 16 moves = 1
... iteration 17 moves = 0
...end.	3.61 seconds.
2024/11/20 10:25:58 : kMeans cleanup.
2024/11/20 10:25:58 END of Creating CB Clusters.
cpus=16
using=1
2024/11/20 10:25:58 START of CB Binning
2024/11/20 10:25:58 FastaManager: START READ
2024/11/20 10:25:58 SequenceProcessor: 0	CB_BINNING START
2024/11/20 10:25:58 FastaManager: lines read 53328
2024/11/20 10:25:58 FastaManager: END READ
2024/11/20 10:25:58 FastaManager: FASTA
2024/11/20 10:25:58 SequenceProcessor: 0	CB_BINNING EXIT
	Clustered reads:
		CB Cluster 1: 9323
		CB Cluster 2: 17341
##### Heap utilization statistics [GB] #####
Max Memory=0.5
Current Total Memory=0.5
Current Used Memory=0.44
Current Free Memory=0.06
############################################
version MTxABxCB =Tue Nov 19 20:23:18 UTC 2024
cpus=16
using=1
2024/11/20 10:25:58 Using Dictionary ORIGINAL
2024/11/20 10:25:58 START of AB Counting
2024/11/20 10:25:58 FastaManager: START READ
2024/11/20 10:25:58 SequenceProcessor: 0	AB_KMERCOUNT START
2024/11/20 10:25:59 FastaManager: lines read 53328
2024/11/20 10:25:59 FastaManager: END READ
2024/11/20 10:25:59 FastaManager: FASTA
2024/11/20 10:25:59 SequenceProcessor: 0	AB_KMERCOUNT EXIT
2024/11/20 10:25:59 END of AB Counting
2024/11/20 10:25:59 Loaded sequences: 26664
2024/11/20 10:25:59 Distinct kmers(before remove):	65536
##### Heap utilization statistics [GB] #####
Max Memory=0.5
Current Total Memory=0.43
Current Used Memory=0.259
Current Free Memory=0.171
############################################
2024/11/20 10:25:59
Unique:		0
Distinct:	65536
Total:		7625904
MaxCount:	1574
2024/11/20 10:25:59 START of EMsync
	Run=1
	Run=2
	Run=3
	Run=4
	Run=5
	Run=6
	Run=7
	Run=8
	Run=9
	Run=10
	Run=11
	Run=12
	Run=13
	Run=14
	Run=15
	Run=16
	Run=17
	Run=18
	Run=19
	Run=20
	Run=21
	Run=22
	Run=23
	Run=24
	Run=25
2024/11/20 10:25:59	Runs=25
2024/11/20 10:25:59 END of EMsync
2024/11/20 10:25:59	Filter before=2
2024/11/20 10:25:59	Filter after=2
2024/11/20 10:25:59 START of Creating AB Cluster Vectors
	Cluster 1	Abundance=241.01134335779187	Length=16168.173737759438	LowLimit=163	HighLimit=318
	Cluster 2	Abundance=75.53888858729701	Length=49367.826262240575	LowLimit=32	HighLimit=118
2024/11/20 10:25:59	Trove size/4=18022
2024/11/20 10:25:59	Trove size/4=18022
2024/11/20 10:25:59	Cluster 2	size in kmers=65536	norm=221.81983091435748
2024/11/20 10:25:59	Cluster 1	size in kmers=65536	norm=126.5058948513796
2024/11/20 10:25:59 END of Creating AB Cluster Vectors
cpus=16
using=1
2024/11/20 10:25:59 START of AB Binning
2024/11/20 10:25:59 FastaManager: START READ
2024/11/20 10:25:59 SequenceProcessor: 0	AB_BINNING START
2024/11/20 10:25:59 FastaManager: lines read 53328
2024/11/20 10:25:59 FastaManager: END READ
2024/11/20 10:25:59 FastaManager: FASTA
2024/11/20 10:26:01 SequenceProcessor: 0	AB_BINNING EXIT
2024/11/20 10:26:01 END of AB Binning
cpus=16
using=1
2024/11/20 10:26:01 START of CB Counting
2024/11/20 10:26:01 FastaManager: START READ
2024/11/20 10:26:01 SequenceProcessor: 0	CB_SEQUENCEVECTORBUILD START
2024/11/20 10:26:01 FastaManager: lines read 53328
2024/11/20 10:26:01 FastaManager: END READ
2024/11/20 10:26:01 FastaManager: FASTA
2024/11/20 10:26:01 SequenceProcessor: 0	CB_SEQUENCEVECTORBUILD EXIT
2024/11/20 10:26:01 END of CB Counting
2024/11/20 10:26:01 Loaded sequences: 26664
##### Heap utilization statistics [GB] #####
Max Memory=0.5
Current Total Memory=0.5
Current Used Memory=0.388
Current Free Memory=0.112
############################################
2024/11/20 10:26:01 AB Cluster=1	Size=19871
2024/11/20 10:26:01 AB Cluster=2	Size=6793
cpus=16
using=1
 ABid	    size	   abundance	  EMLength	 newLength	 EMspecies	newspecies
-----	    ----	   ---------	  --------	 ---------	 ---------	----------
    1	  19,871	   241.01134	    16,168	    12,367	    1		    1
2024/11/20 10:26:01 START of Creating CB Clusters for AB Cluster=1	Size=19871
K-Means clustering started
... centers initialized
... concurrent processing mode with 1 subtask threads
... iteration 1 moves = 0
...end.	1.514 seconds.
2024/11/20 10:26:03 : kMeans cleanup.
2024/11/20 10:26:03 END of Creating CB Clusters for AB Cluster=1
cpus=16
using=1
 ABid	    size	   abundance	  EMLength	 newLength	 EMspecies	newspecies
-----	    ----	   ---------	  --------	 ---------	 ---------	----------
    2	   6,793	    75.53889	    49,367	    13,489	    1		    1
2024/11/20 10:26:03 START of Creating CB Clusters for AB Cluster=2	Size=6793
K-Means clustering started
... centers initialized
... concurrent processing mode with 1 subtask threads
... iteration 1 moves = 0
...end.	0.531 seconds.
2024/11/20 10:26:03 : kMeans cleanup.
2024/11/20 10:26:03 END of Creating CB Clusters for AB Cluster=2
##### Heap utilization statistics [GB] #####
Max Memory=0.5
Current Total Memory=0.5
Current Used Memory=0.275
Current Free Memory=0.225
############################################
cpus=16
using=1
2024/11/20 10:26:03 START of CB Binning
2024/11/20 10:26:03 FastaManager: START READ
2024/11/20 10:26:03 SequenceProcessor: 0	CB_BINNING START
2024/11/20 10:26:03 FastaManager: lines read 53328
2024/11/20 10:26:03 FastaManager: END READ
2024/11/20 10:26:03 FastaManager: FASTA
2024/11/20 10:26:03 SequenceProcessor: 0	CB_BINNING EXIT
	Clustered reads:
		ABxCB Cluster 1: 19871
		ABxCB Cluster 2: 6793
##### Heap utilization statistics [GB] #####
Max Memory=0.5
Current Total Memory=0.5
Current Used Memory=0.452
Current Free Memory=0.048
############################################
[ FAIL 0 | WARN 0 | SKIP 0 | PASS 52 ]
> 
> proc.time()
   user  system elapsed 
 18.628   0.899  13.468 
metabinR.Rcheck/metabinR-Ex.timings
| name | user | system | elapsed | |
| abundance_based_binning | 4.430 | 0.608 | 3.521 | |
| composition_based_binning | 3.493 | 0.333 | 1.516 | |
| hierarchical_binning | 2.810 | 0.220 | 2.109 | |