| Back to Multiple platform build/check report for BioC 3.20: simplified long | 
 | 
This page was generated on 2025-04-02 19:30 -0400 (Wed, 02 Apr 2025).
| Hostname | OS | Arch (*) | R version | Installed pkgs | 
|---|---|---|---|---|
| nebbiolo2 | Linux (Ubuntu 24.04.1 LTS) | x86_64 | 4.4.3 (2025-02-28) -- "Trophy Case" | 4764 | 
| palomino8 | Windows Server 2022 Datacenter | x64 | 4.4.3 (2025-02-28 ucrt) -- "Trophy Case" | 4495 | 
| merida1 | macOS 12.7.5 Monterey | x86_64 | 4.4.3 (2025-02-28) -- "Trophy Case" | 4522 | 
| kjohnson1 | macOS 13.6.6 Ventura | arm64 | 4.4.3 (2025-02-28) -- "Trophy Case" | 4449 | 
| taishan | Linux (openEuler 24.03 LTS) | aarch64 | 4.4.3 (2025-02-28) -- "Trophy Case" | 4426 | 
| Click on any hostname to see more info about the system (e.g. compilers) (*) as reported by 'uname -p', except on Windows and Mac OS X | ||||
| Package 1198/2289 | Hostname | OS / Arch | INSTALL | BUILD | CHECK | BUILD BIN | ||||||||
| metabinR 1.8.0  (landing page) Anestis Gkanogiannis 
 | nebbiolo2 | Linux (Ubuntu 24.04.1 LTS) / x86_64 | OK | OK | OK |  | ||||||||
| palomino8 | Windows Server 2022 Datacenter / x64 | OK | OK | OK | OK |  | ||||||||
| merida1 | macOS 12.7.5 Monterey / x86_64 | OK | OK | OK | OK |  | ||||||||
| kjohnson1 | macOS 13.6.6 Ventura / arm64 | OK | OK | OK | OK |  | ||||||||
| taishan | Linux (openEuler 24.03 LTS) / aarch64 | OK | ERROR | skipped | ||||||||||
| To the developers/maintainers of the metabinR package: - Allow up to 24 hours (and sometimes 48 hours) for your latest push to git@git.bioconductor.org:packages/metabinR.git to reflect on this report. See Troubleshooting Build Report for more information. - Use the following Renviron settings to reproduce errors and warnings. - If 'R CMD check' started to fail recently on the Linux builder(s) over a missing dependency, add the missing dependency to 'Suggests:' in your DESCRIPTION file. See Renviron.bioc for more information. | 
| Package: metabinR | 
| Version: 1.8.0 | 
| Command: F:\biocbuild\bbs-3.20-bioc\R\bin\R.exe CMD check --no-multiarch --install=check:metabinR.install-out.txt --library=F:\biocbuild\bbs-3.20-bioc\R\library --no-vignettes --timings metabinR_1.8.0.tar.gz | 
| StartedAt: 2025-04-01 03:12:48 -0400 (Tue, 01 Apr 2025) | 
| EndedAt: 2025-04-01 03:14:03 -0400 (Tue, 01 Apr 2025) | 
| EllapsedTime: 74.7 seconds | 
| RetCode: 0 | 
| Status: OK | 
| CheckDir: metabinR.Rcheck | 
| Warnings: 0 | 
##############################################################################
##############################################################################
###
### Running command:
###
###   F:\biocbuild\bbs-3.20-bioc\R\bin\R.exe CMD check --no-multiarch --install=check:metabinR.install-out.txt --library=F:\biocbuild\bbs-3.20-bioc\R\library --no-vignettes --timings metabinR_1.8.0.tar.gz
###
##############################################################################
##############################################################################
* using log directory 'F:/biocbuild/bbs-3.20-bioc/meat/metabinR.Rcheck'
* using R version 4.4.3 (2025-02-28 ucrt)
* using platform: x86_64-w64-mingw32
* R was compiled by
    gcc.exe (GCC) 13.3.0
    GNU Fortran (GCC) 13.3.0
* running under: Windows Server 2022 x64 (build 20348)
* using session charset: UTF-8
* using option '--no-vignettes'
* checking for file 'metabinR/DESCRIPTION' ... OK
* checking extension type ... Package
* this is package 'metabinR' version '1.8.0'
* package encoding: UTF-8
* checking package namespace information ... OK
* checking package dependencies ... OK
* checking if this is a source package ... OK
* checking if there is a namespace ... OK
* checking for hidden files and directories ... OK
* checking for portable file names ... OK
* checking whether package 'metabinR' can be installed ... OK
* checking installed package size ... OK
* checking package directory ... OK
* checking 'build' directory ... OK
* checking DESCRIPTION meta-information ... OK
* checking top-level files ... OK
* checking for left-over files ... OK
* checking index information ... OK
* checking package subdirectories ... OK
* checking code files for non-ASCII characters ... OK
* checking R files for syntax errors ... OK
* checking whether the package can be loaded ... OK
* checking whether the package can be loaded with stated dependencies ... OK
* checking whether the package can be unloaded cleanly ... OK
* checking whether the namespace can be loaded with stated dependencies ... OK
* checking whether the namespace can be unloaded cleanly ... OK
* checking whether startup messages can be suppressed ... OK
* checking dependencies in R code ... OK
* checking S3 generic/method consistency ... OK
* checking replacement functions ... OK
* checking foreign function calls ... OK
* checking R code for possible problems ... OK
* checking Rd files ... OK
* checking Rd metadata ... OK
* checking Rd cross-references ... OK
* checking for missing documentation entries ... OK
* checking for code/documentation mismatches ... OK
* checking Rd \usage sections ... OK
* checking Rd contents ... OK
* checking for unstated dependencies in examples ... OK
* checking files in 'vignettes' ... OK
* checking examples ... OK
Examples with CPU (user + system) or elapsed time > 5s
                          user system elapsed
abundance_based_binning   9.05   1.10    7.31
composition_based_binning 5.44   0.56    2.52
hierarchical_binning      4.97   0.50    3.81
* checking for unstated dependencies in 'tests' ... OK
* checking tests ...
  Running 'spelling.R'
  Running 'testthat.R'
 OK
* checking for unstated dependencies in vignettes ... OK
* checking package vignettes ... OK
* checking running R code from vignettes ... SKIPPED
* checking re-building of vignette outputs ... SKIPPED
* checking PDF version of manual ... OK
* DONE
Status: OK
metabinR.Rcheck/00install.out
############################################################################## ############################################################################## ### ### Running command: ### ### F:\biocbuild\bbs-3.20-bioc\R\bin\R.exe CMD INSTALL metabinR ### ############################################################################## ############################################################################## * installing to library 'F:/biocbuild/bbs-3.20-bioc/R/library' * installing *source* package 'metabinR' ... ** using staged installation ** R ** inst ** byte-compile and prepare package for lazy loading ** help *** installing help indices ** building package indices ** installing vignettes ** testing if installed package can be loaded from temporary location ** testing if installed package can be loaded from final location ** testing if installed package keeps a record of temporary installation path * DONE (metabinR)
metabinR.Rcheck/tests/spelling.Rout
R version 4.4.3 (2025-02-28 ucrt) -- "Trophy Case"
Copyright (C) 2025 The R Foundation for Statistical Computing
Platform: x86_64-w64-mingw32/x64
R is free software and comes with ABSOLUTELY NO WARRANTY.
You are welcome to redistribute it under certain conditions.
Type 'license()' or 'licence()' for distribution details.
R is a collaborative project with many contributors.
Type 'contributors()' for more information and
'citation()' on how to cite R or R packages in publications.
Type 'demo()' for some demos, 'help()' for on-line help, or
'help.start()' for an HTML browser interface to help.
Type 'q()' to quit R.
> if(requireNamespace('spelling', quietly = TRUE))
+     spelling::spell_check_test(vignettes = TRUE, error = FALSE,
+                                                         skip_on_cran = TRUE)
NULL
> 
> proc.time()
   user  system elapsed 
   0.17    0.07    0.26 
metabinR.Rcheck/tests/testthat.Rout
R version 4.4.3 (2025-02-28 ucrt) -- "Trophy Case"
Copyright (C) 2025 The R Foundation for Statistical Computing
Platform: x86_64-w64-mingw32/x64
R is free software and comes with ABSOLUTELY NO WARRANTY.
You are welcome to redistribute it under certain conditions.
Type 'license()' or 'licence()' for distribution details.
R is a collaborative project with many contributors.
Type 'contributors()' for more information and
'citation()' on how to cite R or R packages in publications.
Type 'demo()' for some demos, 'help()' for on-line help, or
'help.start()' for an HTML browser interface to help.
Type 'q()' to quit R.
> library(testthat)
> library(metabinR)
> 
> test_check("metabinR")
version MTxAB =Mon Mar 31 15:26:51 EDT 2025
cpus=32
using=1
2025/04/01 03:13:32 Using Dictionary ORIGINAL
2025/04/01 03:13:32 START of AB Counting
2025/04/01 03:13:32 FastaManager: START READ
2025/04/01 03:13:32 SequenceProcessor: 0	AB_KMERCOUNT START
CHUNK_SIZE=67108864
2025/04/01 03:13:32 FastaManager: lines read 53328
2025/04/01 03:13:32 FastaManager: END READ
2025/04/01 03:13:32 FastaManager: FASTA
2025/04/01 03:13:34 SequenceProcessor: 0	AB_KMERCOUNT EXIT
2025/04/01 03:13:34 END of AB Counting
2025/04/01 03:13:34 Loaded sequences: 26664
2025/04/01 03:13:34 Total kmers(before remove):	65536
##### Heap utilization statistics [GB] #####
Max Memory=0.5
Current Total Memory=0.5
Current Used Memory=0.303
Current Free Memory=0.197
############################################
2025/04/01 03:13:34
Unique:		0
Distinct:	65536
Total:		7625904
MaxCount:	1574
2025/04/01 03:13:34 START of EMsync
	Run=1
	Run=2
	Run=3
	Run=4
	Run=5
	Run=6
	Run=7
	Run=8
	Run=9
	Run=10
	Run=11
	Run=12
	Run=13
	Run=14
	Run=15
	Run=16
	Run=17
	Run=18
	Run=19
	Run=20
	Run=21
	Run=22
	Run=23
	Run=24
	Run=25
2025/04/01 03:13:34	Runs=25
2025/04/01 03:13:34 END of EMsync
2025/04/01 03:13:34 START of Creating AB Cluster Vectors
	Cluster 1	Abundance=241.01134335779187	Length=16168.173737759438	LowLimit=163	HighLimit=318
	Cluster 2	Abundance=75.53888858729701	Length=49367.826262240575	LowLimit=32	HighLimit=118
2025/04/01 03:13:34	Trove size/4=18022
2025/04/01 03:13:34	Trove size/4=18022
2025/04/01 03:13:34	Cluster 2	size in kmers=65536	norm=221.81983091435748
2025/04/01 03:13:34	Cluster 1	size in kmers=65536	norm=126.5058948513796
2025/04/01 03:13:34 END of Creating AB Cluster Vectors
cpus=32
using=1
2025/04/01 03:13:34 START of AB Binning
2025/04/01 03:13:34 FastaManager: START READ
2025/04/01 03:13:34 SequenceProcessor: 0	AB_BINNING START
2025/04/01 03:13:34 FastaManager: lines read 53328
2025/04/01 03:13:34 FastaManager: END READ
2025/04/01 03:13:34 FastaManager: FASTA
2025/04/01 03:13:37 SequenceProcessor: 0	AB_BINNING EXIT
2025/04/01 03:13:37 END of AB Binning
	Clustered reads:
		AB Cluster 1: 19871
		AB Cluster 2: 6793
##### Heap utilization statistics [GB] #####
Max Memory=0.5
Current Total Memory=0.5
Current Used Memory=0.382
Current Free Memory=0.118
############################################
version MTxCB =Mon Mar 31 15:26:51 EDT 2025
cpus=32
using=1
2025/04/01 03:13:37 START of CB Counting
2025/04/01 03:13:37 FastaManager: START READ
2025/04/01 03:13:37 SequenceProcessor: 0	CB_SEQUENCEVECTORBUILD START
2025/04/01 03:13:37 FastaManager: lines read 53328
2025/04/01 03:13:37 FastaManager: END READ
2025/04/01 03:13:37 FastaManager: FASTA
2025/04/01 03:13:38 SequenceProcessor: 0	CB_SEQUENCEVECTORBUILD EXIT
2025/04/01 03:13:38 END of CB Counting
2025/04/01 03:13:38 Loaded sequences: 26664
##### Heap utilization statistics [GB] #####
Max Memory=0.5
Current Total Memory=0.5
Current Used Memory=0.411
Current Free Memory=0.089
############################################
cpus=32
using=1
2025/04/01 03:13:38 START of Creating CB Clusters	Size=26664
K-Means clustering started
... centers initialized
... concurrent processing mode with 1 subtask threads
... iteration 1 moves = 5266
... iteration 2 moves = 1018
... iteration 3 moves = 299
... iteration 4 moves = 143
... iteration 5 moves = 87
... iteration 6 moves = 54
... iteration 7 moves = 45
... iteration 8 moves = 15
... iteration 9 moves = 13
... iteration 10 moves = 15
... iteration 11 moves = 6
... iteration 12 moves = 2
... iteration 13 moves = 2
... iteration 14 moves = 0
...end.	4.772 seconds.
2025/04/01 03:13:43 : kMeans cleanup.
2025/04/01 03:13:43 END of Creating CB Clusters.
cpus=32
using=1
2025/04/01 03:13:43 START of CB Binning
2025/04/01 03:13:43 FastaManager: START READ
2025/04/01 03:13:43 SequenceProcessor: 0	CB_BINNING START
2025/04/01 03:13:43 FastaManager: lines read 53328
2025/04/01 03:13:43 FastaManager: END READ
2025/04/01 03:13:43 FastaManager: FASTA
2025/04/01 03:13:43 SequenceProcessor: 0	CB_BINNING EXIT
	Clustered reads:
		CB Cluster 1: 17349
		CB Cluster 2: 9315
##### Heap utilization statistics [GB] #####
Max Memory=0.5
Current Total Memory=0.5
Current Used Memory=0.334
Current Free Memory=0.166
############################################
version MTxABxCB =Mon Mar 31 15:26:51 EDT 2025
cpus=32
using=1
2025/04/01 03:13:43 Using Dictionary ORIGINAL
2025/04/01 03:13:43 START of AB Counting
2025/04/01 03:13:43 FastaManager: START READ
2025/04/01 03:13:43 SequenceProcessor: 0	AB_KMERCOUNT START
2025/04/01 03:13:43 FastaManager: lines read 53328
2025/04/01 03:13:43 FastaManager: END READ
2025/04/01 03:13:43 FastaManager: FASTA
2025/04/01 03:13:45 SequenceProcessor: 0	AB_KMERCOUNT EXIT
2025/04/01 03:13:45 END of AB Counting
2025/04/01 03:13:45 Loaded sequences: 26664
2025/04/01 03:13:45 Distinct kmers(before remove):	65536
##### Heap utilization statistics [GB] #####
Max Memory=0.5
Current Total Memory=0.5
Current Used Memory=0.273
Current Free Memory=0.227
############################################
2025/04/01 03:13:45
Unique:		0
Distinct:	65536
Total:		7625904
MaxCount:	1574
2025/04/01 03:13:45 START of EMsync
	Run=1
	Run=2
	Run=3
	Run=4
	Run=5
	Run=6
	Run=7
	Run=8
	Run=9
	Run=10
	Run=11
	Run=12
	Run=13
	Run=14
	Run=15
	Run=16
	Run=17
	Run=18
	Run=19
	Run=20
	Run=21
	Run=22
	Run=23
	Run=24
	Run=25
2025/04/01 03:13:45	Runs=25
2025/04/01 03:13:45 END of EMsync
2025/04/01 03:13:45	Filter before=2
2025/04/01 03:13:45	Filter after=2
2025/04/01 03:13:45 START of Creating AB Cluster Vectors
	Cluster 1	Abundance=241.01134335779187	Length=16168.173737759438	LowLimit=163	HighLimit=318
	Cluster 2	Abundance=75.53888858729701	Length=49367.826262240575	LowLimit=32	HighLimit=118
2025/04/01 03:13:45	Trove size/4=18022
2025/04/01 03:13:45	Trove size/4=18022
2025/04/01 03:13:45	Cluster 2	size in kmers=65536	norm=221.81983091435748
2025/04/01 03:13:45	Cluster 1	size in kmers=65536	norm=126.5058948513796
2025/04/01 03:13:45 END of Creating AB Cluster Vectors
cpus=32
using=1
2025/04/01 03:13:45 START of AB Binning
2025/04/01 03:13:45 FastaManager: START READ
2025/04/01 03:13:45 SequenceProcessor: 0	AB_BINNING START
2025/04/01 03:13:45 FastaManager: lines read 53328
2025/04/01 03:13:45 FastaManager: END READ
2025/04/01 03:13:45 FastaManager: FASTA
2025/04/01 03:13:47 SequenceProcessor: 0	AB_BINNING EXIT
2025/04/01 03:13:47 END of AB Binning
cpus=32
using=1
2025/04/01 03:13:47 START of CB Counting
2025/04/01 03:13:47 FastaManager: START READ
2025/04/01 03:13:47 SequenceProcessor: 0	CB_SEQUENCEVECTORBUILD START
2025/04/01 03:13:47 FastaManager: lines read 53328
2025/04/01 03:13:47 FastaManager: END READ
2025/04/01 03:13:47 FastaManager: FASTA
2025/04/01 03:13:48 SequenceProcessor: 0	CB_SEQUENCEVECTORBUILD EXIT
2025/04/01 03:13:48 END of CB Counting
2025/04/01 03:13:48 Loaded sequences: 26664
##### Heap utilization statistics [GB] #####
Max Memory=0.5
Current Total Memory=0.5
Current Used Memory=0.439
Current Free Memory=0.061
############################################
2025/04/01 03:13:48 AB Cluster=1	Size=19871
2025/04/01 03:13:48 AB Cluster=2	Size=6793
cpus=32
using=1
 ABid	    size	   abundance	  EMLength	 newLength	 EMspecies	newspecies
-----	    ----	   ---------	  --------	 ---------	 ---------	----------
    1	  19,871	   241.01134	    16,168	    12,367	    1		    1
2025/04/01 03:13:48 START of Creating CB Clusters for AB Cluster=1	Size=19871
K-Means clustering started
... centers initialized
... concurrent processing mode with 1 subtask threads
... iteration 1 moves = 0
...end.	2.204 seconds.
2025/04/01 03:13:50 : kMeans cleanup.
2025/04/01 03:13:50 END of Creating CB Clusters for AB Cluster=1
cpus=32
using=1
 ABid	    size	   abundance	  EMLength	 newLength	 EMspecies	newspecies
-----	    ----	   ---------	  --------	 ---------	 ---------	----------
    2	   6,793	    75.53889	    49,367	    13,489	    1		    1
2025/04/01 03:13:50 START of Creating CB Clusters for AB Cluster=2	Size=6793
K-Means clustering started
... centers initialized
... concurrent processing mode with 1 subtask threads
... iteration 1 moves = 0
...end.	0.813 seconds.
2025/04/01 03:13:51 : kMeans cleanup.
2025/04/01 03:13:51 END of Creating CB Clusters for AB Cluster=2
##### Heap utilization statistics [GB] #####
Max Memory=0.5
Current Total Memory=0.5
Current Used Memory=0.275
Current Free Memory=0.225
############################################
cpus=32
using=1
2025/04/01 03:13:51 START of CB Binning
2025/04/01 03:13:51 FastaManager: START READ
2025/04/01 03:13:51 SequenceProcessor: 0	CB_BINNING START
2025/04/01 03:13:51 FastaManager: lines read 53328
2025/04/01 03:13:51 FastaManager: END READ
2025/04/01 03:13:51 FastaManager: FASTA
2025/04/01 03:13:51 SequenceProcessor: 0	CB_BINNING EXIT
	Clustered reads:
		ABxCB Cluster 1: 19871
		ABxCB Cluster 2: 6793
##### Heap utilization statistics [GB] #####
Max Memory=0.5
Current Total Memory=0.5
Current Used Memory=0.447
Current Free Memory=0.053
############################################
[ FAIL 0 | WARN 0 | SKIP 0 | PASS 52 ]
> 
> proc.time()
   user  system elapsed 
  31.57    1.54   21.32 
metabinR.Rcheck/metabinR-Ex.timings
| name | user | system | elapsed | |
| abundance_based_binning | 9.05 | 1.10 | 7.31 | |
| composition_based_binning | 5.44 | 0.56 | 2.52 | |
| hierarchical_binning | 4.97 | 0.50 | 3.81 | |