| Back to Multiple platform build/check report for BioC 3.20: simplified long | 
 | 
This page was generated on 2025-04-02 19:32 -0400 (Wed, 02 Apr 2025).
| Hostname | OS | Arch (*) | R version | Installed pkgs | 
|---|---|---|---|---|
| nebbiolo2 | Linux (Ubuntu 24.04.1 LTS) | x86_64 | 4.4.3 (2025-02-28) -- "Trophy Case" | 4764 | 
| palomino8 | Windows Server 2022 Datacenter | x64 | 4.4.3 (2025-02-28 ucrt) -- "Trophy Case" | 4495 | 
| merida1 | macOS 12.7.5 Monterey | x86_64 | 4.4.3 (2025-02-28) -- "Trophy Case" | 4522 | 
| kjohnson1 | macOS 13.6.6 Ventura | arm64 | 4.4.3 (2025-02-28) -- "Trophy Case" | 4449 | 
| taishan | Linux (openEuler 24.03 LTS) | aarch64 | 4.4.3 (2025-02-28) -- "Trophy Case" | 4426 | 
| Click on any hostname to see more info about the system (e.g. compilers) (*) as reported by 'uname -p', except on Windows and Mac OS X | ||||
| Package 1198/2289 | Hostname | OS / Arch | INSTALL | BUILD | CHECK | BUILD BIN | ||||||||
| metabinR 1.8.0  (landing page) Anestis Gkanogiannis 
 | nebbiolo2 | Linux (Ubuntu 24.04.1 LTS) / x86_64 | OK | OK | OK |  | ||||||||
| palomino8 | Windows Server 2022 Datacenter / x64 | OK | OK | OK | OK |  | ||||||||
| merida1 | macOS 12.7.5 Monterey / x86_64 | OK | OK | OK | OK |  | ||||||||
| kjohnson1 | macOS 13.6.6 Ventura / arm64 | OK | OK | OK | OK |  | ||||||||
| taishan | Linux (openEuler 24.03 LTS) / aarch64 | OK | ERROR | skipped | ||||||||||
| To the developers/maintainers of the metabinR package: - Allow up to 24 hours (and sometimes 48 hours) for your latest push to git@git.bioconductor.org:packages/metabinR.git to reflect on this report. See Troubleshooting Build Report for more information. - Use the following Renviron settings to reproduce errors and warnings. - If 'R CMD check' started to fail recently on the Linux builder(s) over a missing dependency, add the missing dependency to 'Suggests:' in your DESCRIPTION file. See Renviron.bioc for more information. | 
| Package: metabinR | 
| Version: 1.8.0 | 
| Command: /Library/Frameworks/R.framework/Resources/bin/R CMD check --install=check:metabinR.install-out.txt --library=/Library/Frameworks/R.framework/Resources/library --no-vignettes --timings metabinR_1.8.0.tar.gz | 
| StartedAt: 2025-04-01 05:18:47 -0400 (Tue, 01 Apr 2025) | 
| EndedAt: 2025-04-01 05:20:42 -0400 (Tue, 01 Apr 2025) | 
| EllapsedTime: 114.7 seconds | 
| RetCode: 0 | 
| Status: OK | 
| CheckDir: metabinR.Rcheck | 
| Warnings: 0 | 
##############################################################################
##############################################################################
###
### Running command:
###
###   /Library/Frameworks/R.framework/Resources/bin/R CMD check --install=check:metabinR.install-out.txt --library=/Library/Frameworks/R.framework/Resources/library --no-vignettes --timings metabinR_1.8.0.tar.gz
###
##############################################################################
##############################################################################
* using log directory ‘/Users/biocbuild/bbs-3.20-bioc/meat/metabinR.Rcheck’
* using R version 4.4.3 (2025-02-28)
* using platform: x86_64-apple-darwin20
* R was compiled by
    Apple clang version 14.0.0 (clang-1400.0.29.202)
    GNU Fortran (GCC) 12.2.0
* running under: macOS Monterey 12.7.6
* using session charset: UTF-8
* using option ‘--no-vignettes’
* checking for file ‘metabinR/DESCRIPTION’ ... OK
* checking extension type ... Package
* this is package ‘metabinR’ version ‘1.8.0’
* package encoding: UTF-8
* checking package namespace information ... OK
* checking package dependencies ... OK
* checking if this is a source package ... OK
* checking if there is a namespace ... OK
* checking for hidden files and directories ... OK
* checking for portable file names ... OK
* checking for sufficient/correct file permissions ... OK
* checking whether package ‘metabinR’ can be installed ... OK
* checking installed package size ... OK
* checking package directory ... OK
* checking ‘build’ directory ... OK
* checking DESCRIPTION meta-information ... OK
* checking top-level files ... OK
* checking for left-over files ... OK
* checking index information ... OK
* checking package subdirectories ... OK
* checking code files for non-ASCII characters ... OK
* checking R files for syntax errors ... OK
* checking whether the package can be loaded ... OK
* checking whether the package can be loaded with stated dependencies ... OK
* checking whether the package can be unloaded cleanly ... OK
* checking whether the namespace can be loaded with stated dependencies ... OK
* checking whether the namespace can be unloaded cleanly ... OK
* checking whether startup messages can be suppressed ... OK
* checking dependencies in R code ... OK
* checking S3 generic/method consistency ... OK
* checking replacement functions ... OK
* checking foreign function calls ... OK
* checking R code for possible problems ... OK
* checking Rd files ... OK
* checking Rd metadata ... OK
* checking Rd cross-references ... OK
* checking for missing documentation entries ... OK
* checking for code/documentation mismatches ... OK
* checking Rd \usage sections ... OK
* checking Rd contents ... OK
* checking for unstated dependencies in examples ... OK
* checking files in ‘vignettes’ ... OK
* checking examples ... OK
Examples with CPU (user + system) or elapsed time > 5s
                            user system elapsed
abundance_based_binning   12.087  2.240  10.925
composition_based_binning  7.972  1.700   4.419
hierarchical_binning       7.685  1.361   6.130
* checking for unstated dependencies in ‘tests’ ... OK
* checking tests ...
  Running ‘spelling.R’
  Running ‘testthat.R’
 OK
* checking for unstated dependencies in vignettes ... OK
* checking package vignettes ... OK
* checking running R code from vignettes ... SKIPPED
* checking re-building of vignette outputs ... SKIPPED
* checking PDF version of manual ... OK
* DONE
Status: OK
metabinR.Rcheck/00install.out
############################################################################## ############################################################################## ### ### Running command: ### ### /Library/Frameworks/R.framework/Resources/bin/R CMD INSTALL metabinR ### ############################################################################## ############################################################################## * installing to library ‘/Library/Frameworks/R.framework/Versions/4.4-x86_64/Resources/library’ * installing *source* package ‘metabinR’ ... ** using staged installation ** R ** inst ** byte-compile and prepare package for lazy loading ** help *** installing help indices ** building package indices ** installing vignettes ** testing if installed package can be loaded from temporary location ** testing if installed package can be loaded from final location ** testing if installed package keeps a record of temporary installation path * DONE (metabinR)
metabinR.Rcheck/tests/spelling.Rout
R version 4.4.3 (2025-02-28) -- "Trophy Case"
Copyright (C) 2025 The R Foundation for Statistical Computing
Platform: x86_64-apple-darwin20
R is free software and comes with ABSOLUTELY NO WARRANTY.
You are welcome to redistribute it under certain conditions.
Type 'license()' or 'licence()' for distribution details.
R is a collaborative project with many contributors.
Type 'contributors()' for more information and
'citation()' on how to cite R or R packages in publications.
Type 'demo()' for some demos, 'help()' for on-line help, or
'help.start()' for an HTML browser interface to help.
Type 'q()' to quit R.
> if(requireNamespace('spelling', quietly = TRUE))
+     spelling::spell_check_test(vignettes = TRUE, error = FALSE,
+                                                         skip_on_cran = TRUE)
NULL
> 
> proc.time()
   user  system elapsed 
  0.364   0.120   0.462 
metabinR.Rcheck/tests/testthat.Rout
R version 4.4.3 (2025-02-28) -- "Trophy Case"
Copyright (C) 2025 The R Foundation for Statistical Computing
Platform: x86_64-apple-darwin20
R is free software and comes with ABSOLUTELY NO WARRANTY.
You are welcome to redistribute it under certain conditions.
Type 'license()' or 'licence()' for distribution details.
R is a collaborative project with many contributors.
Type 'contributors()' for more information and
'citation()' on how to cite R or R packages in publications.
Type 'demo()' for some demos, 'help()' for on-line help, or
'help.start()' for an HTML browser interface to help.
Type 'q()' to quit R.
> library(testthat)
> library(metabinR)
> 
> test_check("metabinR")
version MTxAB =Mon Mar 31 15:07:57 EDT 2025
cpus=24
using=1
2025/04/01 05:19:57 Using Dictionary ORIGINAL
2025/04/01 05:19:57 START of AB Counting
2025/04/01 05:19:57 FastaManager: START READ
2025/04/01 05:19:57 SequenceProcessor: 0	AB_KMERCOUNT START
CHUNK_SIZE=67108864
2025/04/01 05:19:57 FastaManager: lines read 53328
2025/04/01 05:19:57 FastaManager: END READ
2025/04/01 05:19:57 FastaManager: FASTA
2025/04/01 05:20:00 SequenceProcessor: 0	AB_KMERCOUNT EXIT
2025/04/01 05:20:00 END of AB Counting
2025/04/01 05:20:00 Loaded sequences: 26664
2025/04/01 05:20:00 Total kmers(before remove):	65536
##### Heap utilization statistics [GB] #####
Max Memory=0.5
Current Total Memory=0.5
Current Used Memory=0.304
Current Free Memory=0.196
############################################
2025/04/01 05:20:00
Unique:		0
Distinct:	65536
Total:		7625904
MaxCount:	1574
2025/04/01 05:20:00 START of EMsync
	Run=1
	Run=2
	Run=3
	Run=4
	Run=5
	Run=6
	Run=7
	Run=8
	Run=9
	Run=10
	Run=11
	Run=12
	Run=13
	Run=14
	Run=15
	Run=16
	Run=17
	Run=18
	Run=19
	Run=20
	Run=21
	Run=22
	Run=23
	Run=24
	Run=25
2025/04/01 05:20:00	Runs=25
2025/04/01 05:20:00 END of EMsync
2025/04/01 05:20:00 START of Creating AB Cluster Vectors
	Cluster 1	Abundance=241.01134335779187	Length=16168.173737759438	LowLimit=163	HighLimit=318
	Cluster 2	Abundance=75.53888858729701	Length=49367.826262240575	LowLimit=32	HighLimit=118
2025/04/01 05:20:00	Trove size/4=18022
2025/04/01 05:20:00	Trove size/4=18022
2025/04/01 05:20:00	Cluster 2	size in kmers=65536	norm=221.81983091435748
2025/04/01 05:20:00	Cluster 1	size in kmers=65536	norm=126.5058948513796
2025/04/01 05:20:00 END of Creating AB Cluster Vectors
cpus=24
using=1
2025/04/01 05:20:00 START of AB Binning
2025/04/01 05:20:00 FastaManager: START READ
2025/04/01 05:20:00 SequenceProcessor: 0	AB_BINNING START
2025/04/01 05:20:00 FastaManager: lines read 53328
2025/04/01 05:20:00 FastaManager: END READ
2025/04/01 05:20:00 FastaManager: FASTA
2025/04/01 05:20:04 SequenceProcessor: 0	AB_BINNING EXIT
2025/04/01 05:20:04 END of AB Binning
	Clustered reads:
		AB Cluster 1: 19871
		AB Cluster 2: 6793
##### Heap utilization statistics [GB] #####
Max Memory=0.5
Current Total Memory=0.5
Current Used Memory=0.389
Current Free Memory=0.111
############################################
version MTxCB =Mon Mar 31 15:07:57 EDT 2025
cpus=24
using=1
2025/04/01 05:20:04 START of CB Counting
2025/04/01 05:20:04 FastaManager: START READ
2025/04/01 05:20:04 SequenceProcessor: 0	CB_SEQUENCEVECTORBUILD START
2025/04/01 05:20:04 FastaManager: lines read 53328
2025/04/01 05:20:04 FastaManager: END READ
2025/04/01 05:20:04 FastaManager: FASTA
2025/04/01 05:20:05 SequenceProcessor: 0	CB_SEQUENCEVECTORBUILD EXIT
2025/04/01 05:20:05 END of CB Counting
2025/04/01 05:20:05 Loaded sequences: 26664
##### Heap utilization statistics [GB] #####
Max Memory=0.5
Current Total Memory=0.5
Current Used Memory=0.395
Current Free Memory=0.105
############################################
cpus=24
using=1
2025/04/01 05:20:05 START of Creating CB Clusters	Size=26664
K-Means clustering started
... centers initialized
... concurrent processing mode with 1 subtask threads
... iteration 1 moves = 8485
... iteration 2 moves = 1771
... iteration 3 moves = 449
... iteration 4 moves = 320
... iteration 5 moves = 303
... iteration 6 moves = 283
... iteration 7 moves = 262
... iteration 8 moves = 182
... iteration 9 moves = 122
... iteration 10 moves = 63
... iteration 11 moves = 58
... iteration 12 moves = 55
... iteration 13 moves = 17
... iteration 14 moves = 10
... iteration 15 moves = 10
... iteration 16 moves = 4
... iteration 17 moves = 1
... iteration 18 moves = 0
...end.	8.427 seconds.
2025/04/01 05:20:14 : kMeans cleanup.
2025/04/01 05:20:14 END of Creating CB Clusters.
cpus=24
using=1
2025/04/01 05:20:14 START of CB Binning
2025/04/01 05:20:14 FastaManager: START READ
2025/04/01 05:20:14 SequenceProcessor: 0	CB_BINNING START
2025/04/01 05:20:14 FastaManager: lines read 53328
2025/04/01 05:20:14 FastaManager: END READ
2025/04/01 05:20:14 FastaManager: FASTA
2025/04/01 05:20:14 SequenceProcessor: 0	CB_BINNING EXIT
	Clustered reads:
		CB Cluster 1: 17350
		CB Cluster 2: 9314
##### Heap utilization statistics [GB] #####
Max Memory=0.5
Current Total Memory=0.5
Current Used Memory=0.491
Current Free Memory=0.009
############################################
version MTxABxCB =Mon Mar 31 15:07:57 EDT 2025
cpus=24
using=1
2025/04/01 05:20:15 Using Dictionary ORIGINAL
2025/04/01 05:20:15 START of AB Counting
2025/04/01 05:20:15 FastaManager: START READ
2025/04/01 05:20:15 SequenceProcessor: 0	AB_KMERCOUNT START
2025/04/01 05:20:15 FastaManager: lines read 53328
2025/04/01 05:20:15 FastaManager: END READ
2025/04/01 05:20:15 FastaManager: FASTA
2025/04/01 05:20:17 SequenceProcessor: 0	AB_KMERCOUNT EXIT
2025/04/01 05:20:17 END of AB Counting
2025/04/01 05:20:17 Loaded sequences: 26664
2025/04/01 05:20:17 Distinct kmers(before remove):	65536
##### Heap utilization statistics [GB] #####
Max Memory=0.5
Current Total Memory=0.5
Current Used Memory=0.29
Current Free Memory=0.21
############################################
2025/04/01 05:20:17
Unique:		0
Distinct:	65536
Total:		7625904
MaxCount:	1574
2025/04/01 05:20:17 START of EMsync
	Run=1
	Run=2
	Run=3
	Run=4
	Run=5
	Run=6
	Run=7
	Run=8
	Run=9
	Run=10
	Run=11
	Run=12
	Run=13
	Run=14
	Run=15
	Run=16
	Run=17
	Run=18
	Run=19
	Run=20
	Run=21
	Run=22
	Run=23
	Run=24
	Run=25
2025/04/01 05:20:17	Runs=25
2025/04/01 05:20:17 END of EMsync
2025/04/01 05:20:17	Filter before=2
2025/04/01 05:20:17	Filter after=2
2025/04/01 05:20:17 START of Creating AB Cluster Vectors
	Cluster 1	Abundance=241.01134335779187	Length=16168.173737759438	LowLimit=163	HighLimit=318
	Cluster 2	Abundance=75.53888858729701	Length=49367.826262240575	LowLimit=32	HighLimit=118
2025/04/01 05:20:17	Trove size/4=18022
2025/04/01 05:20:17	Trove size/4=18022
2025/04/01 05:20:17	Cluster 2	size in kmers=65536	norm=221.81983091435748
2025/04/01 05:20:17	Cluster 1	size in kmers=65536	norm=126.5058948513796
2025/04/01 05:20:17 END of Creating AB Cluster Vectors
cpus=24
using=1
2025/04/01 05:20:17 START of AB Binning
2025/04/01 05:20:17 FastaManager: START READ
2025/04/01 05:20:17 SequenceProcessor: 0	AB_BINNING START
2025/04/01 05:20:17 FastaManager: lines read 53328
2025/04/01 05:20:17 FastaManager: END READ
2025/04/01 05:20:17 FastaManager: FASTA
2025/04/01 05:20:20 SequenceProcessor: 0	AB_BINNING EXIT
2025/04/01 05:20:20 END of AB Binning
cpus=24
using=1
2025/04/01 05:20:20 START of CB Counting
2025/04/01 05:20:20 FastaManager: START READ
2025/04/01 05:20:20 SequenceProcessor: 0	CB_SEQUENCEVECTORBUILD START
2025/04/01 05:20:20 FastaManager: lines read 53328
2025/04/01 05:20:20 FastaManager: END READ
2025/04/01 05:20:20 FastaManager: FASTA
2025/04/01 05:20:21 SequenceProcessor: 0	CB_SEQUENCEVECTORBUILD EXIT
2025/04/01 05:20:21 END of CB Counting
2025/04/01 05:20:21 Loaded sequences: 26664
##### Heap utilization statistics [GB] #####
Max Memory=0.5
Current Total Memory=0.5
Current Used Memory=0.442
Current Free Memory=0.058
############################################
2025/04/01 05:20:22 AB Cluster=1	Size=19871
2025/04/01 05:20:22 AB Cluster=2	Size=6793
cpus=24
using=1
 ABid	    size	   abundance	  EMLength	 newLength	 EMspecies	newspecies
-----	    ----	   ---------	  --------	 ---------	 ---------	----------
    1	  19,871	   241.01134	    16,168	    12,367	    1		    1
2025/04/01 05:20:22 START of Creating CB Clusters for AB Cluster=1	Size=19871
K-Means clustering started
... centers initialized
... concurrent processing mode with 1 subtask threads
... iteration 1 moves = 0
...end.	3.329 seconds.
2025/04/01 05:20:25 : kMeans cleanup.
2025/04/01 05:20:25 END of Creating CB Clusters for AB Cluster=1
cpus=24
using=1
 ABid	    size	   abundance	  EMLength	 newLength	 EMspecies	newspecies
-----	    ----	   ---------	  --------	 ---------	 ---------	----------
    2	   6,793	    75.53889	    49,367	    13,489	    1		    1
2025/04/01 05:20:25 START of Creating CB Clusters for AB Cluster=2	Size=6793
K-Means clustering started
... centers initialized
... concurrent processing mode with 1 subtask threads
... iteration 1 moves = 0
...end.	1.146 seconds.
2025/04/01 05:20:26 : kMeans cleanup.
2025/04/01 05:20:26 END of Creating CB Clusters for AB Cluster=2
##### Heap utilization statistics [GB] #####
Max Memory=0.5
Current Total Memory=0.5
Current Used Memory=0.397
Current Free Memory=0.103
############################################
cpus=24
using=1
2025/04/01 05:20:26 START of CB Binning
2025/04/01 05:20:26 FastaManager: START READ
2025/04/01 05:20:26 SequenceProcessor: 0	CB_BINNING START
2025/04/01 05:20:26 FastaManager: lines read 53328
2025/04/01 05:20:26 FastaManager: END READ
2025/04/01 05:20:26 FastaManager: FASTA
2025/04/01 05:20:27 SequenceProcessor: 0	CB_BINNING EXIT
	Clustered reads:
		ABxCB Cluster 1: 19871
		ABxCB Cluster 2: 6793
##### Heap utilization statistics [GB] #####
Max Memory=0.5
Current Total Memory=0.5
Current Used Memory=0.475
Current Free Memory=0.025
############################################
[ FAIL 0 | WARN 0 | SKIP 0 | PASS 52 ]
> 
> proc.time()
   user  system elapsed 
 43.588   1.451  32.825 
metabinR.Rcheck/metabinR-Ex.timings
| name | user | system | elapsed | |
| abundance_based_binning | 12.087 | 2.240 | 10.925 | |
| composition_based_binning | 7.972 | 1.700 | 4.419 | |
| hierarchical_binning | 7.685 | 1.361 | 6.130 | |