| Back to Multiple platform build/check report for BioC 3.20: simplified long |
|
This page was generated on 2024-07-16 11:40 -0400 (Tue, 16 Jul 2024).
| Hostname | OS | Arch (*) | R version | Installed pkgs |
|---|---|---|---|---|
| nebbiolo2 | Linux (Ubuntu 22.04.3 LTS) | x86_64 | 4.4.1 (2024-06-14) -- "Race for Your Life" | 4677 |
| palomino6 | Windows Server 2022 Datacenter | x64 | 4.4.1 (2024-06-14 ucrt) -- "Race for Your Life" | 4416 |
| lconway | macOS 12.7.1 Monterey | x86_64 | 4.4.1 (2024-06-14) -- "Race for Your Life" | 4444 |
| kjohnson3 | macOS 13.6.5 Ventura | arm64 | 4.4.1 (2024-06-14) -- "Race for Your Life" | 4393 |
| palomino8 | Windows Server 2022 Datacenter | x64 | 4.4.1 (2024-06-14 ucrt) -- "Race for Your Life" | 4373 |
| Click on any hostname to see more info about the system (e.g. compilers) (*) as reported by 'uname -p', except on Windows and Mac OS X | ||||
| Package 1176/2243 | Hostname | OS / Arch | INSTALL | BUILD | CHECK | BUILD BIN | ||||||||
| metabinR 1.7.0 (landing page) Anestis Gkanogiannis
| nebbiolo2 | Linux (Ubuntu 22.04.3 LTS) / x86_64 | OK | OK | OK | |||||||||
| palomino6 | Windows Server 2022 Datacenter / x64 | OK | OK | OK | OK | |||||||||
| lconway | macOS 12.7.1 Monterey / x86_64 | OK | OK | OK | OK | |||||||||
| kjohnson3 | macOS 13.6.5 Ventura / arm64 | OK | OK | OK | OK | |||||||||
| palomino8 | Windows Server 2022 Datacenter / x64 | OK | OK | OK | OK | |||||||||
|
To the developers/maintainers of the metabinR package: - Allow up to 24 hours (and sometimes 48 hours) for your latest push to git@git.bioconductor.org:packages/metabinR.git to reflect on this report. See Troubleshooting Build Report for more information. - Use the following Renviron settings to reproduce errors and warnings. - If 'R CMD check' started to fail recently on the Linux builder(s) over a missing dependency, add the missing dependency to 'Suggests:' in your DESCRIPTION file. See Renviron.bioc for more information. |
| Package: metabinR |
| Version: 1.7.0 |
| Command: C:\Users\biocbuild\bbs-3.20-bioc\R\bin\R.exe CMD check --no-multiarch --install=check:metabinR.install-out.txt --library=C:\Users\biocbuild\bbs-3.20-bioc\R\library --no-vignettes --timings metabinR_1.7.0.tar.gz |
| StartedAt: 2024-07-16 01:31:42 -0400 (Tue, 16 Jul 2024) |
| EndedAt: 2024-07-16 01:32:43 -0400 (Tue, 16 Jul 2024) |
| EllapsedTime: 60.5 seconds |
| RetCode: 0 |
| Status: OK |
| CheckDir: metabinR.Rcheck |
| Warnings: 0 |
##############################################################################
##############################################################################
###
### Running command:
###
### C:\Users\biocbuild\bbs-3.20-bioc\R\bin\R.exe CMD check --no-multiarch --install=check:metabinR.install-out.txt --library=C:\Users\biocbuild\bbs-3.20-bioc\R\library --no-vignettes --timings metabinR_1.7.0.tar.gz
###
##############################################################################
##############################################################################
* using log directory 'C:/Users/biocbuild/bbs-3.20-bioc/meat/metabinR.Rcheck'
* using R version 4.4.1 (2024-06-14 ucrt)
* using platform: x86_64-w64-mingw32
* R was compiled by
gcc.exe (GCC) 13.2.0
GNU Fortran (GCC) 13.2.0
* running under: Windows Server 2022 x64 (build 20348)
* using session charset: UTF-8
* using option '--no-vignettes'
* checking for file 'metabinR/DESCRIPTION' ... OK
* checking extension type ... Package
* this is package 'metabinR' version '1.7.0'
* package encoding: UTF-8
* checking package namespace information ... OK
* checking package dependencies ... OK
* checking if this is a source package ... OK
* checking if there is a namespace ... OK
* checking for hidden files and directories ... OK
* checking for portable file names ... OK
* checking whether package 'metabinR' can be installed ... OK
* checking installed package size ... OK
* checking package directory ... OK
* checking 'build' directory ... OK
* checking DESCRIPTION meta-information ... OK
* checking top-level files ... OK
* checking for left-over files ... OK
* checking index information ... OK
* checking package subdirectories ... OK
* checking code files for non-ASCII characters ... OK
* checking R files for syntax errors ... OK
* checking whether the package can be loaded ... OK
* checking whether the package can be loaded with stated dependencies ... OK
* checking whether the package can be unloaded cleanly ... OK
* checking whether the namespace can be loaded with stated dependencies ... OK
* checking whether the namespace can be unloaded cleanly ... OK
* checking whether startup messages can be suppressed ... OK
* checking dependencies in R code ... OK
* checking S3 generic/method consistency ... OK
* checking replacement functions ... OK
* checking foreign function calls ... OK
* checking R code for possible problems ... OK
* checking Rd files ... OK
* checking Rd metadata ... OK
* checking Rd cross-references ... OK
* checking for missing documentation entries ... OK
* checking for code/documentation mismatches ... OK
* checking Rd \usage sections ... OK
* checking Rd contents ... OK
* checking for unstated dependencies in examples ... OK
* checking files in 'vignettes' ... OK
* checking examples ... OK
Examples with CPU (user + system) or elapsed time > 5s
user system elapsed
abundance_based_binning 7.91 2.59 5.59
composition_based_binning 5.67 1.59 2.06
hierarchical_binning 4.98 1.19 2.73
* checking for unstated dependencies in 'tests' ... OK
* checking tests ...
Running 'spelling.R'
Running 'testthat.R'
OK
* checking for unstated dependencies in vignettes ... OK
* checking package vignettes ... OK
* checking running R code from vignettes ... SKIPPED
* checking re-building of vignette outputs ... SKIPPED
* checking PDF version of manual ... OK
* DONE
Status: OK
metabinR.Rcheck/00install.out
############################################################################## ############################################################################## ### ### Running command: ### ### C:\Users\biocbuild\bbs-3.20-bioc\R\bin\R.exe CMD INSTALL metabinR ### ############################################################################## ############################################################################## * installing to library 'C:/Users/biocbuild/bbs-3.20-bioc/R/library' * installing *source* package 'metabinR' ... ** using staged installation ** R ** inst ** byte-compile and prepare package for lazy loading ** help *** installing help indices ** building package indices ** installing vignettes ** testing if installed package can be loaded from temporary location ** testing if installed package can be loaded from final location ** testing if installed package keeps a record of temporary installation path * DONE (metabinR)
metabinR.Rcheck/tests/spelling.Rout
R version 4.4.1 (2024-06-14 ucrt) -- "Race for Your Life"
Copyright (C) 2024 The R Foundation for Statistical Computing
Platform: x86_64-w64-mingw32/x64
R is free software and comes with ABSOLUTELY NO WARRANTY.
You are welcome to redistribute it under certain conditions.
Type 'license()' or 'licence()' for distribution details.
R is a collaborative project with many contributors.
Type 'contributors()' for more information and
'citation()' on how to cite R or R packages in publications.
Type 'demo()' for some demos, 'help()' for on-line help, or
'help.start()' for an HTML browser interface to help.
Type 'q()' to quit R.
> if(requireNamespace('spelling', quietly = TRUE))
+ spelling::spell_check_test(vignettes = TRUE, error = FALSE,
+ skip_on_cran = TRUE)
NULL
>
> proc.time()
user system elapsed
0.14 0.07 0.18
metabinR.Rcheck/tests/testthat.Rout
R version 4.4.1 (2024-06-14 ucrt) -- "Race for Your Life"
Copyright (C) 2024 The R Foundation for Statistical Computing
Platform: x86_64-w64-mingw32/x64
R is free software and comes with ABSOLUTELY NO WARRANTY.
You are welcome to redistribute it under certain conditions.
Type 'license()' or 'licence()' for distribution details.
R is a collaborative project with many contributors.
Type 'contributors()' for more information and
'citation()' on how to cite R or R packages in publications.
Type 'demo()' for some demos, 'help()' for on-line help, or
'help.start()' for an HTML browser interface to help.
Type 'q()' to quit R.
> library(testthat)
> library(metabinR)
>
> test_check("metabinR")
version MTxAB =Mon Jul 15 15:19:25 EDT 2024
cpus=64
using=1
2024/07/16 01:32:17 Using Dictionary ORIGINAL
2024/07/16 01:32:17 START of AB Counting
2024/07/16 01:32:17 FastaManager: START READ
2024/07/16 01:32:17 SequenceProcessor: 0 AB_KMERCOUNT START
CHUNK_SIZE=67108864
2024/07/16 01:32:17 FastaManager: lines read 53328
2024/07/16 01:32:17 FastaManager: END READ
2024/07/16 01:32:17 FastaManager: FASTA
2024/07/16 01:32:18 SequenceProcessor: 0 AB_KMERCOUNT EXIT
2024/07/16 01:32:18 END of AB Counting
2024/07/16 01:32:18 Loaded sequences: 26664
2024/07/16 01:32:18 Total kmers(before remove): 65536
##### Heap utilization statistics [GB] #####
Max Memory=0.5
Current Total Memory=0.5
Current Used Memory=0.304
Current Free Memory=0.196
############################################
2024/07/16 01:32:18
Unique: 0
Distinct: 65536
Total: 7625904
MaxCount: 1574
2024/07/16 01:32:18 START of EMsync
Run=1
Run=2
Run=3
Run=4
Run=5
Run=6
Run=7
Run=8
Run=9
Run=10
Run=11
Run=12
Run=13
Run=14
Run=15
Run=16
Run=17
Run=18
Run=19
Run=20
Run=21
Run=22
Run=23
Run=24
Run=25
2024/07/16 01:32:19 Runs=25
2024/07/16 01:32:19 END of EMsync
2024/07/16 01:32:19 START of Creating AB Cluster Vectors
Cluster 1 Abundance=241.01134335779187 Length=16168.173737759438 LowLimit=163 HighLimit=318
Cluster 2 Abundance=75.53888858729701 Length=49367.826262240575 LowLimit=32 HighLimit=118
2024/07/16 01:32:19 Trove size/4=18022
2024/07/16 01:32:19 Trove size/4=18022
2024/07/16 01:32:19 Cluster 2 size in kmers=65536 norm=221.81983091435748
2024/07/16 01:32:19 Cluster 1 size in kmers=65536 norm=126.5058948513796
2024/07/16 01:32:19 END of Creating AB Cluster Vectors
cpus=64
using=1
2024/07/16 01:32:19 START of AB Binning
2024/07/16 01:32:19 FastaManager: START READ
2024/07/16 01:32:19 SequenceProcessor: 0 AB_BINNING START
2024/07/16 01:32:19 FastaManager: lines read 53328
2024/07/16 01:32:19 FastaManager: END READ
2024/07/16 01:32:19 FastaManager: FASTA
2024/07/16 01:32:21 SequenceProcessor: 0 AB_BINNING EXIT
2024/07/16 01:32:21 END of AB Binning
Clustered reads:
AB Cluster 1: 19871
AB Cluster 2: 6793
##### Heap utilization statistics [GB] #####
Max Memory=0.5
Current Total Memory=0.5
Current Used Memory=0.384
Current Free Memory=0.116
############################################
version MTxCB =Mon Jul 15 15:19:25 EDT 2024
cpus=64
using=1
2024/07/16 01:32:21 START of CB Counting
2024/07/16 01:32:21 FastaManager: START READ
2024/07/16 01:32:21 SequenceProcessor: 0 CB_SEQUENCEVECTORBUILD START
2024/07/16 01:32:21 FastaManager: lines read 53328
2024/07/16 01:32:21 FastaManager: END READ
2024/07/16 01:32:21 FastaManager: FASTA
2024/07/16 01:32:22 SequenceProcessor: 0 CB_SEQUENCEVECTORBUILD EXIT
2024/07/16 01:32:22 END of CB Counting
2024/07/16 01:32:22 Loaded sequences: 26664
##### Heap utilization statistics [GB] #####
Max Memory=0.5
Current Total Memory=0.5
Current Used Memory=0.414
Current Free Memory=0.086
############################################
cpus=64
using=1
2024/07/16 01:32:22 START of Creating CB Clusters Size=26664
K-Means clustering started
... centers initialized
... concurrent processing mode with 1 subtask threads
... iteration 1 moves = 5831
... iteration 2 moves = 4080
... iteration 3 moves = 4136
... iteration 4 moves = 1851
... iteration 5 moves = 778
... iteration 6 moves = 400
... iteration 7 moves = 305
... iteration 8 moves = 266
... iteration 9 moves = 251
... iteration 10 moves = 206
... iteration 11 moves = 141
... iteration 12 moves = 82
... iteration 13 moves = 58
... iteration 14 moves = 50
... iteration 15 moves = 21
... iteration 16 moves = 9
... iteration 17 moves = 13
... iteration 18 moves = 4
... iteration 19 moves = 2
... iteration 20 moves = 1
... iteration 21 moves = 0
...end. 5.597 seconds.
2024/07/16 01:32:27 : kMeans cleanup.
2024/07/16 01:32:27 END of Creating CB Clusters.
cpus=64
using=1
2024/07/16 01:32:27 START of CB Binning
2024/07/16 01:32:27 FastaManager: START READ
2024/07/16 01:32:27 SequenceProcessor: 0 CB_BINNING START
2024/07/16 01:32:27 FastaManager: lines read 53328
2024/07/16 01:32:27 FastaManager: END READ
2024/07/16 01:32:27 FastaManager: FASTA
2024/07/16 01:32:28 SequenceProcessor: 0 CB_BINNING EXIT
Clustered reads:
CB Cluster 1: 9323
CB Cluster 2: 17341
##### Heap utilization statistics [GB] #####
Max Memory=0.5
Current Total Memory=0.5
Current Used Memory=0.336
Current Free Memory=0.164
############################################
version MTxABxCB =Mon Jul 15 15:19:25 EDT 2024
cpus=64
using=1
2024/07/16 01:32:28 Using Dictionary ORIGINAL
2024/07/16 01:32:28 START of AB Counting
2024/07/16 01:32:28 FastaManager: START READ
2024/07/16 01:32:28 SequenceProcessor: 0 AB_KMERCOUNT START
2024/07/16 01:32:28 FastaManager: lines read 53328
2024/07/16 01:32:28 FastaManager: END READ
2024/07/16 01:32:28 FastaManager: FASTA
2024/07/16 01:32:29 SequenceProcessor: 0 AB_KMERCOUNT EXIT
2024/07/16 01:32:29 END of AB Counting
2024/07/16 01:32:29 Loaded sequences: 26664
2024/07/16 01:32:29 Distinct kmers(before remove): 65536
##### Heap utilization statistics [GB] #####
Max Memory=0.5
Current Total Memory=0.5
Current Used Memory=0.283
Current Free Memory=0.217
############################################
2024/07/16 01:32:29
Unique: 0
Distinct: 65536
Total: 7625904
MaxCount: 1574
2024/07/16 01:32:29 START of EMsync
Run=1
Run=2
Run=3
Run=4
Run=5
Run=6
Run=7
Run=8
Run=9
Run=10
Run=11
Run=12
Run=13
Run=14
Run=15
Run=16
Run=17
Run=18
Run=19
Run=20
Run=21
Run=22
Run=23
Run=24
Run=25
2024/07/16 01:32:29 Runs=25
2024/07/16 01:32:29 END of EMsync
2024/07/16 01:32:29 Filter before=2
2024/07/16 01:32:29 Filter after=2
2024/07/16 01:32:29 START of Creating AB Cluster Vectors
Cluster 1 Abundance=241.01134335779187 Length=16168.173737759438 LowLimit=163 HighLimit=318
Cluster 2 Abundance=75.53888858729701 Length=49367.826262240575 LowLimit=32 HighLimit=118
2024/07/16 01:32:29 Trove size/4=18022
2024/07/16 01:32:29 Trove size/4=18022
2024/07/16 01:32:29 Cluster 2 size in kmers=65536 norm=221.81983091435748
2024/07/16 01:32:29 Cluster 1 size in kmers=65536 norm=126.5058948513796
2024/07/16 01:32:29 END of Creating AB Cluster Vectors
cpus=64
using=1
2024/07/16 01:32:29 START of AB Binning
2024/07/16 01:32:29 FastaManager: START READ
2024/07/16 01:32:29 SequenceProcessor: 0 AB_BINNING START
2024/07/16 01:32:29 FastaManager: lines read 53328
2024/07/16 01:32:29 FastaManager: END READ
2024/07/16 01:32:29 FastaManager: FASTA
2024/07/16 01:32:31 SequenceProcessor: 0 AB_BINNING EXIT
2024/07/16 01:32:31 END of AB Binning
cpus=64
using=1
2024/07/16 01:32:31 START of CB Counting
2024/07/16 01:32:31 FastaManager: START READ
2024/07/16 01:32:31 SequenceProcessor: 0 CB_SEQUENCEVECTORBUILD START
2024/07/16 01:32:31 FastaManager: lines read 53328
2024/07/16 01:32:31 FastaManager: END READ
2024/07/16 01:32:31 FastaManager: FASTA
2024/07/16 01:32:31 SequenceProcessor: 0 CB_SEQUENCEVECTORBUILD EXIT
2024/07/16 01:32:31 END of CB Counting
2024/07/16 01:32:31 Loaded sequences: 26664
##### Heap utilization statistics [GB] #####
Max Memory=0.5
Current Total Memory=0.5
Current Used Memory=0.438
Current Free Memory=0.062
############################################
2024/07/16 01:32:31 AB Cluster=1 Size=19871
2024/07/16 01:32:31 AB Cluster=2 Size=6793
cpus=64
using=1
ABid size abundance EMLength newLength EMspecies newspecies
----- ---- --------- -------- --------- --------- ----------
1 19,871 241.01134 16,168 12,367 1 1
2024/07/16 01:32:31 START of Creating CB Clusters for AB Cluster=1 Size=19871
K-Means clustering started
... centers initialized
... concurrent processing mode with 1 subtask threads
... iteration 1 moves = 0
...end. 1.88 seconds.
2024/07/16 01:32:33 : kMeans cleanup.
2024/07/16 01:32:33 END of Creating CB Clusters for AB Cluster=1
cpus=64
using=1
ABid size abundance EMLength newLength EMspecies newspecies
----- ---- --------- -------- --------- --------- ----------
2 6,793 75.53889 49,367 13,489 1 1
2024/07/16 01:32:33 START of Creating CB Clusters for AB Cluster=2 Size=6793
K-Means clustering started
... centers initialized
... concurrent processing mode with 1 subtask threads
... iteration 1 moves = 0
...end. 0.601 seconds.
2024/07/16 01:32:34 : kMeans cleanup.
2024/07/16 01:32:34 END of Creating CB Clusters for AB Cluster=2
##### Heap utilization statistics [GB] #####
Max Memory=0.5
Current Total Memory=0.5
Current Used Memory=0.266
Current Free Memory=0.234
############################################
cpus=64
using=1
2024/07/16 01:32:34 START of CB Binning
2024/07/16 01:32:34 FastaManager: START READ
2024/07/16 01:32:34 SequenceProcessor: 0 CB_BINNING START
2024/07/16 01:32:34 FastaManager: lines read 53328
2024/07/16 01:32:34 FastaManager: END READ
2024/07/16 01:32:34 FastaManager: FASTA
2024/07/16 01:32:34 SequenceProcessor: 0 CB_BINNING EXIT
Clustered reads:
ABxCB Cluster 1: 19871
ABxCB Cluster 2: 6793
##### Heap utilization statistics [GB] #####
Max Memory=0.5
Current Total Memory=0.5
Current Used Memory=0.438
Current Free Memory=0.062
############################################
[ FAIL 0 | WARN 0 | SKIP 0 | PASS 52 ]
>
> proc.time()
user system elapsed
27.40 5.95 18.26
metabinR.Rcheck/metabinR-Ex.timings
| name | user | system | elapsed | |
| abundance_based_binning | 7.91 | 2.59 | 5.59 | |
| composition_based_binning | 5.67 | 1.59 | 2.06 | |
| hierarchical_binning | 4.98 | 1.19 | 2.73 | |