| Back to Multiple platform build/check report for BioC 3.20: simplified long | 
 | 
This page was generated on 2024-11-20 12:02 -0500 (Wed, 20 Nov 2024).
| Hostname | OS | Arch (*) | R version | Installed pkgs | 
|---|---|---|---|---|
| teran2 | Linux (Ubuntu 24.04.1 LTS) | x86_64 | 4.4.2 (2024-10-31) -- "Pile of Leaves" | 4481 | 
| nebbiolo2 | Linux (Ubuntu 24.04.1 LTS) | x86_64 | 4.4.2 (2024-10-31) -- "Pile of Leaves" | 4479 | 
| palomino8 | Windows Server 2022 Datacenter | x64 | 4.4.2 (2024-10-31 ucrt) -- "Pile of Leaves" | 4359 | 
| lconway | macOS 12.7.1 Monterey | x86_64 | 4.4.1 (2024-06-14) -- "Race for Your Life" | 4539 | 
| kunpeng2 | Linux (openEuler 22.03 LTS-SP1) | aarch64 | 4.4.1 (2024-06-14) -- "Race for Your Life" | 4493 | 
| Click on any hostname to see more info about the system (e.g. compilers) (*) as reported by 'uname -p', except on Windows and Mac OS X | ||||
| Package 657/2289 | Hostname | OS / Arch | INSTALL | BUILD | CHECK | BUILD BIN | ||||||||
| epigraHMM 1.14.0  (landing page) Pedro Baldoni 
 | teran2 | Linux (Ubuntu 24.04.1 LTS) / x86_64 | OK | OK | WARNINGS |  | ||||||||
| nebbiolo2 | Linux (Ubuntu 24.04.1 LTS) / x86_64 | OK | OK | WARNINGS | ||||||||||
| palomino8 | Windows Server 2022 Datacenter / x64 | OK | OK | OK | OK |  | ||||||||
| lconway | macOS 12.7.1 Monterey / x86_64 | OK | OK | WARNINGS | OK |  | ||||||||
| kunpeng2 | Linux (openEuler 22.03 LTS-SP1) / aarch64 | OK | OK | WARNINGS | ||||||||||
| To the developers/maintainers of the epigraHMM package: - Allow up to 24 hours (and sometimes 48 hours) for your latest push to git@git.bioconductor.org:packages/epigraHMM.git to reflect on this report. See Troubleshooting Build Report for more information. - Use the following Renviron settings to reproduce errors and warnings. - If 'R CMD check' started to fail recently on the Linux builder(s) over a missing dependency, add the missing dependency to 'Suggests:' in your DESCRIPTION file. See Renviron.bioc for more information. | 
| Package: epigraHMM | 
| Version: 1.14.0 | 
| Command: /home/biocbuild/bbs-3.20-bioc/R/bin/R CMD INSTALL epigraHMM | 
| StartedAt: 2024-11-19 17:05:12 -0500 (Tue, 19 Nov 2024) | 
| EndedAt: 2024-11-19 17:07:14 -0500 (Tue, 19 Nov 2024) | 
| EllapsedTime: 122.3 seconds | 
| RetCode: 0 | 
| Status: OK | 
##############################################################################
##############################################################################
###
### Running command:
###
###   /home/biocbuild/bbs-3.20-bioc/R/bin/R CMD INSTALL epigraHMM
###
##############################################################################
##############################################################################
* installing to library ‘/media/volume/teran2_disk/biocbuild/bbs-3.20-bioc/R/site-library’
* installing *source* package ‘epigraHMM’ ...
** using staged installation
** libs
using C++ compiler: ‘g++ (Ubuntu 13.2.0-23ubuntu4) 13.2.0’
using C++11
g++ -std=gnu++11 -I"/home/biocbuild/bbs-3.20-bioc/R/include" -DNDEBUG  -I'/media/volume/teran2_disk/biocbuild/bbs-3.20-bioc/R/site-library/Rcpp/include' -I'/media/volume/teran2_disk/biocbuild/bbs-3.20-bioc/R/site-library/RcppArmadillo/include' -I'/media/volume/teran2_disk/biocbuild/bbs-3.20-bioc/R/site-library/Rhdf5lib/include' -I/usr/local/include   -fopenmp -DARMA_USE_HDF5 -fpic  -g -O2  -Wall  -c RcppExports.cpp -o RcppExports.o
g++ -std=gnu++11 -I"/home/biocbuild/bbs-3.20-bioc/R/include" -DNDEBUG  -I'/media/volume/teran2_disk/biocbuild/bbs-3.20-bioc/R/site-library/Rcpp/include' -I'/media/volume/teran2_disk/biocbuild/bbs-3.20-bioc/R/site-library/RcppArmadillo/include' -I'/media/volume/teran2_disk/biocbuild/bbs-3.20-bioc/R/site-library/Rhdf5lib/include' -I/usr/local/include   -fopenmp -DARMA_USE_HDF5 -fpic  -g -O2  -Wall  -c aggregate.cpp -o aggregate.o
aggregate.cpp: In function ‘arma::mat aggregate(arma::vec, arma::vec)’:
aggregate.cpp:26:22: warning: comparison of integer expressions of different signedness: ‘int’ and ‘std::vector<double>::size_type’ {aka ‘long unsigned int’} [-Wsign-compare]
   26 |         while( index >= vec.size() ){
      |                ~~~~~~^~~~~~~~~~~~~
g++ -std=gnu++11 -I"/home/biocbuild/bbs-3.20-bioc/R/include" -DNDEBUG  -I'/media/volume/teran2_disk/biocbuild/bbs-3.20-bioc/R/site-library/Rcpp/include' -I'/media/volume/teran2_disk/biocbuild/bbs-3.20-bioc/R/site-library/RcppArmadillo/include' -I'/media/volume/teran2_disk/biocbuild/bbs-3.20-bioc/R/site-library/Rhdf5lib/include' -I/usr/local/include   -fopenmp -DARMA_USE_HDF5 -fpic  -g -O2  -Wall  -c computeBIC.cpp -o computeBIC.o
g++ -std=gnu++11 -I"/home/biocbuild/bbs-3.20-bioc/R/include" -DNDEBUG  -I'/media/volume/teran2_disk/biocbuild/bbs-3.20-bioc/R/site-library/Rcpp/include' -I'/media/volume/teran2_disk/biocbuild/bbs-3.20-bioc/R/site-library/RcppArmadillo/include' -I'/media/volume/teran2_disk/biocbuild/bbs-3.20-bioc/R/site-library/Rhdf5lib/include' -I/usr/local/include   -fopenmp -DARMA_USE_HDF5 -fpic  -g -O2  -Wall  -c computeQFunction.cpp -o computeQFunction.o
g++ -std=gnu++11 -I"/home/biocbuild/bbs-3.20-bioc/R/include" -DNDEBUG  -I'/media/volume/teran2_disk/biocbuild/bbs-3.20-bioc/R/site-library/Rcpp/include' -I'/media/volume/teran2_disk/biocbuild/bbs-3.20-bioc/R/site-library/RcppArmadillo/include' -I'/media/volume/teran2_disk/biocbuild/bbs-3.20-bioc/R/site-library/Rhdf5lib/include' -I/usr/local/include   -fopenmp -DARMA_USE_HDF5 -fpic  -g -O2  -Wall  -c computeViterbiSequence.cpp -o computeViterbiSequence.o
g++ -std=gnu++11 -I"/home/biocbuild/bbs-3.20-bioc/R/include" -DNDEBUG  -I'/media/volume/teran2_disk/biocbuild/bbs-3.20-bioc/R/site-library/Rcpp/include' -I'/media/volume/teran2_disk/biocbuild/bbs-3.20-bioc/R/site-library/RcppArmadillo/include' -I'/media/volume/teran2_disk/biocbuild/bbs-3.20-bioc/R/site-library/Rhdf5lib/include' -I/usr/local/include   -fopenmp -DARMA_USE_HDF5 -fpic  -g -O2  -Wall  -c consensusRejectionControlled.cpp -o consensusRejectionControlled.o
g++ -std=gnu++11 -I"/home/biocbuild/bbs-3.20-bioc/R/include" -DNDEBUG  -I'/media/volume/teran2_disk/biocbuild/bbs-3.20-bioc/R/site-library/Rcpp/include' -I'/media/volume/teran2_disk/biocbuild/bbs-3.20-bioc/R/site-library/RcppArmadillo/include' -I'/media/volume/teran2_disk/biocbuild/bbs-3.20-bioc/R/site-library/Rhdf5lib/include' -I/usr/local/include   -fopenmp -DARMA_USE_HDF5 -fpic  -g -O2  -Wall  -c differentialRejectionControlled.cpp -o differentialRejectionControlled.o
g++ -std=gnu++11 -I"/home/biocbuild/bbs-3.20-bioc/R/include" -DNDEBUG  -I'/media/volume/teran2_disk/biocbuild/bbs-3.20-bioc/R/site-library/Rcpp/include' -I'/media/volume/teran2_disk/biocbuild/bbs-3.20-bioc/R/site-library/RcppArmadillo/include' -I'/media/volume/teran2_disk/biocbuild/bbs-3.20-bioc/R/site-library/Rhdf5lib/include' -I/usr/local/include   -fopenmp -DARMA_USE_HDF5 -fpic  -g -O2  -Wall  -c expStep.cpp -o expStep.o
g++ -std=gnu++11 -I"/home/biocbuild/bbs-3.20-bioc/R/include" -DNDEBUG  -I'/media/volume/teran2_disk/biocbuild/bbs-3.20-bioc/R/site-library/Rcpp/include' -I'/media/volume/teran2_disk/biocbuild/bbs-3.20-bioc/R/site-library/RcppArmadillo/include' -I'/media/volume/teran2_disk/biocbuild/bbs-3.20-bioc/R/site-library/Rhdf5lib/include' -I/usr/local/include   -fopenmp -DARMA_USE_HDF5 -fpic  -g -O2  -Wall  -c getMarginalProbability.cpp -o getMarginalProbability.o
g++ -std=gnu++11 -I"/home/biocbuild/bbs-3.20-bioc/R/include" -DNDEBUG  -I'/media/volume/teran2_disk/biocbuild/bbs-3.20-bioc/R/site-library/Rcpp/include' -I'/media/volume/teran2_disk/biocbuild/bbs-3.20-bioc/R/site-library/RcppArmadillo/include' -I'/media/volume/teran2_disk/biocbuild/bbs-3.20-bioc/R/site-library/Rhdf5lib/include' -I/usr/local/include   -fopenmp -DARMA_USE_HDF5 -fpic  -g -O2  -Wall  -c innerMaxStepProb.cpp -o innerMaxStepProb.o
g++ -std=gnu++11 -I"/home/biocbuild/bbs-3.20-bioc/R/include" -DNDEBUG  -I'/media/volume/teran2_disk/biocbuild/bbs-3.20-bioc/R/site-library/Rcpp/include' -I'/media/volume/teran2_disk/biocbuild/bbs-3.20-bioc/R/site-library/RcppArmadillo/include' -I'/media/volume/teran2_disk/biocbuild/bbs-3.20-bioc/R/site-library/Rhdf5lib/include' -I/usr/local/include   -fopenmp -DARMA_USE_HDF5 -fpic  -g -O2  -Wall  -c maxStepProb.cpp -o maxStepProb.o
g++ -std=gnu++11 -I"/home/biocbuild/bbs-3.20-bioc/R/include" -DNDEBUG  -I'/media/volume/teran2_disk/biocbuild/bbs-3.20-bioc/R/site-library/Rcpp/include' -I'/media/volume/teran2_disk/biocbuild/bbs-3.20-bioc/R/site-library/RcppArmadillo/include' -I'/media/volume/teran2_disk/biocbuild/bbs-3.20-bioc/R/site-library/Rhdf5lib/include' -I/usr/local/include   -fopenmp -DARMA_USE_HDF5 -fpic  -g -O2  -Wall  -c rbinomVectorized.cpp -o rbinomVectorized.o
g++ -std=gnu++11 -I"/home/biocbuild/bbs-3.20-bioc/R/include" -DNDEBUG  -I'/media/volume/teran2_disk/biocbuild/bbs-3.20-bioc/R/site-library/Rcpp/include' -I'/media/volume/teran2_disk/biocbuild/bbs-3.20-bioc/R/site-library/RcppArmadillo/include' -I'/media/volume/teran2_disk/biocbuild/bbs-3.20-bioc/R/site-library/Rhdf5lib/include' -I/usr/local/include   -fopenmp -DARMA_USE_HDF5 -fpic  -g -O2  -Wall  -c reweight.cpp -o reweight.o
g++ -std=gnu++11 -I"/home/biocbuild/bbs-3.20-bioc/R/include" -DNDEBUG  -I'/media/volume/teran2_disk/biocbuild/bbs-3.20-bioc/R/site-library/Rcpp/include' -I'/media/volume/teran2_disk/biocbuild/bbs-3.20-bioc/R/site-library/RcppArmadillo/include' -I'/media/volume/teran2_disk/biocbuild/bbs-3.20-bioc/R/site-library/Rhdf5lib/include' -I/usr/local/include   -fopenmp -DARMA_USE_HDF5 -fpic  -g -O2  -Wall  -c simulateMarkovChain.cpp -o simulateMarkovChain.o
g++ -std=gnu++11 -shared -L/home/biocbuild/bbs-3.20-bioc/R/lib -L/usr/local/lib -o epigraHMM.so RcppExports.o aggregate.o computeBIC.o computeQFunction.o computeViterbiSequence.o consensusRejectionControlled.o differentialRejectionControlled.o expStep.o getMarginalProbability.o innerMaxStepProb.o maxStepProb.o rbinomVectorized.o reweight.o simulateMarkovChain.o /media/volume/teran2_disk/biocbuild/bbs-3.20-bioc/R/site-library/Rhdf5lib/lib/libhdf5_cpp.a /media/volume/teran2_disk/biocbuild/bbs-3.20-bioc/R/site-library/Rhdf5lib/lib/libhdf5.a -L/media/volume/teran2_disk/biocbuild/bbs-3.20-bioc/R/site-library/Rhdf5lib/lib -lcrypto -lcurl -lsz -laec -lz -ldl -lm -fopenmp -llapack -L/home/biocbuild/bbs-3.20-bioc/R/lib -lRblas -lgfortran -lm -lquadmath -L/home/biocbuild/bbs-3.20-bioc/R/lib -lR
installing to /media/volume/teran2_disk/biocbuild/bbs-3.20-bioc/R/site-library/00LOCK-epigraHMM/00new/epigraHMM/libs
** R
** data
*** moving datasets to lazyload DB
** byte-compile and prepare package for lazy loading
** help
*** installing help indices
** building package indices
** installing vignettes
** testing if installed package can be loaded from temporary location
** checking absolute paths in shared objects and dynamic libraries
** testing if installed package can be loaded from final location
** testing if installed package keeps a record of temporary installation path
* DONE (epigraHMM)