| Back to Multiple platform build/check report for BioC 3.20: simplified long | 
 | 
This page was generated on 2025-04-02 19:30 -0400 (Wed, 02 Apr 2025).
| Hostname | OS | Arch (*) | R version | Installed pkgs | 
|---|---|---|---|---|
| nebbiolo2 | Linux (Ubuntu 24.04.1 LTS) | x86_64 | 4.4.3 (2025-02-28) -- "Trophy Case" | 4764 | 
| palomino8 | Windows Server 2022 Datacenter | x64 | 4.4.3 (2025-02-28 ucrt) -- "Trophy Case" | 4495 | 
| merida1 | macOS 12.7.5 Monterey | x86_64 | 4.4.3 (2025-02-28) -- "Trophy Case" | 4522 | 
| kjohnson1 | macOS 13.6.6 Ventura | arm64 | 4.4.3 (2025-02-28) -- "Trophy Case" | 4449 | 
| taishan | Linux (openEuler 24.03 LTS) | aarch64 | 4.4.3 (2025-02-28) -- "Trophy Case" | 4426 | 
| Click on any hostname to see more info about the system (e.g. compilers) (*) as reported by 'uname -p', except on Windows and Mac OS X | ||||
| Package 657/2289 | Hostname | OS / Arch | INSTALL | BUILD | CHECK | BUILD BIN | ||||||||
| epigraHMM 1.14.0  (landing page) Pedro Baldoni 
 | nebbiolo2 | Linux (Ubuntu 24.04.1 LTS) / x86_64 | OK | OK | WARNINGS |  | ||||||||
| palomino8 | Windows Server 2022 Datacenter / x64 | OK | OK | OK | OK |  | ||||||||
| merida1 | macOS 12.7.5 Monterey / x86_64 | OK | OK | WARNINGS | OK |  | ||||||||
| kjohnson1 | macOS 13.6.6 Ventura / arm64 | OK | OK | WARNINGS | OK |  | ||||||||
| taishan | Linux (openEuler 24.03 LTS) / aarch64 | OK | OK | WARNINGS | ||||||||||
| To the developers/maintainers of the epigraHMM package: - Allow up to 24 hours (and sometimes 48 hours) for your latest push to git@git.bioconductor.org:packages/epigraHMM.git to reflect on this report. See Troubleshooting Build Report for more information. - Use the following Renviron settings to reproduce errors and warnings. - If 'R CMD check' started to fail recently on the Linux builder(s) over a missing dependency, add the missing dependency to 'Suggests:' in your DESCRIPTION file. See Renviron.bioc for more information. | 
| Package: epigraHMM | 
| Version: 1.14.0 | 
| Command: rm -rf epigraHMM.buildbin-libdir && mkdir epigraHMM.buildbin-libdir && F:\biocbuild\bbs-3.20-bioc\R\bin\R.exe CMD INSTALL --build --library=epigraHMM.buildbin-libdir epigraHMM_1.14.0.tar.gz | 
| StartedAt: 2025-04-01 08:09:16 -0400 (Tue, 01 Apr 2025) | 
| EndedAt: 2025-04-01 08:12:04 -0400 (Tue, 01 Apr 2025) | 
| EllapsedTime: 167.8 seconds | 
| RetCode: 0 | 
| Status: OK | 
| PackageFile: epigraHMM_1.14.0.zip | 
| PackageFileSize: 2.185 MiB | 
##############################################################################
##############################################################################
###
### Running command:
###
###   rm -rf epigraHMM.buildbin-libdir && mkdir epigraHMM.buildbin-libdir && F:\biocbuild\bbs-3.20-bioc\R\bin\R.exe CMD INSTALL --build --library=epigraHMM.buildbin-libdir epigraHMM_1.14.0.tar.gz
###
##############################################################################
##############################################################################
* installing *source* package 'epigraHMM' ...
** using staged installation
** libs
using C++ compiler: 'G__~1.EXE (GCC) 13.3.0'
using C++11
g++  -std=gnu++11 -I"F:/biocbuild/bbs-3.20-bioc/R/include" -DNDEBUG  -I'F:/biocbuild/bbs-3.20-bioc/R/library/Rcpp/include' -I'F:/biocbuild/bbs-3.20-bioc/R/library/RcppArmadillo/include' -I'F:/biocbuild/bbs-3.20-bioc/R/library/Rhdf5lib/include'   -I"C:/rtools44/x86_64-w64-mingw32.static.posix/include"  -fopenmp -DARMA_USE_HDF5   -O2 -Wall  -mfpmath=sse -msse2 -mstackrealign  -c RcppExports.cpp -o RcppExports.o
g++  -std=gnu++11 -I"F:/biocbuild/bbs-3.20-bioc/R/include" -DNDEBUG  -I'F:/biocbuild/bbs-3.20-bioc/R/library/Rcpp/include' -I'F:/biocbuild/bbs-3.20-bioc/R/library/RcppArmadillo/include' -I'F:/biocbuild/bbs-3.20-bioc/R/library/Rhdf5lib/include'   -I"C:/rtools44/x86_64-w64-mingw32.static.posix/include"  -fopenmp -DARMA_USE_HDF5   -O2 -Wall  -mfpmath=sse -msse2 -mstackrealign  -c aggregate.cpp -o aggregate.o
aggregate.cpp: In function 'arma::mat aggregate(arma::vec, arma::vec)':
aggregate.cpp:26:22: warning: comparison of integer expressions of different signedness: 'int' and 'std::vector<double>::size_type' {aka 'long long unsigned int'} [-Wsign-compare]
   26 |         while( index >= vec.size() ){
      |                ~~~~~~^~~~~~~~~~~~~
g++  -std=gnu++11 -I"F:/biocbuild/bbs-3.20-bioc/R/include" -DNDEBUG  -I'F:/biocbuild/bbs-3.20-bioc/R/library/Rcpp/include' -I'F:/biocbuild/bbs-3.20-bioc/R/library/RcppArmadillo/include' -I'F:/biocbuild/bbs-3.20-bioc/R/library/Rhdf5lib/include'   -I"C:/rtools44/x86_64-w64-mingw32.static.posix/include"  -fopenmp -DARMA_USE_HDF5   -O2 -Wall  -mfpmath=sse -msse2 -mstackrealign  -c computeBIC.cpp -o computeBIC.o
g++  -std=gnu++11 -I"F:/biocbuild/bbs-3.20-bioc/R/include" -DNDEBUG  -I'F:/biocbuild/bbs-3.20-bioc/R/library/Rcpp/include' -I'F:/biocbuild/bbs-3.20-bioc/R/library/RcppArmadillo/include' -I'F:/biocbuild/bbs-3.20-bioc/R/library/Rhdf5lib/include'   -I"C:/rtools44/x86_64-w64-mingw32.static.posix/include"  -fopenmp -DARMA_USE_HDF5   -O2 -Wall  -mfpmath=sse -msse2 -mstackrealign  -c computeQFunction.cpp -o computeQFunction.o
g++  -std=gnu++11 -I"F:/biocbuild/bbs-3.20-bioc/R/include" -DNDEBUG  -I'F:/biocbuild/bbs-3.20-bioc/R/library/Rcpp/include' -I'F:/biocbuild/bbs-3.20-bioc/R/library/RcppArmadillo/include' -I'F:/biocbuild/bbs-3.20-bioc/R/library/Rhdf5lib/include'   -I"C:/rtools44/x86_64-w64-mingw32.static.posix/include"  -fopenmp -DARMA_USE_HDF5   -O2 -Wall  -mfpmath=sse -msse2 -mstackrealign  -c computeViterbiSequence.cpp -o computeViterbiSequence.o
g++  -std=gnu++11 -I"F:/biocbuild/bbs-3.20-bioc/R/include" -DNDEBUG  -I'F:/biocbuild/bbs-3.20-bioc/R/library/Rcpp/include' -I'F:/biocbuild/bbs-3.20-bioc/R/library/RcppArmadillo/include' -I'F:/biocbuild/bbs-3.20-bioc/R/library/Rhdf5lib/include'   -I"C:/rtools44/x86_64-w64-mingw32.static.posix/include"  -fopenmp -DARMA_USE_HDF5   -O2 -Wall  -mfpmath=sse -msse2 -mstackrealign  -c consensusRejectionControlled.cpp -o consensusRejectionControlled.o
g++  -std=gnu++11 -I"F:/biocbuild/bbs-3.20-bioc/R/include" -DNDEBUG  -I'F:/biocbuild/bbs-3.20-bioc/R/library/Rcpp/include' -I'F:/biocbuild/bbs-3.20-bioc/R/library/RcppArmadillo/include' -I'F:/biocbuild/bbs-3.20-bioc/R/library/Rhdf5lib/include'   -I"C:/rtools44/x86_64-w64-mingw32.static.posix/include"  -fopenmp -DARMA_USE_HDF5   -O2 -Wall  -mfpmath=sse -msse2 -mstackrealign  -c differentialRejectionControlled.cpp -o differentialRejectionControlled.o
g++  -std=gnu++11 -I"F:/biocbuild/bbs-3.20-bioc/R/include" -DNDEBUG  -I'F:/biocbuild/bbs-3.20-bioc/R/library/Rcpp/include' -I'F:/biocbuild/bbs-3.20-bioc/R/library/RcppArmadillo/include' -I'F:/biocbuild/bbs-3.20-bioc/R/library/Rhdf5lib/include'   -I"C:/rtools44/x86_64-w64-mingw32.static.posix/include"  -fopenmp -DARMA_USE_HDF5   -O2 -Wall  -mfpmath=sse -msse2 -mstackrealign  -c expStep.cpp -o expStep.o
g++  -std=gnu++11 -I"F:/biocbuild/bbs-3.20-bioc/R/include" -DNDEBUG  -I'F:/biocbuild/bbs-3.20-bioc/R/library/Rcpp/include' -I'F:/biocbuild/bbs-3.20-bioc/R/library/RcppArmadillo/include' -I'F:/biocbuild/bbs-3.20-bioc/R/library/Rhdf5lib/include'   -I"C:/rtools44/x86_64-w64-mingw32.static.posix/include"  -fopenmp -DARMA_USE_HDF5   -O2 -Wall  -mfpmath=sse -msse2 -mstackrealign  -c getMarginalProbability.cpp -o getMarginalProbability.o
g++  -std=gnu++11 -I"F:/biocbuild/bbs-3.20-bioc/R/include" -DNDEBUG  -I'F:/biocbuild/bbs-3.20-bioc/R/library/Rcpp/include' -I'F:/biocbuild/bbs-3.20-bioc/R/library/RcppArmadillo/include' -I'F:/biocbuild/bbs-3.20-bioc/R/library/Rhdf5lib/include'   -I"C:/rtools44/x86_64-w64-mingw32.static.posix/include"  -fopenmp -DARMA_USE_HDF5   -O2 -Wall  -mfpmath=sse -msse2 -mstackrealign  -c innerMaxStepProb.cpp -o innerMaxStepProb.o
g++  -std=gnu++11 -I"F:/biocbuild/bbs-3.20-bioc/R/include" -DNDEBUG  -I'F:/biocbuild/bbs-3.20-bioc/R/library/Rcpp/include' -I'F:/biocbuild/bbs-3.20-bioc/R/library/RcppArmadillo/include' -I'F:/biocbuild/bbs-3.20-bioc/R/library/Rhdf5lib/include'   -I"C:/rtools44/x86_64-w64-mingw32.static.posix/include"  -fopenmp -DARMA_USE_HDF5   -O2 -Wall  -mfpmath=sse -msse2 -mstackrealign  -c maxStepProb.cpp -o maxStepProb.o
g++  -std=gnu++11 -I"F:/biocbuild/bbs-3.20-bioc/R/include" -DNDEBUG  -I'F:/biocbuild/bbs-3.20-bioc/R/library/Rcpp/include' -I'F:/biocbuild/bbs-3.20-bioc/R/library/RcppArmadillo/include' -I'F:/biocbuild/bbs-3.20-bioc/R/library/Rhdf5lib/include'   -I"C:/rtools44/x86_64-w64-mingw32.static.posix/include"  -fopenmp -DARMA_USE_HDF5   -O2 -Wall  -mfpmath=sse -msse2 -mstackrealign  -c rbinomVectorized.cpp -o rbinomVectorized.o
g++  -std=gnu++11 -I"F:/biocbuild/bbs-3.20-bioc/R/include" -DNDEBUG  -I'F:/biocbuild/bbs-3.20-bioc/R/library/Rcpp/include' -I'F:/biocbuild/bbs-3.20-bioc/R/library/RcppArmadillo/include' -I'F:/biocbuild/bbs-3.20-bioc/R/library/Rhdf5lib/include'   -I"C:/rtools44/x86_64-w64-mingw32.static.posix/include"  -fopenmp -DARMA_USE_HDF5   -O2 -Wall  -mfpmath=sse -msse2 -mstackrealign  -c reweight.cpp -o reweight.o
g++  -std=gnu++11 -I"F:/biocbuild/bbs-3.20-bioc/R/include" -DNDEBUG  -I'F:/biocbuild/bbs-3.20-bioc/R/library/Rcpp/include' -I'F:/biocbuild/bbs-3.20-bioc/R/library/RcppArmadillo/include' -I'F:/biocbuild/bbs-3.20-bioc/R/library/Rhdf5lib/include'   -I"C:/rtools44/x86_64-w64-mingw32.static.posix/include"  -fopenmp -DARMA_USE_HDF5   -O2 -Wall  -mfpmath=sse -msse2 -mstackrealign  -c simulateMarkovChain.cpp -o simulateMarkovChain.o
g++ -shared -s -static-libgcc -o epigraHMM.dll tmp.def RcppExports.o aggregate.o computeBIC.o computeQFunction.o computeViterbiSequence.o consensusRejectionControlled.o differentialRejectionControlled.o expStep.o getMarginalProbability.o innerMaxStepProb.o maxStepProb.o rbinomVectorized.o reweight.o simulateMarkovChain.o -LF:/biocbuild/bbs-3.20-bioc/R/library/Rhdf5lib/lib/x64-ucrt -lhdf5_cpp -lhdf5 -lcurl -lssh2 -lssl -lcrypto -lwldap32 -lws2_32 -lcrypt32 -lsz -laec -lz -lpsapi -fopenmp -LF:/biocbuild/bbs-3.20-bioc/R/bin/x64 -lRlapack -LF:/biocbuild/bbs-3.20-bioc/R/bin/x64 -lRblas -lgfortran -lm -lquadmath -LC:/rtools44/x86_64-w64-mingw32.static.posix/lib/x64 -LC:/rtools44/x86_64-w64-mingw32.static.posix/lib -LF:/biocbuild/bbs-3.20-bioc/R/bin/x64 -lR
installing to F:/biocbuild/bbs-3.20-bioc/meat/epigraHMM.buildbin-libdir/00LOCK-epigraHMM/00new/epigraHMM/libs/x64
** R
** data
*** moving datasets to lazyload DB
** inst
** byte-compile and prepare package for lazy loading
** help
*** installing help indices
** building package indices
** installing vignettes
** testing if installed package can be loaded from temporary location
** testing if installed package can be loaded from final location
** testing if installed package keeps a record of temporary installation path
* MD5 sums
packaged installation of 'epigraHMM' as epigraHMM_1.14.0.zip
* DONE (epigraHMM)