| Back to Multiple platform build/check report for BioC 3.20: simplified long |
|
This page was generated on 2025-04-02 19:35 -0400 (Wed, 02 Apr 2025).
| Hostname | OS | Arch (*) | R version | Installed pkgs |
|---|---|---|---|---|
| nebbiolo2 | Linux (Ubuntu 24.04.1 LTS) | x86_64 | 4.4.3 (2025-02-28) -- "Trophy Case" | 4764 |
| palomino8 | Windows Server 2022 Datacenter | x64 | 4.4.3 (2025-02-28 ucrt) -- "Trophy Case" | 4495 |
| merida1 | macOS 12.7.5 Monterey | x86_64 | 4.4.3 (2025-02-28) -- "Trophy Case" | 4522 |
| kjohnson1 | macOS 13.6.6 Ventura | arm64 | 4.4.3 (2025-02-28) -- "Trophy Case" | 4449 |
| taishan | Linux (openEuler 24.03 LTS) | aarch64 | 4.4.3 (2025-02-28) -- "Trophy Case" | 4426 |
| Click on any hostname to see more info about the system (e.g. compilers) (*) as reported by 'uname -p', except on Windows and Mac OS X | ||||
| Package 385/2289 | Hostname | OS / Arch | INSTALL | BUILD | CHECK | BUILD BIN | ||||||||
| cn.farms 1.54.0 (landing page) Andreas Mitterecker
| nebbiolo2 | Linux (Ubuntu 24.04.1 LTS) / x86_64 | OK | OK | OK | |||||||||
| palomino8 | Windows Server 2022 Datacenter / x64 | OK | OK | OK | OK | |||||||||
| merida1 | macOS 12.7.5 Monterey / x86_64 | OK | OK | OK | OK | |||||||||
| kjohnson1 | macOS 13.6.6 Ventura / arm64 | ERROR | ERROR | skipped | skipped | |||||||||
| taishan | Linux (openEuler 24.03 LTS) / aarch64 | OK | OK | OK | ||||||||||
|
To the developers/maintainers of the cn.farms package: - Allow up to 24 hours (and sometimes 48 hours) for your latest push to git@git.bioconductor.org:packages/cn.farms.git to reflect on this report. See Troubleshooting Build Report for more information. - Use the following Renviron settings to reproduce errors and warnings. - If 'R CMD check' started to fail recently on the Linux builder(s) over a missing dependency, add the missing dependency to 'Suggests:' in your DESCRIPTION file. See Renviron.bioc for more information. - See Martin Grigorov's blog post for how to debug Linux ARM64 related issues on a x86_64 host. |
| Package: cn.farms |
| Version: 1.54.0 |
| Command: /home/biocbuild/R/R/bin/R CMD INSTALL cn.farms |
| StartedAt: 2025-03-31 20:31:35 -0000 (Mon, 31 Mar 2025) |
| EndedAt: 2025-03-31 20:32:17 -0000 (Mon, 31 Mar 2025) |
| EllapsedTime: 41.1 seconds |
| RetCode: 0 |
| Status: OK |
##############################################################################
##############################################################################
###
### Running command:
###
### /home/biocbuild/R/R/bin/R CMD INSTALL cn.farms
###
##############################################################################
##############################################################################
* installing to library ‘/home/biocbuild/R/R-4.4.3/site-library’
* installing *source* package ‘cn.farms’ ...
** using staged installation
** libs
using C compiler: ‘aarch64-unknown-linux-gnu-gcc (GCC) 14.2.0’
using C++ compiler: ‘aarch64-unknown-linux-gnu-g++ (GCC) 14.2.0’
/opt/ohpc/pub/compiler/gcc/14.2.0/bin/aarch64-unknown-linux-gnu-gcc -I"/home/biocbuild/R/R-4.4.3/include" -DNDEBUG -I/usr/local/include -fPIC -g -O2 -Wall -c R_init_cnfarms.c -o R_init_cnfarms.o
/opt/ohpc/pub/compiler/gcc/14.2.0/bin/aarch64-unknown-linux-gnu-g++ -std=gnu++17 -I"/home/biocbuild/R/R-4.4.3/include" -DNDEBUG -I/usr/local/include -fPIC -g -O2 -Wall -c laplace.cpp -o laplace.o
laplace.cpp: In function ‘SEXPREC* momentsGauss(SEXP, SEXP, SEXP, SEXP, SEXP, SEXP, SEXP, SEXP, SEXP, SEXP)’:
laplace.cpp:442:13: warning: unused variable ‘method’ [-Wunused-variable]
442 | int method=0;
| ^~~~~~
laplace.cpp: In function ‘void computeParameters(double, double, double, double, double, double, int&, double&, double&, double&, double&, double&, double&, double&, double&, double&, double&, double&, double&, double&, double&)’:
laplace.cpp:367:16: warning: ‘I1left’ may be used uninitialized [-Wmaybe-uninitialized]
367 | double leftMoment1=1.0*leftMy*I0left+1.0*leftSigma*I1left;
| ^~~~~~~~~~~
laplace.cpp:198:16: note: ‘I1left’ was declared here
198 | double I1left;
| ^~~~~~
laplace.cpp:387:35: warning: ‘I1right’ may be used uninitialized [-Wmaybe-uninitialized]
387 | absMoment1=(I1right*leftMy+I1left*rightMy+2.0*I1left*I1right*leftSigma)/(I1left-I1right);
| ~~~~~~~~~~~~~~^~~~~~~~~~~~~~~
laplace.cpp:199:16: note: ‘I1right’ was declared here
199 | double I1right;
| ^~~~~~~
/opt/ohpc/pub/compiler/gcc/14.2.0/bin/aarch64-unknown-linux-gnu-gcc -I"/home/biocbuild/R/R-4.4.3/include" -DNDEBUG -I/usr/local/include -fPIC -g -O2 -Wall -c sparse_farms.c -o sparse_farms.o
/opt/ohpc/pub/compiler/gcc/14.2.0/bin/aarch64-unknown-linux-gnu-g++ -std=gnu++17 -shared -L/home/biocbuild/R/R-4.4.3/lib -L/usr/local/lib -o cn.farms.so R_init_cnfarms.o laplace.o sparse_farms.o -L/home/biocbuild/R/R-4.4.3/lib -lR
installing to /home/biocbuild/R/R-4.4.3/site-library/00LOCK-cn.farms/00new/cn.farms/libs
** R
** demo
** inst
** byte-compile and prepare package for lazy loading
** help
*** installing help indices
** building package indices
** installing vignettes
** testing if installed package can be loaded from temporary location
** checking absolute paths in shared objects and dynamic libraries
** testing if installed package can be loaded from final location
** testing if installed package keeps a record of temporary installation path
* DONE (cn.farms)