| Back to Multiple platform build/check report for BioC 3.20: simplified long | 
 | 
This page was generated on 2025-04-02 19:31 -0400 (Wed, 02 Apr 2025).
| Hostname | OS | Arch (*) | R version | Installed pkgs | 
|---|---|---|---|---|
| nebbiolo2 | Linux (Ubuntu 24.04.1 LTS) | x86_64 | 4.4.3 (2025-02-28) -- "Trophy Case" | 4764 | 
| palomino8 | Windows Server 2022 Datacenter | x64 | 4.4.3 (2025-02-28 ucrt) -- "Trophy Case" | 4495 | 
| merida1 | macOS 12.7.5 Monterey | x86_64 | 4.4.3 (2025-02-28) -- "Trophy Case" | 4522 | 
| kjohnson1 | macOS 13.6.6 Ventura | arm64 | 4.4.3 (2025-02-28) -- "Trophy Case" | 4449 | 
| taishan | Linux (openEuler 24.03 LTS) | aarch64 | 4.4.3 (2025-02-28) -- "Trophy Case" | 4426 | 
| Click on any hostname to see more info about the system (e.g. compilers) (*) as reported by 'uname -p', except on Windows and Mac OS X | ||||
| Package 385/2289 | Hostname | OS / Arch | INSTALL | BUILD | CHECK | BUILD BIN | ||||||||
| cn.farms 1.54.0  (landing page) Andreas Mitterecker 
 | nebbiolo2 | Linux (Ubuntu 24.04.1 LTS) / x86_64 | OK | OK | OK |  | ||||||||
| palomino8 | Windows Server 2022 Datacenter / x64 | OK | OK | OK | OK |  | ||||||||
| merida1 | macOS 12.7.5 Monterey / x86_64 | OK | OK | OK | OK |  | ||||||||
| kjohnson1 | macOS 13.6.6 Ventura / arm64 | ERROR | ERROR | skipped | skipped | |||||||||
| taishan | Linux (openEuler 24.03 LTS) / aarch64 | OK | OK | OK | ||||||||||
| To the developers/maintainers of the cn.farms package: - Allow up to 24 hours (and sometimes 48 hours) for your latest push to git@git.bioconductor.org:packages/cn.farms.git to reflect on this report. See Troubleshooting Build Report for more information. - Use the following Renviron settings to reproduce errors and warnings. - If 'R CMD check' started to fail recently on the Linux builder(s) over a missing dependency, add the missing dependency to 'Suggests:' in your DESCRIPTION file. See Renviron.bioc for more information. | 
| Package: cn.farms | 
| Version: 1.54.0 | 
| Command: rm -rf cn.farms.buildbin-libdir && mkdir cn.farms.buildbin-libdir && /Users/biocbuild/BBS/utils/build-universal.sh cn.farms_1.54.0.tar.gz /Library/Frameworks/R.framework/Resources/bin/R cn.farms.buildbin-libdir | 
| StartedAt: 2025-04-01 11:37:38 -0400 (Tue, 01 Apr 2025) | 
| EndedAt: 2025-04-01 11:38:50 -0400 (Tue, 01 Apr 2025) | 
| EllapsedTime: 72.6 seconds | 
| RetCode: 0 | 
| Status: OK | 
| PackageFile: cn.farms_1.54.0.tgz | 
| PackageFileSize: 2.467 MiB | 
##############################################################################
##############################################################################
###
### Running command:
###
###   rm -rf cn.farms.buildbin-libdir && mkdir cn.farms.buildbin-libdir && /Users/biocbuild/BBS/utils/build-universal.sh cn.farms_1.54.0.tar.gz /Library/Frameworks/R.framework/Resources/bin/R cn.farms.buildbin-libdir
###
##############################################################################
##############################################################################
>>>>>>> 
>>>>>>> INSTALLATION WITH 'R CMD INSTALL --preclean --no-multiarch --library=cn.farms.buildbin-libdir cn.farms_1.54.0.tar.gz'
>>>>>>> 
* installing *source* package ‘cn.farms’ ...
** using staged installation
** libs
using C compiler: ‘Apple clang version 14.0.0 (clang-1400.0.29.202)’
using C++ compiler: ‘Apple clang version 14.0.0 (clang-1400.0.29.202)’
using SDK: ‘MacOSX11.3.sdk’
clang -arch x86_64 -I"/Library/Frameworks/R.framework/Resources/include" -DNDEBUG   -I/opt/R/x86_64/include    -fPIC  -falign-functions=64 -Wall -g -O2  -c R_init_cnfarms.c -o R_init_cnfarms.o
clang++ -arch x86_64 -std=gnu++17 -I"/Library/Frameworks/R.framework/Resources/include" -DNDEBUG   -I/opt/R/x86_64/include    -fPIC  -falign-functions=64 -Wall -g -O2   -c laplace.cpp -o laplace.o
laplace.cpp:275:10: warning: variable 'I1left' is used uninitialized whenever 'if' condition is false [-Wsometimes-uninitialized]
        else if(argLeft >= 0.0 && argRight >= 0.0) {
                ^~~~~~~~~~~~~~~~~~~~~~~~~~~~~~~~~
laplace.cpp:364:36: note: uninitialized use occurs here
        double I2left=(-leftMy/leftSigma)*I1left+I0left;
                                          ^~~~~~
laplace.cpp:275:7: note: remove the 'if' if its condition is always true
        else if(argLeft >= 0.0 && argRight >= 0.0) {
             ^~~~~~~~~~~~~~~~~~~~~~~~~~~~~~~~~~~~~~
laplace.cpp:275:10: warning: variable 'I1left' is used uninitialized whenever '&&' condition is false [-Wsometimes-uninitialized]
        else if(argLeft >= 0.0 && argRight >= 0.0) {
                ^~~~~~~~~~~~~~
laplace.cpp:364:36: note: uninitialized use occurs here
        double I2left=(-leftMy/leftSigma)*I1left+I0left;
                                          ^~~~~~
laplace.cpp:275:10: note: remove the '&&' if its condition is always true
        else if(argLeft >= 0.0 && argRight >= 0.0) {
                ^~~~~~~~~~~~~~~~~
laplace.cpp:198:15: note: initialize the variable 'I1left' to silence this warning
        double I1left;
                     ^
                      = 0.0
laplace.cpp:275:10: warning: variable 'I1right' is used uninitialized whenever 'if' condition is false [-Wsometimes-uninitialized]
        else if(argLeft >= 0.0 && argRight >= 0.0) {
                ^~~~~~~~~~~~~~~~~~~~~~~~~~~~~~~~~
laplace.cpp:365:39: note: uninitialized use occurs here
        double I2right=(-rightMy/rightSigma)*I1right+I0right;
                                             ^~~~~~~
laplace.cpp:275:7: note: remove the 'if' if its condition is always true
        else if(argLeft >= 0.0 && argRight >= 0.0) {
             ^~~~~~~~~~~~~~~~~~~~~~~~~~~~~~~~~~~~~~
laplace.cpp:275:10: warning: variable 'I1right' is used uninitialized whenever '&&' condition is false [-Wsometimes-uninitialized]
        else if(argLeft >= 0.0 && argRight >= 0.0) {
                ^~~~~~~~~~~~~~
laplace.cpp:365:39: note: uninitialized use occurs here
        double I2right=(-rightMy/rightSigma)*I1right+I0right;
                                             ^~~~~~~
laplace.cpp:275:10: note: remove the '&&' if its condition is always true
        else if(argLeft >= 0.0 && argRight >= 0.0) {
                ^~~~~~~~~~~~~~~~~
laplace.cpp:199:16: note: initialize the variable 'I1right' to silence this warning
        double I1right;
                      ^
                       = 0.0
laplace.cpp:442:6: warning: unused variable 'method' [-Wunused-variable]
        int method=0;
            ^
laplace.cpp:23:11: warning: unused variable 'steps' [-Wunused-const-variable]
const int steps=30;
          ^
laplace.cpp:26:14: warning: unused variable 'integrationFailureFactor' [-Wunused-const-variable]
const double integrationFailureFactor=5.0;
             ^
laplace.cpp:27:14: warning: unused variable 'sigmaFactor' [-Wunused-const-variable]
const double sigmaFactor=0.1;
             ^
laplace.cpp:30:14: warning: unused variable 'Pi' [-Wunused-const-variable]
const double Pi=M_PI;
             ^
laplace.cpp:31:14: warning: unused variable 'E' [-Wunused-const-variable]
const double E=M_E;
             ^
laplace.cpp:34:14: warning: unused variable 'sqrt3' [-Wunused-const-variable]
const double sqrt3=1.7320508075688772935274463415058723669428052538104;
             ^
laplace.cpp:35:14: warning: unused variable 'sqrt2Pi' [-Wunused-const-variable]
const double sqrt2Pi=2.5066282746310005024157652848110452530069867406099;
             ^
12 warnings generated.
clang -arch x86_64 -I"/Library/Frameworks/R.framework/Resources/include" -DNDEBUG   -I/opt/R/x86_64/include    -fPIC  -falign-functions=64 -Wall -g -O2  -c sparse_farms.c -o sparse_farms.o
clang++ -arch x86_64 -std=gnu++17 -dynamiclib -Wl,-headerpad_max_install_names -undefined dynamic_lookup -L/Library/Frameworks/R.framework/Resources/lib -L/opt/R/x86_64/lib -o cn.farms.so R_init_cnfarms.o laplace.o sparse_farms.o -F/Library/Frameworks/R.framework/.. -framework R -Wl,-framework -Wl,CoreFoundation
installing to /Users/biocbuild/bbs-3.20-bioc/meat/cn.farms.buildbin-libdir/00LOCK-cn.farms/00new/cn.farms/libs
** R
** demo
** inst
** byte-compile and prepare package for lazy loading
** help
*** installing help indices
** building package indices
** installing vignettes
** testing if installed package can be loaded from temporary location
** checking absolute paths in shared objects and dynamic libraries
** testing if installed package can be loaded from final location
** testing if installed package keeps a record of temporary installation path
* DONE (cn.farms)
>>>>>>> 
>>>>>>> FIXING PATHS TO DYNAMIC LIBRARIES FOR cn.farms.buildbin-libdir/cn.farms/libs/cn.farms.so
>>>>>>> 
>>>>>>> Paths before fix:
cn.farms.buildbin-libdir/cn.farms/libs/cn.farms.so:
	cn.farms.so (compatibility version 0.0.0, current version 0.0.0)
	/Library/Frameworks/R.framework/Versions/4.4-x86_64/Resources/lib/libR.dylib (compatibility version 4.4.0, current version 4.4.3)
	/System/Library/Frameworks/CoreFoundation.framework/Versions/A/CoreFoundation (compatibility version 150.0.0, current version 1775.118.101)
	/usr/lib/libc++.1.dylib (compatibility version 1.0.0, current version 905.6.0)
	/usr/lib/libSystem.B.dylib (compatibility version 1.0.0, current version 1292.100.5)
>>>>>>> Fix with install_name_tool:
install_name_tool -change "/usr/local/lib/libgcc_s.1.1.dylib" "/Library/Frameworks/R.framework/Versions/4.4-x86_64/Resources/lib/libgcc_s.1.1.dylib" "cn.farms.buildbin-libdir/cn.farms/libs/cn.farms.so"
install_name_tool -change "/usr/local/lib/libgfortran.5.dylib" "/Library/Frameworks/R.framework/Versions/4.4-x86_64/Resources/lib/libgfortran.5.dylib" "cn.farms.buildbin-libdir/cn.farms/libs/cn.farms.so"
install_name_tool -change "/usr/local/lib/libquadmath.0.dylib" "/Library/Frameworks/R.framework/Versions/4.4-x86_64/Resources/lib/libquadmath.0.dylib" "cn.farms.buildbin-libdir/cn.farms/libs/cn.farms.so"
>>>>>>> Paths after fix:
cn.farms.buildbin-libdir/cn.farms/libs/cn.farms.so:
	cn.farms.so (compatibility version 0.0.0, current version 0.0.0)
	/Library/Frameworks/R.framework/Versions/4.4-x86_64/Resources/lib/libR.dylib (compatibility version 4.4.0, current version 4.4.3)
	/System/Library/Frameworks/CoreFoundation.framework/Versions/A/CoreFoundation (compatibility version 150.0.0, current version 1775.118.101)
	/usr/lib/libc++.1.dylib (compatibility version 1.0.0, current version 905.6.0)
	/usr/lib/libSystem.B.dylib (compatibility version 1.0.0, current version 1292.100.5)