| Back to Multiple platform build/check report for BioC 3.20: simplified long | 
 | 
This page was generated on 2024-11-20 12:02 -0500 (Wed, 20 Nov 2024).
| Hostname | OS | Arch (*) | R version | Installed pkgs | 
|---|---|---|---|---|
| teran2 | Linux (Ubuntu 24.04.1 LTS) | x86_64 | 4.4.2 (2024-10-31) -- "Pile of Leaves" | 4481 | 
| nebbiolo2 | Linux (Ubuntu 24.04.1 LTS) | x86_64 | 4.4.2 (2024-10-31) -- "Pile of Leaves" | 4479 | 
| palomino8 | Windows Server 2022 Datacenter | x64 | 4.4.2 (2024-10-31 ucrt) -- "Pile of Leaves" | 4359 | 
| lconway | macOS 12.7.1 Monterey | x86_64 | 4.4.1 (2024-06-14) -- "Race for Your Life" | 4539 | 
| kunpeng2 | Linux (openEuler 22.03 LTS-SP1) | aarch64 | 4.4.1 (2024-06-14) -- "Race for Your Life" | 4493 | 
| Click on any hostname to see more info about the system (e.g. compilers) (*) as reported by 'uname -p', except on Windows and Mac OS X | ||||
| Package 381/2289 | Hostname | OS / Arch | INSTALL | BUILD | CHECK | BUILD BIN | ||||||||
| clustifyr 1.18.0  (landing page) Rui Fu 
 | teran2 | Linux (Ubuntu 24.04.1 LTS) / x86_64 | OK | OK | OK |  | ||||||||
| nebbiolo2 | Linux (Ubuntu 24.04.1 LTS) / x86_64 | OK | OK | OK | ||||||||||
| palomino8 | Windows Server 2022 Datacenter / x64 | OK | OK | OK | OK |  | ||||||||
| lconway | macOS 12.7.1 Monterey / x86_64 | OK | OK | OK | OK |  | ||||||||
| kunpeng2 | Linux (openEuler 22.03 LTS-SP1) / aarch64 | OK | OK | OK | ||||||||||
| To the developers/maintainers of the clustifyr package: - Allow up to 24 hours (and sometimes 48 hours) for your latest push to git@git.bioconductor.org:packages/clustifyr.git to reflect on this report. See Troubleshooting Build Report for more information. - Use the following Renviron settings to reproduce errors and warnings. - If 'R CMD check' started to fail recently on the Linux builder(s) over a missing dependency, add the missing dependency to 'Suggests:' in your DESCRIPTION file. See Renviron.bioc for more information. | 
| Package: clustifyr | 
| Version: 1.18.0 | 
| Command: /home/biocbuild/bbs-3.20-bioc/R/bin/R CMD check --install=check:clustifyr.install-out.txt --library=/home/biocbuild/bbs-3.20-bioc/R/site-library --timings clustifyr_1.18.0.tar.gz | 
| StartedAt: 2024-11-20 00:32:20 -0500 (Wed, 20 Nov 2024) | 
| EndedAt: 2024-11-20 00:45:55 -0500 (Wed, 20 Nov 2024) | 
| EllapsedTime: 815.7 seconds | 
| RetCode: 0 | 
| Status: OK | 
| CheckDir: clustifyr.Rcheck | 
| Warnings: 0 | 
##############################################################################
##############################################################################
###
### Running command:
###
###   /home/biocbuild/bbs-3.20-bioc/R/bin/R CMD check --install=check:clustifyr.install-out.txt --library=/home/biocbuild/bbs-3.20-bioc/R/site-library --timings clustifyr_1.18.0.tar.gz
###
##############################################################################
##############################################################################
* using log directory ‘/media/volume/teran2_disk/biocbuild/bbs-3.20-bioc/meat/clustifyr.Rcheck’
* using R version 4.4.2 (2024-10-31)
* using platform: x86_64-pc-linux-gnu
* R was compiled by
    gcc (Ubuntu 13.2.0-23ubuntu4) 13.2.0
    GNU Fortran (Ubuntu 13.2.0-23ubuntu4) 13.2.0
* running under: Ubuntu 24.04.1 LTS
* using session charset: UTF-8
* checking for file ‘clustifyr/DESCRIPTION’ ... OK
* this is package ‘clustifyr’ version ‘1.18.0’
* package encoding: UTF-8
* checking package namespace information ... OK
* checking package dependencies ... OK
* checking if this is a source package ... OK
* checking if there is a namespace ... OK
* checking for hidden files and directories ... OK
* checking for portable file names ... OK
* checking for sufficient/correct file permissions ... OK
* checking whether package ‘clustifyr’ can be installed ... OK
* checking installed package size ... OK
* checking package directory ... OK
* checking ‘build’ directory ... OK
* checking DESCRIPTION meta-information ... NOTE
License stub is invalid DCF.
* checking top-level files ... OK
* checking for left-over files ... OK
* checking index information ... OK
* checking package subdirectories ... OK
* checking code files for non-ASCII characters ... OK
* checking R files for syntax errors ... OK
* checking whether the package can be loaded ... OK
* checking whether the package can be loaded with stated dependencies ... OK
* checking whether the package can be unloaded cleanly ... OK
* checking whether the namespace can be loaded with stated dependencies ... OK
* checking whether the namespace can be unloaded cleanly ... OK
* checking loading without being on the library search path ... OK
* checking dependencies in R code ... OK
* checking S3 generic/method consistency ... OK
* checking replacement functions ... OK
* checking foreign function calls ... OK
* checking R code for possible problems ... OK
* checking Rd files ... OK
* checking Rd metadata ... OK
* checking Rd cross-references ... OK
* checking for missing documentation entries ... OK
* checking for code/documentation mismatches ... OK
* checking Rd \usage sections ... OK
* checking Rd contents ... OK
* checking for unstated dependencies in examples ... OK
* checking contents of ‘data’ directory ... OK
* checking data for non-ASCII characters ... OK
* checking LazyData ... OK
* checking data for ASCII and uncompressed saves ... OK
* checking files in ‘vignettes’ ... OK
* checking examples ... OK
Examples with CPU (user + system) or elapsed time > 5s
                         user system elapsed
plot_pathway_gsea      18.447  0.002  20.808
calculate_pathway_gsea 15.728  0.025  17.090
* checking for unstated dependencies in ‘tests’ ... OK
* checking tests ...
  Running ‘testthat.R’
 OK
* checking for unstated dependencies in vignettes ... OK
* checking package vignettes ... OK
* checking re-building of vignette outputs ... OK
* checking PDF version of manual ... OK
* DONE
Status: 1 NOTE
See
  ‘/media/volume/teran2_disk/biocbuild/bbs-3.20-bioc/meat/clustifyr.Rcheck/00check.log’
for details.
clustifyr.Rcheck/00install.out
############################################################################## ############################################################################## ### ### Running command: ### ### /home/biocbuild/bbs-3.20-bioc/R/bin/R CMD INSTALL clustifyr ### ############################################################################## ############################################################################## * installing to library ‘/media/volume/teran2_disk/biocbuild/bbs-3.20-bioc/R/site-library’ * installing *source* package ‘clustifyr’ ... ** using staged installation ** R ** data *** moving datasets to lazyload DB ** inst ** byte-compile and prepare package for lazy loading ** help *** installing help indices *** copying figures ** building package indices ** installing vignettes ** testing if installed package can be loaded from temporary location ** testing if installed package can be loaded from final location ** testing if installed package keeps a record of temporary installation path * DONE (clustifyr)
clustifyr.Rcheck/tests/testthat.Rout
R version 4.4.2 (2024-10-31) -- "Pile of Leaves"
Copyright (C) 2024 The R Foundation for Statistical Computing
Platform: x86_64-pc-linux-gnu
R is free software and comes with ABSOLUTELY NO WARRANTY.
You are welcome to redistribute it under certain conditions.
Type 'license()' or 'licence()' for distribution details.
R is a collaborative project with many contributors.
Type 'contributors()' for more information and
'citation()' on how to cite R or R packages in publications.
Type 'demo()' for some demos, 'help()' for on-line help, or
'help.start()' for an HTML browser interface to help.
Type 'q()' to quit R.
> library(testthat)
> library(clustifyr)
> 
> test_check("clustifyr")
[ FAIL 0 | WARN 0 | SKIP 0 | PASS 183 ]
> 
> proc.time()
   user  system elapsed 
476.713   7.730 529.467 
clustifyr.Rcheck/clustifyr-Ex.timings
| name | user | system | elapsed | |
| append_genes | 0.085 | 0.013 | 0.098 | |
| assess_rank_bias | 0.001 | 0.000 | 0.001 | |
| average_clusters | 0.692 | 0.011 | 0.938 | |
| binarize_expr | 0.025 | 0.006 | 0.031 | |
| build_atlas | 0.034 | 0.026 | 0.061 | |
| calc_distance | 0.004 | 0.000 | 0.004 | |
| calculate_pathway_gsea | 15.728 | 0.025 | 17.090 | |
| call_consensus | 0.138 | 0.021 | 0.160 | |
| call_to_metadata | 0.078 | 0.055 | 0.133 | |
| check_raw_counts | 0.738 | 0.062 | 0.931 | |
| clustify | 0.890 | 0.059 | 1.097 | |
| clustify_lists | 1.536 | 0.007 | 1.661 | |
| clustify_nudge | 0.554 | 0.027 | 0.583 | |
| clustifyr_methods | 0 | 0 | 0 | |
| collapse_to_cluster | 0.437 | 0.048 | 0.556 | |
| compare_lists | 0.085 | 0.011 | 0.096 | |
| cor_to_call | 0.037 | 0.001 | 0.039 | |
| cor_to_call_rank | 0.062 | 0.005 | 0.067 | |
| cor_to_call_topn | 0.040 | 0.000 | 0.041 | |
| downsample_matrix | 0.008 | 0.000 | 0.008 | |
| feature_select_PCA | 0.005 | 0.001 | 0.006 | |
| file_marker_parse | 0.001 | 0.000 | 0.004 | |
| find_rank_bias | 0.021 | 0.000 | 0.038 | |
| gene_pct_markerm | 0.180 | 0.000 | 0.358 | |
| get_ucsc_reference | 0 | 0 | 0 | |
| get_vargenes | 0.000 | 0.001 | 0.000 | |
| gmt_to_list | 0.027 | 0.001 | 0.061 | |
| insert_meta_object | 0.150 | 0.000 | 0.296 | |
| make_comb_ref | 0.010 | 0.000 | 0.023 | |
| marker_select | 0.008 | 0.001 | 0.021 | |
| matrixize_markers | 0.020 | 0.000 | 0.035 | |
| object_data | 0.315 | 0.001 | 1.224 | |
| object_ref | 0.174 | 0.024 | 0.200 | |
| overcluster | 1.457 | 0.020 | 1.517 | |
| overcluster_test | 0.738 | 0.006 | 0.764 | |
| parse_loc_object | 0.548 | 0.029 | 0.577 | |
| plot_best_call | 0.393 | 0.023 | 0.509 | |
| plot_cor | 0.408 | 0.003 | 0.414 | |
| plot_cor_heatmap | 0.605 | 0.006 | 0.831 | |
| plot_dims | 0.155 | 0.002 | 0.157 | |
| plot_gene | 0.319 | 0.001 | 0.321 | |
| plot_pathway_gsea | 18.447 | 0.002 | 20.808 | |
| plot_rank_bias | 0 | 0 | 0 | |
| pos_neg_marker | 0.006 | 0.000 | 0.006 | |
| pos_neg_select | 0.047 | 0.000 | 0.047 | |
| query_rank_bias | 0.023 | 0.000 | 0.023 | |
| ref_feature_select | 0.016 | 0.000 | 0.016 | |
| ref_marker_select | 0.125 | 0.000 | 0.125 | |
| reverse_marker_matrix | 0.003 | 0.000 | 0.003 | |
| run_clustifyr_app | 0.000 | 0.001 | 0.000 | |
| seurat_meta | 0.143 | 0.000 | 0.144 | |
| seurat_ref | 0.169 | 0.000 | 0.169 | |
| write_meta | 0.184 | 0.001 | 0.185 | |