| Back to Multiple platform build/check report for BioC 3.20: simplified long |
|
This page was generated on 2025-04-02 19:28 -0400 (Wed, 02 Apr 2025).
| Hostname | OS | Arch (*) | R version | Installed pkgs |
|---|---|---|---|---|
| nebbiolo2 | Linux (Ubuntu 24.04.1 LTS) | x86_64 | 4.4.3 (2025-02-28) -- "Trophy Case" | 4764 |
| palomino8 | Windows Server 2022 Datacenter | x64 | 4.4.3 (2025-02-28 ucrt) -- "Trophy Case" | 4495 |
| merida1 | macOS 12.7.5 Monterey | x86_64 | 4.4.3 (2025-02-28) -- "Trophy Case" | 4522 |
| kjohnson1 | macOS 13.6.6 Ventura | arm64 | 4.4.3 (2025-02-28) -- "Trophy Case" | 4449 |
| taishan | Linux (openEuler 24.03 LTS) | aarch64 | 4.4.3 (2025-02-28) -- "Trophy Case" | 4426 |
| Click on any hostname to see more info about the system (e.g. compilers) (*) as reported by 'uname -p', except on Windows and Mac OS X | ||||
| Package 381/2289 | Hostname | OS / Arch | INSTALL | BUILD | CHECK | BUILD BIN | ||||||||
| clustifyr 1.18.0 (landing page) Rui Fu
| nebbiolo2 | Linux (Ubuntu 24.04.1 LTS) / x86_64 | OK | OK | OK | |||||||||
| palomino8 | Windows Server 2022 Datacenter / x64 | OK | OK | OK | OK | |||||||||
| merida1 | macOS 12.7.5 Monterey / x86_64 | OK | OK | OK | OK | |||||||||
| kjohnson1 | macOS 13.6.6 Ventura / arm64 | OK | OK | OK | OK | |||||||||
| taishan | Linux (openEuler 24.03 LTS) / aarch64 | OK | OK | OK | ||||||||||
|
To the developers/maintainers of the clustifyr package: - Allow up to 24 hours (and sometimes 48 hours) for your latest push to git@git.bioconductor.org:packages/clustifyr.git to reflect on this report. See Troubleshooting Build Report for more information. - Use the following Renviron settings to reproduce errors and warnings. - If 'R CMD check' started to fail recently on the Linux builder(s) over a missing dependency, add the missing dependency to 'Suggests:' in your DESCRIPTION file. See Renviron.bioc for more information. |
| Package: clustifyr |
| Version: 1.18.0 |
| Command: /home/biocbuild/bbs-3.20-bioc/R/bin/R CMD check --install=check:clustifyr.install-out.txt --library=/home/biocbuild/bbs-3.20-bioc/R/site-library --timings clustifyr_1.18.0.tar.gz |
| StartedAt: 2025-03-31 20:53:37 -0400 (Mon, 31 Mar 2025) |
| EndedAt: 2025-03-31 21:04:47 -0400 (Mon, 31 Mar 2025) |
| EllapsedTime: 669.7 seconds |
| RetCode: 0 |
| Status: OK |
| CheckDir: clustifyr.Rcheck |
| Warnings: 0 |
##############################################################################
##############################################################################
###
### Running command:
###
### /home/biocbuild/bbs-3.20-bioc/R/bin/R CMD check --install=check:clustifyr.install-out.txt --library=/home/biocbuild/bbs-3.20-bioc/R/site-library --timings clustifyr_1.18.0.tar.gz
###
##############################################################################
##############################################################################
* using log directory ‘/home/biocbuild/bbs-3.20-bioc/meat/clustifyr.Rcheck’
* using R version 4.4.3 (2025-02-28)
* using platform: x86_64-pc-linux-gnu
* R was compiled by
gcc (Ubuntu 13.3.0-6ubuntu2~24.04) 13.3.0
GNU Fortran (Ubuntu 13.3.0-6ubuntu2~24.04) 13.3.0
* running under: Ubuntu 24.04.2 LTS
* using session charset: UTF-8
* checking for file ‘clustifyr/DESCRIPTION’ ... OK
* this is package ‘clustifyr’ version ‘1.18.0’
* package encoding: UTF-8
* checking package namespace information ... OK
* checking package dependencies ... OK
* checking if this is a source package ... OK
* checking if there is a namespace ... OK
* checking for hidden files and directories ... OK
* checking for portable file names ... OK
* checking for sufficient/correct file permissions ... OK
* checking whether package ‘clustifyr’ can be installed ... OK
* checking installed package size ... OK
* checking package directory ... OK
* checking ‘build’ directory ... OK
* checking DESCRIPTION meta-information ... NOTE
License stub is invalid DCF.
* checking top-level files ... OK
* checking for left-over files ... OK
* checking index information ... OK
* checking package subdirectories ... OK
* checking code files for non-ASCII characters ... OK
* checking R files for syntax errors ... OK
* checking whether the package can be loaded ... OK
* checking whether the package can be loaded with stated dependencies ... OK
* checking whether the package can be unloaded cleanly ... OK
* checking whether the namespace can be loaded with stated dependencies ... OK
* checking whether the namespace can be unloaded cleanly ... OK
* checking loading without being on the library search path ... OK
* checking dependencies in R code ... OK
* checking S3 generic/method consistency ... OK
* checking replacement functions ... OK
* checking foreign function calls ... OK
* checking R code for possible problems ... OK
* checking Rd files ... OK
* checking Rd metadata ... OK
* checking Rd cross-references ... OK
* checking for missing documentation entries ... OK
* checking for code/documentation mismatches ... OK
* checking Rd \usage sections ... OK
* checking Rd contents ... OK
* checking for unstated dependencies in examples ... OK
* checking contents of ‘data’ directory ... OK
* checking data for non-ASCII characters ... OK
* checking LazyData ... OK
* checking data for ASCII and uncompressed saves ... OK
* checking files in ‘vignettes’ ... OK
* checking examples ... OK
Examples with CPU (user + system) or elapsed time > 5s
user system elapsed
plot_pathway_gsea 17.068 0.184 17.254
calculate_pathway_gsea 14.462 0.236 14.698
* checking for unstated dependencies in ‘tests’ ... OK
* checking tests ...
Running ‘testthat.R’
OK
* checking for unstated dependencies in vignettes ... OK
* checking package vignettes ... OK
* checking re-building of vignette outputs ... OK
* checking PDF version of manual ... OK
* DONE
Status: 1 NOTE
See
‘/home/biocbuild/bbs-3.20-bioc/meat/clustifyr.Rcheck/00check.log’
for details.
clustifyr.Rcheck/00install.out
############################################################################## ############################################################################## ### ### Running command: ### ### /home/biocbuild/bbs-3.20-bioc/R/bin/R CMD INSTALL clustifyr ### ############################################################################## ############################################################################## * installing to library ‘/home/biocbuild/bbs-3.20-bioc/R/site-library’ * installing *source* package ‘clustifyr’ ... ** using staged installation ** R ** data *** moving datasets to lazyload DB ** inst ** byte-compile and prepare package for lazy loading ** help *** installing help indices *** copying figures ** building package indices ** installing vignettes ** testing if installed package can be loaded from temporary location ** testing if installed package can be loaded from final location ** testing if installed package keeps a record of temporary installation path * DONE (clustifyr)
clustifyr.Rcheck/tests/testthat.Rout
R version 4.4.3 (2025-02-28) -- "Trophy Case"
Copyright (C) 2025 The R Foundation for Statistical Computing
Platform: x86_64-pc-linux-gnu
R is free software and comes with ABSOLUTELY NO WARRANTY.
You are welcome to redistribute it under certain conditions.
Type 'license()' or 'licence()' for distribution details.
R is a collaborative project with many contributors.
Type 'contributors()' for more information and
'citation()' on how to cite R or R packages in publications.
Type 'demo()' for some demos, 'help()' for on-line help, or
'help.start()' for an HTML browser interface to help.
Type 'q()' to quit R.
> library(testthat)
> library(clustifyr)
>
> test_check("clustifyr")
[ FAIL 0 | WARN 0 | SKIP 0 | PASS 183 ]
>
> proc.time()
user system elapsed
403.122 5.920 409.040
clustifyr.Rcheck/clustifyr-Ex.timings
| name | user | system | elapsed | |
| append_genes | 0.109 | 0.005 | 0.114 | |
| assess_rank_bias | 0 | 0 | 0 | |
| average_clusters | 0.763 | 0.014 | 0.777 | |
| binarize_expr | 0.037 | 0.007 | 0.043 | |
| build_atlas | 0.053 | 0.009 | 0.062 | |
| calc_distance | 0.005 | 0.000 | 0.004 | |
| calculate_pathway_gsea | 14.462 | 0.236 | 14.698 | |
| call_consensus | 0.177 | 0.022 | 0.198 | |
| call_to_metadata | 0.118 | 0.020 | 0.137 | |
| check_raw_counts | 0.732 | 0.048 | 0.780 | |
| clustify | 1.127 | 0.038 | 1.165 | |
| clustify_lists | 0.672 | 0.004 | 0.675 | |
| clustify_nudge | 0.742 | 0.021 | 0.762 | |
| clustifyr_methods | 0 | 0 | 0 | |
| collapse_to_cluster | 0.542 | 0.038 | 0.580 | |
| compare_lists | 0.118 | 0.004 | 0.121 | |
| cor_to_call | 0.048 | 0.001 | 0.049 | |
| cor_to_call_rank | 0.083 | 0.003 | 0.086 | |
| cor_to_call_topn | 0.055 | 0.000 | 0.055 | |
| downsample_matrix | 0.011 | 0.000 | 0.010 | |
| feature_select_PCA | 0.008 | 0.000 | 0.008 | |
| file_marker_parse | 0.001 | 0.000 | 0.002 | |
| find_rank_bias | 0.027 | 0.000 | 0.028 | |
| gene_pct_markerm | 0.226 | 0.000 | 0.226 | |
| get_ucsc_reference | 0 | 0 | 0 | |
| get_vargenes | 0 | 0 | 0 | |
| gmt_to_list | 0.036 | 0.000 | 0.037 | |
| insert_meta_object | 0.202 | 0.000 | 0.203 | |
| make_comb_ref | 0.012 | 0.000 | 0.013 | |
| marker_select | 0.011 | 0.000 | 0.012 | |
| matrixize_markers | 0.021 | 0.001 | 0.023 | |
| object_data | 0.268 | 0.000 | 0.268 | |
| object_ref | 0.232 | 0.010 | 0.243 | |
| overcluster | 1.563 | 0.075 | 1.637 | |
| overcluster_test | 1.035 | 0.006 | 1.041 | |
| parse_loc_object | 0.188 | 0.016 | 0.204 | |
| plot_best_call | 0.480 | 0.023 | 0.502 | |
| plot_cor | 0.553 | 0.025 | 0.578 | |
| plot_cor_heatmap | 0.766 | 0.007 | 0.773 | |
| plot_dims | 0.216 | 0.000 | 0.216 | |
| plot_gene | 0.427 | 0.003 | 0.431 | |
| plot_pathway_gsea | 17.068 | 0.184 | 17.254 | |
| plot_rank_bias | 0 | 0 | 0 | |
| pos_neg_marker | 0.008 | 0.000 | 0.008 | |
| pos_neg_select | 0.057 | 0.004 | 0.062 | |
| query_rank_bias | 0.031 | 0.002 | 0.034 | |
| ref_feature_select | 0.027 | 0.000 | 0.027 | |
| ref_marker_select | 0.151 | 0.002 | 0.153 | |
| reverse_marker_matrix | 0.001 | 0.002 | 0.004 | |
| run_clustifyr_app | 0 | 0 | 0 | |
| seurat_meta | 0.197 | 0.022 | 0.218 | |
| seurat_ref | 0.225 | 0.006 | 0.231 | |
| write_meta | 0.243 | 0.003 | 0.245 | |