| Back to Multiple platform build/check report for BioC 3.20: simplified long | 
 | 
This page was generated on 2024-11-20 12:02 -0500 (Wed, 20 Nov 2024).
| Hostname | OS | Arch (*) | R version | Installed pkgs | 
|---|---|---|---|---|
| teran2 | Linux (Ubuntu 24.04.1 LTS) | x86_64 | 4.4.2 (2024-10-31) -- "Pile of Leaves" | 4481 | 
| nebbiolo2 | Linux (Ubuntu 24.04.1 LTS) | x86_64 | 4.4.2 (2024-10-31) -- "Pile of Leaves" | 4479 | 
| palomino8 | Windows Server 2022 Datacenter | x64 | 4.4.2 (2024-10-31 ucrt) -- "Pile of Leaves" | 4359 | 
| lconway | macOS 12.7.1 Monterey | x86_64 | 4.4.1 (2024-06-14) -- "Race for Your Life" | 4539 | 
| kunpeng2 | Linux (openEuler 22.03 LTS-SP1) | aarch64 | 4.4.1 (2024-06-14) -- "Race for Your Life" | 4493 | 
| Click on any hostname to see more info about the system (e.g. compilers) (*) as reported by 'uname -p', except on Windows and Mac OS X | ||||
| Package 303/2289 | Hostname | OS / Arch | INSTALL | BUILD | CHECK | BUILD BIN | ||||||||
| cellmigRation 1.14.0  (landing page) Waldir Leoncio 
 | teran2 | Linux (Ubuntu 24.04.1 LTS) / x86_64 | OK | OK | OK |  | ||||||||
| nebbiolo2 | Linux (Ubuntu 24.04.1 LTS) / x86_64 | OK | OK | OK | ||||||||||
| palomino8 | Windows Server 2022 Datacenter / x64 | OK | OK | OK | OK |  | ||||||||
| lconway | macOS 12.7.1 Monterey / x86_64 | OK | OK | OK | OK |  | ||||||||
| kunpeng2 | Linux (openEuler 22.03 LTS-SP1) / aarch64 | OK | OK | OK | ||||||||||
| To the developers/maintainers of the cellmigRation package: - Allow up to 24 hours (and sometimes 48 hours) for your latest push to git@git.bioconductor.org:packages/cellmigRation.git to reflect on this report. See Troubleshooting Build Report for more information. - Use the following Renviron settings to reproduce errors and warnings. - If 'R CMD check' started to fail recently on the Linux builder(s) over a missing dependency, add the missing dependency to 'Suggests:' in your DESCRIPTION file. See Renviron.bioc for more information. | 
| Package: cellmigRation | 
| Version: 1.14.0 | 
| Command: /home/biocbuild/bbs-3.20-bioc/R/bin/R CMD check --install=check:cellmigRation.install-out.txt --library=/home/biocbuild/bbs-3.20-bioc/R/site-library --timings cellmigRation_1.14.0.tar.gz | 
| StartedAt: 2024-11-20 00:03:43 -0500 (Wed, 20 Nov 2024) | 
| EndedAt: 2024-11-20 00:07:04 -0500 (Wed, 20 Nov 2024) | 
| EllapsedTime: 201.4 seconds | 
| RetCode: 0 | 
| Status: OK | 
| CheckDir: cellmigRation.Rcheck | 
| Warnings: 0 | 
##############################################################################
##############################################################################
###
### Running command:
###
###   /home/biocbuild/bbs-3.20-bioc/R/bin/R CMD check --install=check:cellmigRation.install-out.txt --library=/home/biocbuild/bbs-3.20-bioc/R/site-library --timings cellmigRation_1.14.0.tar.gz
###
##############################################################################
##############################################################################
* using log directory ‘/media/volume/teran2_disk/biocbuild/bbs-3.20-bioc/meat/cellmigRation.Rcheck’
* using R version 4.4.2 (2024-10-31)
* using platform: x86_64-pc-linux-gnu
* R was compiled by
    gcc (Ubuntu 13.2.0-23ubuntu4) 13.2.0
    GNU Fortran (Ubuntu 13.2.0-23ubuntu4) 13.2.0
* running under: Ubuntu 24.04.1 LTS
* using session charset: UTF-8
* checking for file ‘cellmigRation/DESCRIPTION’ ... OK
* checking extension type ... Package
* this is package ‘cellmigRation’ version ‘1.14.0’
* package encoding: UTF-8
* checking package namespace information ... OK
* checking package dependencies ... OK
* checking if this is a source package ... OK
* checking if there is a namespace ... OK
* checking for hidden files and directories ... OK
* checking for portable file names ... OK
* checking for sufficient/correct file permissions ... OK
* checking whether package ‘cellmigRation’ can be installed ... OK
* checking installed package size ... OK
* checking package directory ... OK
* checking ‘build’ directory ... OK
* checking DESCRIPTION meta-information ... OK
* checking top-level files ... OK
* checking for left-over files ... OK
* checking index information ... OK
* checking package subdirectories ... OK
* checking code files for non-ASCII characters ... OK
* checking R files for syntax errors ... OK
* checking whether the package can be loaded ... OK
* checking whether the package can be loaded with stated dependencies ... OK
* checking whether the package can be unloaded cleanly ... OK
* checking whether the namespace can be loaded with stated dependencies ... OK
* checking whether the namespace can be unloaded cleanly ... OK
* checking loading without being on the library search path ... OK
* checking dependencies in R code ... OK
* checking S3 generic/method consistency ... OK
* checking replacement functions ... OK
* checking foreign function calls ... OK
* checking R code for possible problems ... OK
* checking Rd files ... OK
* checking Rd metadata ... OK
* checking Rd cross-references ... OK
* checking for missing documentation entries ... OK
* checking for code/documentation mismatches ... OK
* checking Rd \usage sections ... NOTE
Documented arguments not in \usage in Rd file 'fixDA.Rd':
  ‘object’
Documented arguments not in \usage in Rd file 'fixFM1.Rd':
  ‘object’
Documented arguments not in \usage in Rd file 'fixFM2.Rd':
  ‘object’
Documented arguments not in \usage in Rd file 'fixFM3.Rd':
  ‘object’
Documented arguments not in \usage in Rd file 'fixFM4.Rd':
  ‘object’
Documented arguments not in \usage in Rd file 'fixFM5.Rd':
  ‘object’
Documented arguments not in \usage in Rd file 'fixFM6.Rd':
  ‘object’
Documented arguments not in \usage in Rd file 'fixID2.Rd':
  ‘TimeInterval’
Documented arguments not in \usage in Rd file 'fixID3.Rd':
  ‘TimeInterval’
Documented arguments not in \usage in Rd file 'fixID4.Rd':
  ‘TimeInterval’
Documented arguments not in \usage in Rd file 'fixMSD.Rd':
  ‘object’
Documented arguments not in \usage in Rd file 'fixPER1.Rd':
  ‘x’
Documented arguments not in \usage in Rd file 'fixPER2.Rd':
  ‘x’
Documented arguments not in \usage in Rd file 'innerBondRaster.Rd':
  ‘i’
Functions with \usage entries need to have the appropriate \alias
entries, and all their arguments documented.
The \usage entries must correspond to syntactically valid R code.
See chapter ‘Writing R documentation files’ in the ‘Writing R
Extensions’ manual.
* checking Rd contents ... OK
* checking for unstated dependencies in examples ... OK
* checking contents of ‘data’ directory ... OK
* checking data for non-ASCII characters ... OK
* checking data for ASCII and uncompressed saves ... OK
* checking files in ‘vignettes’ ... OK
* checking examples ... OK
* checking for unstated dependencies in ‘tests’ ... OK
* checking tests ...
  Running ‘runTests.R’
 OK
* checking for unstated dependencies in vignettes ... OK
* checking package vignettes ... OK
* checking re-building of vignette outputs ... OK
* checking PDF version of manual ... OK
* DONE
Status: 1 NOTE
See
  ‘/media/volume/teran2_disk/biocbuild/bbs-3.20-bioc/meat/cellmigRation.Rcheck/00check.log’
for details.
cellmigRation.Rcheck/00install.out
############################################################################## ############################################################################## ### ### Running command: ### ### /home/biocbuild/bbs-3.20-bioc/R/bin/R CMD INSTALL cellmigRation ### ############################################################################## ############################################################################## * installing to library ‘/media/volume/teran2_disk/biocbuild/bbs-3.20-bioc/R/site-library’ * installing *source* package ‘cellmigRation’ ... ** using staged installation ** R ** data ** inst ** byte-compile and prepare package for lazy loading ** help *** installing help indices ** building package indices ** installing vignettes ** testing if installed package can be loaded from temporary location ** testing if installed package can be loaded from final location ** testing if installed package keeps a record of temporary installation path * DONE (cellmigRation)
cellmigRation.Rcheck/tests/runTests.Rout
R version 4.4.2 (2024-10-31) -- "Pile of Leaves"
Copyright (C) 2024 The R Foundation for Statistical Computing
Platform: x86_64-pc-linux-gnu
R is free software and comes with ABSOLUTELY NO WARRANTY.
You are welcome to redistribute it under certain conditions.
Type 'license()' or 'licence()' for distribution details.
R is a collaborative project with many contributors.
Type 'contributors()' for more information and
'citation()' on how to cite R or R packages in publications.
Type 'demo()' for some demos, 'help()' for on-line help, or
'help.start()' for an HTML browser interface to help.
Type 'q()' to quit R.
> BiocGenerics:::testPackage("cellmigRation")
RUNIT TEST PROTOCOL -- Wed Nov 20 00:05:19 2024 
*********************************************** 
Number of test functions: 7 
Number of errors: 0 
Number of failures: 0 
 
1 Test Suite : 
cellmigRation RUnit Tests - 7 test functions, 0 errors, 0 failures
Number of test functions: 7 
Number of errors: 0 
Number of failures: 0 
> 
> proc.time()
   user  system elapsed 
  2.376   0.331   2.918 
cellmigRation.Rcheck/cellmigRation-Ex.timings
| name | user | system | elapsed | |
| AddDimension | 0.001 | 0.000 | 0.001 | |
| CellMig-class | 0.016 | 0.004 | 0.021 | |
| CellMigPCA | 0.896 | 0.084 | 0.981 | |
| CellMigPCAclust | 0.005 | 0.001 | 0.006 | |
| CellMigPCAclustALL | 0.497 | 0.002 | 0.498 | |
| CellTracker | 0.015 | 0.000 | 0.015 | |
| CellTrackerMainLoop | 0.001 | 0.005 | 0.005 | |
| CentroidArray | 0.013 | 0.003 | 0.016 | |
| CentroidValidation | 0.347 | 0.004 | 0.351 | |
| ComputeTracksStats | 0.019 | 0.003 | 0.021 | |
| DetectRadii | 0.002 | 0.000 | 0.002 | |
| DiAutoCor | 2.015 | 0.001 | 2.021 | |
| DiRatio | 0.013 | 0.000 | 0.015 | |
| DiRatioPlot | 0.025 | 0.000 | 0.028 | |
| EstimateDiameterRange | 0.01 | 0.00 | 0.01 | |
| FMI | 0.353 | 0.000 | 0.364 | |
| FianlizeOptiParams | 0.000 | 0.000 | 0.001 | |
| FilterTrackedCells | 0.001 | 0.000 | 0.002 | |
| FinRes | 0.471 | 0.000 | 0.475 | |
| ForwardMigration | 0.702 | 0.000 | 0.718 | |
| GenAllCombos | 0.002 | 0.000 | 0.002 | |
| LinearConv2 | 0.013 | 0.000 | 0.014 | |
| LoadTiff | 0.000 | 0.000 | 0.001 | |
| MSD | 1.830 | 0.000 | 1.865 | |
| MakeHypercube | 0.001 | 0.000 | 0.000 | |
| MigrationStats | 0 | 0 | 0 | |
| NextOdd | 0 | 0 | 0 | |
| NonParallel4OptimizeParams | 0.001 | 0.000 | 0.001 | |
| NonParallelTrackLoop | 0 | 0 | 0 | |
| OptimizeParams | 0.012 | 0.002 | 0.013 | |
| OptimizeParamsMainLoop | 0.001 | 0.005 | 0.009 | |
| Parallel4OptimizeParams | 0.001 | 0.000 | 0.000 | |
| ParallelTrackLoop | 0 | 0 | 0 | |
| PerAndSpeed | 0.191 | 0.003 | 0.214 | |
| PlotTracksSeparately | 0.006 | 0.001 | 0.007 | |
| PostProcessTracking | 0 | 0 | 0 | |
| Prep4OptimizeParams | 0.074 | 0.002 | 0.085 | |
| ThreeConditions | 0.008 | 0.005 | 0.012 | |
| TrackCellsDataset | 0.013 | 0.002 | 0.018 | |
| TrajectoryDataset | 0.014 | 0.002 | 0.017 | |
| ValidateTrackingArgs | 0 | 0 | 0 | |
| VeAutoCor | 0.820 | 0.002 | 0.856 | |
| VisualizeCntr | 0.002 | 0.000 | 0.001 | |
| VisualizeImg | 0.004 | 0.000 | 0.003 | |
| VisualizeStackCentroids | 0.033 | 0.003 | 0.036 | |
| WSADataset | 0.005 | 0.001 | 0.005 | |
| aggregateFR | 0.478 | 0.000 | 0.486 | |
| aggregateTrackedCells | 0.017 | 0.000 | 0.018 | |
| bpass | 0.045 | 0.001 | 0.046 | |
| circshift | 0 | 0 | 0 | |
| cntrd | 1.565 | 0.003 | 1.573 | |
| fixDA | 0.001 | 0.000 | 0.000 | |
| fixExpName | 0.000 | 0.000 | 0.001 | |
| fixFM1 | 0 | 0 | 0 | |
| fixFM2 | 0.000 | 0.000 | 0.001 | |
| fixFM3 | 0 | 0 | 0 | |
| fixFM4 | 0 | 0 | 0 | |
| fixFM5 | 0.001 | 0.000 | 0.000 | |
| fixFM6 | 0 | 0 | 0 | |
| fixID1 | 0.001 | 0.000 | 0.000 | |
| fixMSD | 0 | 0 | 0 | |
| fixPER1 | 0.001 | 0.000 | 0.000 | |
| fixPER2 | 0 | 0 | 0 | |
| fixPER3 | 0.001 | 0.000 | 0.000 | |
| getAvailableAggrMetrics | 0.719 | 0.000 | 0.743 | |
| getCellImages | 0.138 | 0.221 | 0.398 | |
| getCellMigSlot | 0.126 | 0.158 | 0.297 | |
| getCellTrackMeta | 0.010 | 0.005 | 0.016 | |
| getCellTrackStats | 0.012 | 0.005 | 0.017 | |
| getCellTracks | 0.010 | 0.005 | 0.015 | |
| getCellsMeta | 0.006 | 0.009 | 0.015 | |
| getCellsStats | 0.017 | 0.008 | 0.026 | |
| getDACtable | 2.309 | 0.001 | 2.889 | |
| getDiRatio | 0.014 | 0.000 | 0.014 | |
| getFMItable | 0.340 | 0.000 | 0.346 | |
| getForMigtable | 0.411 | 0.000 | 0.421 | |
| getImageCentroids | 0.017 | 0.000 | 0.018 | |
| getImageStacks | 0.036 | 0.000 | 0.036 | |
| getMSDtable | 3.242 | 0.000 | 3.581 | |
| getOptimizedParameters | 0.013 | 0.000 | 0.014 | |
| getOptimizedParams | 0.013 | 0.001 | 0.015 | |
| getPerAndSpeed | 0.178 | 0.004 | 0.183 | |
| getPopulationStats | 0.011 | 0.003 | 0.015 | |
| getProcessedImages | 0.113 | 0.232 | 0.353 | |
| getProcessingStatus | 0.011 | 0.003 | 0.015 | |
| getResults | 0.470 | 0.004 | 0.489 | |
| getTracks | 0.013 | 0.001 | 0.014 | |
| getVACtable | 0.998 | 0.004 | 1.025 | |
| initializeTrackParams | 0.000 | 0.000 | 0.001 | |
| innerBondRaster | 0.001 | 0.000 | 0.001 | |
| internalPermutation | 0.000 | 0.000 | 0.001 | |
| matfix | 0.000 | 0.000 | 0.001 | |
| nontrivialBondTracking | 0.001 | 0.000 | 0.001 | |
| pkfnd | 0.521 | 0.003 | 0.531 | |
| plot3DAllTracks | 0.100 | 0.026 | 0.169 | |
| plot3DTracks | 0.005 | 0.001 | 0.006 | |
| plotAllTracks | 0.013 | 0.001 | 0.013 | |
| plotSampleTracks | 0.008 | 0.002 | 0.010 | |
| preProcCellMig | 0.005 | 0.001 | 0.006 | |
| rmPreProcessing | 0.063 | 0.001 | 0.064 | |
| runTrackingPermutation | 0.001 | 0.000 | 0.001 | |
| setAnalyticParams | 0.008 | 0.005 | 0.014 | |
| setCellMigSlot | 0.013 | 0.003 | 0.016 | |
| setCellTracks | 0.008 | 0.006 | 0.014 | |
| setCellsMeta | 0.010 | 0.004 | 0.014 | |
| setExpName | 0.014 | 0.003 | 0.017 | |
| setOptimizedParams | 0.010 | 0.005 | 0.015 | |
| setProcessedImages | 0.011 | 0.003 | 0.014 | |
| setProcessingStatus | 0.010 | 0.005 | 0.015 | |
| setTrackedCellsMeta | 0.009 | 0.005 | 0.014 | |
| setTrackedCentroids | 0.011 | 0.004 | 0.015 | |
| setTrackedPositions | 0.009 | 0.007 | 0.016 | |
| setTrackingStats | 0.022 | 0.002 | 0.024 | |
| sinkAway | 0 | 0 | 0 | |
| subNetworkTracking | 0.001 | 0.000 | 0.001 | |
| track | 0.006 | 0.000 | 0.006 | |
| trackHypercubeBuild | 0.000 | 0.000 | 0.001 | |
| trackSlideProcessing | 0 | 0 | 0 | |
| trackSlideWrapUp | 0.001 | 0.000 | 0.000 | |
| trivialBondRaster | 0.001 | 0.000 | 0.001 | |
| trivialBondTracking | 0.001 | 0.000 | 0.000 | |
| visualizeCellTracks | 0.035 | 0.002 | 0.040 | |
| visualizeTrcks | 0.019 | 0.000 | 0.020 | |
| warnMessage | 0 | 0 | 0 | |
| wsaPreProcessing | 0.038 | 0.000 | 0.037 | |