| Back to Multiple platform build/check report for BioC 3.20: simplified long | 
 | 
This page was generated on 2025-04-02 19:29 -0400 (Wed, 02 Apr 2025).
| Hostname | OS | Arch (*) | R version | Installed pkgs | 
|---|---|---|---|---|
| nebbiolo2 | Linux (Ubuntu 24.04.1 LTS) | x86_64 | 4.4.3 (2025-02-28) -- "Trophy Case" | 4764 | 
| palomino8 | Windows Server 2022 Datacenter | x64 | 4.4.3 (2025-02-28 ucrt) -- "Trophy Case" | 4495 | 
| merida1 | macOS 12.7.5 Monterey | x86_64 | 4.4.3 (2025-02-28) -- "Trophy Case" | 4522 | 
| kjohnson1 | macOS 13.6.6 Ventura | arm64 | 4.4.3 (2025-02-28) -- "Trophy Case" | 4449 | 
| taishan | Linux (openEuler 24.03 LTS) | aarch64 | 4.4.3 (2025-02-28) -- "Trophy Case" | 4426 | 
| Click on any hostname to see more info about the system (e.g. compilers) (*) as reported by 'uname -p', except on Windows and Mac OS X | ||||
| Package 303/2289 | Hostname | OS / Arch | INSTALL | BUILD | CHECK | BUILD BIN | ||||||||
| cellmigRation 1.14.0  (landing page) Waldir Leoncio 
 | nebbiolo2 | Linux (Ubuntu 24.04.1 LTS) / x86_64 | OK | OK | OK |  | ||||||||
| palomino8 | Windows Server 2022 Datacenter / x64 | OK | OK | OK | OK |  | ||||||||
| merida1 | macOS 12.7.5 Monterey / x86_64 | OK | OK | OK | OK |  | ||||||||
| kjohnson1 | macOS 13.6.6 Ventura / arm64 | OK | OK | OK | OK |  | ||||||||
| taishan | Linux (openEuler 24.03 LTS) / aarch64 | OK | OK | OK | ||||||||||
| To the developers/maintainers of the cellmigRation package: - Allow up to 24 hours (and sometimes 48 hours) for your latest push to git@git.bioconductor.org:packages/cellmigRation.git to reflect on this report. See Troubleshooting Build Report for more information. - Use the following Renviron settings to reproduce errors and warnings. - If 'R CMD check' started to fail recently on the Linux builder(s) over a missing dependency, add the missing dependency to 'Suggests:' in your DESCRIPTION file. See Renviron.bioc for more information. | 
| Package: cellmigRation | 
| Version: 1.14.0 | 
| Command: F:\biocbuild\bbs-3.20-bioc\R\bin\R.exe CMD check --no-multiarch --install=check:cellmigRation.install-out.txt --library=F:\biocbuild\bbs-3.20-bioc\R\library --no-vignettes --timings cellmigRation_1.14.0.tar.gz | 
| StartedAt: 2025-03-31 23:52:12 -0400 (Mon, 31 Mar 2025) | 
| EndedAt: 2025-03-31 23:54:52 -0400 (Mon, 31 Mar 2025) | 
| EllapsedTime: 159.8 seconds | 
| RetCode: 0 | 
| Status: OK | 
| CheckDir: cellmigRation.Rcheck | 
| Warnings: 0 | 
##############################################################################
##############################################################################
###
### Running command:
###
###   F:\biocbuild\bbs-3.20-bioc\R\bin\R.exe CMD check --no-multiarch --install=check:cellmigRation.install-out.txt --library=F:\biocbuild\bbs-3.20-bioc\R\library --no-vignettes --timings cellmigRation_1.14.0.tar.gz
###
##############################################################################
##############################################################################
* using log directory 'F:/biocbuild/bbs-3.20-bioc/meat/cellmigRation.Rcheck'
* using R version 4.4.3 (2025-02-28 ucrt)
* using platform: x86_64-w64-mingw32
* R was compiled by
    gcc.exe (GCC) 13.3.0
    GNU Fortran (GCC) 13.3.0
* running under: Windows Server 2022 x64 (build 20348)
* using session charset: UTF-8
* using option '--no-vignettes'
* checking for file 'cellmigRation/DESCRIPTION' ... OK
* checking extension type ... Package
* this is package 'cellmigRation' version '1.14.0'
* package encoding: UTF-8
* checking package namespace information ... OK
* checking package dependencies ... OK
* checking if this is a source package ... OK
* checking if there is a namespace ... OK
* checking for hidden files and directories ... OK
* checking for portable file names ... OK
* checking whether package 'cellmigRation' can be installed ... OK
* checking installed package size ... OK
* checking package directory ... OK
* checking 'build' directory ... OK
* checking DESCRIPTION meta-information ... OK
* checking top-level files ... OK
* checking for left-over files ... OK
* checking index information ... OK
* checking package subdirectories ... OK
* checking code files for non-ASCII characters ... OK
* checking R files for syntax errors ... OK
* checking whether the package can be loaded ... OK
* checking whether the package can be loaded with stated dependencies ... OK
* checking whether the package can be unloaded cleanly ... OK
* checking whether the namespace can be loaded with stated dependencies ... OK
* checking whether the namespace can be unloaded cleanly ... OK
* checking dependencies in R code ... OK
* checking S3 generic/method consistency ... OK
* checking replacement functions ... OK
* checking foreign function calls ... OK
* checking R code for possible problems ... OK
* checking Rd files ... OK
* checking Rd metadata ... OK
* checking Rd cross-references ... OK
* checking for missing documentation entries ... OK
* checking for code/documentation mismatches ... OK
* checking Rd \usage sections ... NOTE
Documented arguments not in \usage in Rd file 'fixDA.Rd':
  'object'
Documented arguments not in \usage in Rd file 'fixFM1.Rd':
  'object'
Documented arguments not in \usage in Rd file 'fixFM2.Rd':
  'object'
Documented arguments not in \usage in Rd file 'fixFM3.Rd':
  'object'
Documented arguments not in \usage in Rd file 'fixFM4.Rd':
  'object'
Documented arguments not in \usage in Rd file 'fixFM5.Rd':
  'object'
Documented arguments not in \usage in Rd file 'fixFM6.Rd':
  'object'
Documented arguments not in \usage in Rd file 'fixID2.Rd':
  'TimeInterval'
Documented arguments not in \usage in Rd file 'fixID3.Rd':
  'TimeInterval'
Documented arguments not in \usage in Rd file 'fixID4.Rd':
  'TimeInterval'
Documented arguments not in \usage in Rd file 'fixMSD.Rd':
  'object'
Documented arguments not in \usage in Rd file 'fixPER1.Rd':
  'x'
Documented arguments not in \usage in Rd file 'fixPER2.Rd':
  'x'
Documented arguments not in \usage in Rd file 'innerBondRaster.Rd':
  'i'
Functions with \usage entries need to have the appropriate \alias
entries, and all their arguments documented.
The \usage entries must correspond to syntactically valid R code.
See chapter 'Writing R documentation files' in the 'Writing R
Extensions' manual.
* checking Rd contents ... OK
* checking for unstated dependencies in examples ... OK
* checking contents of 'data' directory ... OK
* checking data for non-ASCII characters ... OK
* checking data for ASCII and uncompressed saves ... OK
* checking files in 'vignettes' ... OK
* checking examples ... OK
* checking for unstated dependencies in 'tests' ... OK
* checking tests ...
  Running 'runTests.R'
 OK
* checking for unstated dependencies in vignettes ... OK
* checking package vignettes ... OK
* checking running R code from vignettes ... SKIPPED
* checking re-building of vignette outputs ... SKIPPED
* checking PDF version of manual ... OK
* DONE
Status: 1 NOTE
See
  'F:/biocbuild/bbs-3.20-bioc/meat/cellmigRation.Rcheck/00check.log'
for details.
cellmigRation.Rcheck/00install.out
############################################################################## ############################################################################## ### ### Running command: ### ### F:\biocbuild\bbs-3.20-bioc\R\bin\R.exe CMD INSTALL cellmigRation ### ############################################################################## ############################################################################## * installing to library 'F:/biocbuild/bbs-3.20-bioc/R/library' * installing *source* package 'cellmigRation' ... ** using staged installation ** R ** data ** inst ** byte-compile and prepare package for lazy loading ** help *** installing help indices ** building package indices ** installing vignettes ** testing if installed package can be loaded from temporary location ** testing if installed package can be loaded from final location ** testing if installed package keeps a record of temporary installation path * DONE (cellmigRation)
cellmigRation.Rcheck/tests/runTests.Rout
R version 4.4.3 (2025-02-28 ucrt) -- "Trophy Case"
Copyright (C) 2025 The R Foundation for Statistical Computing
Platform: x86_64-w64-mingw32/x64
R is free software and comes with ABSOLUTELY NO WARRANTY.
You are welcome to redistribute it under certain conditions.
Type 'license()' or 'licence()' for distribution details.
R is a collaborative project with many contributors.
Type 'contributors()' for more information and
'citation()' on how to cite R or R packages in publications.
Type 'demo()' for some demos, 'help()' for on-line help, or
'help.start()' for an HTML browser interface to help.
Type 'q()' to quit R.
> BiocGenerics:::testPackage("cellmigRation")
RUNIT TEST PROTOCOL -- Mon Mar 31 23:54:35 2025 
*********************************************** 
Number of test functions: 7 
Number of errors: 0 
Number of failures: 0 
 
1 Test Suite : 
cellmigRation RUnit Tests - 7 test functions, 0 errors, 0 failures
Number of test functions: 7 
Number of errors: 0 
Number of failures: 0 
> 
> proc.time()
   user  system elapsed 
   3.42    0.51    3.93 
cellmigRation.Rcheck/cellmigRation-Ex.timings
| name | user | system | elapsed | |
| AddDimension | 0 | 0 | 0 | |
| CellMig-class | 0.03 | 0.00 | 0.03 | |
| CellMigPCA | 1.68 | 0.02 | 1.69 | |
| CellMigPCAclust | 0 | 0 | 0 | |
| CellMigPCAclustALL | 1.09 | 0.02 | 1.11 | |
| CellTracker | 0.02 | 0.01 | 0.03 | |
| CellTrackerMainLoop | 0 | 0 | 0 | |
| CentroidArray | 0.01 | 0.02 | 0.03 | |
| CentroidValidation | 0.63 | 0.03 | 0.66 | |
| ComputeTracksStats | 0.03 | 0.01 | 0.05 | |
| DetectRadii | 0 | 0 | 0 | |
| DiAutoCor | 1.59 | 0.03 | 1.62 | |
| DiRatio | 0.02 | 0.00 | 0.02 | |
| DiRatioPlot | 0.07 | 0.00 | 0.24 | |
| EstimateDiameterRange | 0.01 | 0.00 | 0.01 | |
| FMI | 0.52 | 0.02 | 0.53 | |
| FianlizeOptiParams | 0 | 0 | 0 | |
| FilterTrackedCells | 0 | 0 | 0 | |
| FinRes | 0.95 | 0.03 | 0.99 | |
| ForwardMigration | 1.00 | 0.02 | 1.01 | |
| GenAllCombos | 0 | 0 | 0 | |
| LinearConv2 | 0.03 | 0.00 | 0.04 | |
| LoadTiff | 0 | 0 | 0 | |
| MSD | 1.98 | 0.00 | 2.03 | |
| MakeHypercube | 0.00 | 0.01 | 0.02 | |
| MigrationStats | 0 | 0 | 0 | |
| NextOdd | 0 | 0 | 0 | |
| NonParallel4OptimizeParams | 0 | 0 | 0 | |
| NonParallelTrackLoop | 0 | 0 | 0 | |
| OptimizeParams | 0.00 | 0.02 | 0.01 | |
| OptimizeParamsMainLoop | 0 | 0 | 0 | |
| Parallel4OptimizeParams | 0.02 | 0.00 | 0.02 | |
| ParallelTrackLoop | 0 | 0 | 0 | |
| PerAndSpeed | 0.34 | 0.05 | 0.41 | |
| PlotTracksSeparately | 0.00 | 0.01 | 0.01 | |
| PostProcessTracking | 0 | 0 | 0 | |
| Prep4OptimizeParams | 0.11 | 0.00 | 0.11 | |
| ThreeConditions | 0.01 | 0.00 | 0.01 | |
| TrackCellsDataset | 0.02 | 0.00 | 0.02 | |
| TrajectoryDataset | 0.01 | 0.02 | 0.03 | |
| ValidateTrackingArgs | 0 | 0 | 0 | |
| VeAutoCor | 1.25 | 0.03 | 1.28 | |
| VisualizeCntr | 0 | 0 | 0 | |
| VisualizeImg | 0.02 | 0.00 | 0.02 | |
| VisualizeStackCentroids | 0.05 | 0.01 | 0.06 | |
| WSADataset | 0.01 | 0.00 | 0.01 | |
| aggregateFR | 0.61 | 0.00 | 0.61 | |
| aggregateTrackedCells | 0.03 | 0.02 | 0.05 | |
| bpass | 0.08 | 0.00 | 0.08 | |
| circshift | 0 | 0 | 0 | |
| cntrd | 0.92 | 0.03 | 0.95 | |
| fixDA | 0 | 0 | 0 | |
| fixExpName | 0 | 0 | 0 | |
| fixFM1 | 0 | 0 | 0 | |
| fixFM2 | 0 | 0 | 0 | |
| fixFM3 | 0 | 0 | 0 | |
| fixFM4 | 0 | 0 | 0 | |
| fixFM5 | 0 | 0 | 0 | |
| fixFM6 | 0 | 0 | 0 | |
| fixID1 | 0 | 0 | 0 | |
| fixMSD | 0 | 0 | 0 | |
| fixPER1 | 0 | 0 | 0 | |
| fixPER2 | 0 | 0 | 0 | |
| fixPER3 | 0 | 0 | 0 | |
| getAvailableAggrMetrics | 1.26 | 0.02 | 1.28 | |
| getCellImages | 0.53 | 0.62 | 1.15 | |
| getCellMigSlot | 0.72 | 0.34 | 1.07 | |
| getCellTrackMeta | 0.02 | 0.00 | 0.01 | |
| getCellTrackStats | 0.01 | 0.02 | 0.03 | |
| getCellTracks | 0.00 | 0.03 | 0.04 | |
| getCellsMeta | 0.02 | 0.02 | 0.03 | |
| getCellsStats | 0.05 | 0.00 | 0.04 | |
| getDACtable | 2.51 | 0.03 | 2.55 | |
| getDiRatio | 0.03 | 0.00 | 0.03 | |
| getFMItable | 0.64 | 0.03 | 0.67 | |
| getForMigtable | 0.75 | 0.03 | 0.78 | |
| getImageCentroids | 0.02 | 0.03 | 0.05 | |
| getImageStacks | 0.09 | 0.00 | 0.10 | |
| getMSDtable | 4.38 | 0.02 | 4.39 | |
| getOptimizedParameters | 0.01 | 0.00 | 0.01 | |
| getOptimizedParams | 0.02 | 0.01 | 0.03 | |
| getPerAndSpeed | 0.39 | 0.05 | 0.44 | |
| getPopulationStats | 0.02 | 0.00 | 0.02 | |
| getProcessedImages | 0.61 | 0.61 | 1.22 | |
| getProcessingStatus | 0.02 | 0.00 | 0.02 | |
| getResults | 0.83 | 0.02 | 0.84 | |
| getTracks | 0.03 | 0.00 | 0.03 | |
| getVACtable | 0.98 | 0.03 | 1.02 | |
| initializeTrackParams | 0 | 0 | 0 | |
| innerBondRaster | 0 | 0 | 0 | |
| internalPermutation | 0.02 | 0.00 | 0.01 | |
| matfix | 0 | 0 | 0 | |
| nontrivialBondTracking | 0 | 0 | 0 | |
| pkfnd | 0.76 | 0.00 | 0.77 | |
| plot3DAllTracks | 0.08 | 0.01 | 0.09 | |
| plot3DTracks | 0.00 | 0.02 | 0.02 | |
| plotAllTracks | 0.02 | 0.00 | 0.01 | |
| plotSampleTracks | 0.02 | 0.00 | 0.01 | |
| preProcCellMig | 0 | 0 | 0 | |
| rmPreProcessing | 0.07 | 0.01 | 0.08 | |
| runTrackingPermutation | 0 | 0 | 0 | |
| setAnalyticParams | 0.00 | 0.02 | 0.01 | |
| setCellMigSlot | 0.01 | 0.00 | 0.02 | |
| setCellTracks | 0.02 | 0.01 | 0.03 | |
| setCellsMeta | 0.00 | 0.02 | 0.02 | |
| setExpName | 0.02 | 0.00 | 0.02 | |
| setOptimizedParams | 0.01 | 0.02 | 0.03 | |
| setProcessedImages | 0.00 | 0.01 | 0.01 | |
| setProcessingStatus | 0.01 | 0.00 | 0.02 | |
| setTrackedCellsMeta | 0.02 | 0.00 | 0.01 | |
| setTrackedCentroids | 0.02 | 0.02 | 0.03 | |
| setTrackedPositions | 0.01 | 0.00 | 0.02 | |
| setTrackingStats | 0.02 | 0.00 | 0.01 | |
| sinkAway | 0 | 0 | 0 | |
| subNetworkTracking | 0 | 0 | 0 | |
| track | 0 | 0 | 0 | |
| trackHypercubeBuild | 0 | 0 | 0 | |
| trackSlideProcessing | 0 | 0 | 0 | |
| trackSlideWrapUp | 0 | 0 | 0 | |
| trivialBondRaster | 0.02 | 0.00 | 0.01 | |
| trivialBondTracking | 0 | 0 | 0 | |
| visualizeCellTracks | 0.08 | 0.00 | 0.08 | |
| visualizeTrcks | 0.03 | 0.00 | 0.03 | |
| warnMessage | 0 | 0 | 0 | |
| wsaPreProcessing | 0.04 | 0.01 | 0.07 | |