| Back to Multiple platform build/check report for BioC 3.20: simplified long | 
 | 
This page was generated on 2025-04-02 19:35 -0400 (Wed, 02 Apr 2025).
| Hostname | OS | Arch (*) | R version | Installed pkgs | 
|---|---|---|---|---|
| nebbiolo2 | Linux (Ubuntu 24.04.1 LTS) | x86_64 | 4.4.3 (2025-02-28) -- "Trophy Case" | 4764 | 
| palomino8 | Windows Server 2022 Datacenter | x64 | 4.4.3 (2025-02-28 ucrt) -- "Trophy Case" | 4495 | 
| merida1 | macOS 12.7.5 Monterey | x86_64 | 4.4.3 (2025-02-28) -- "Trophy Case" | 4522 | 
| kjohnson1 | macOS 13.6.6 Ventura | arm64 | 4.4.3 (2025-02-28) -- "Trophy Case" | 4449 | 
| taishan | Linux (openEuler 24.03 LTS) | aarch64 | 4.4.3 (2025-02-28) -- "Trophy Case" | 4426 | 
| Click on any hostname to see more info about the system (e.g. compilers) (*) as reported by 'uname -p', except on Windows and Mac OS X | ||||
| Package 303/2289 | Hostname | OS / Arch | INSTALL | BUILD | CHECK | BUILD BIN | ||||||||
| cellmigRation 1.14.0  (landing page) Waldir Leoncio 
 | nebbiolo2 | Linux (Ubuntu 24.04.1 LTS) / x86_64 | OK | OK | OK |  | ||||||||
| palomino8 | Windows Server 2022 Datacenter / x64 | OK | OK | OK | OK |  | ||||||||
| merida1 | macOS 12.7.5 Monterey / x86_64 | OK | OK | OK | OK |  | ||||||||
| kjohnson1 | macOS 13.6.6 Ventura / arm64 | OK | OK | OK | OK |  | ||||||||
| taishan | Linux (openEuler 24.03 LTS) / aarch64 | OK | OK | OK | ||||||||||
| To the developers/maintainers of the cellmigRation package: - Allow up to 24 hours (and sometimes 48 hours) for your latest push to git@git.bioconductor.org:packages/cellmigRation.git to reflect on this report. See Troubleshooting Build Report for more information. - Use the following Renviron settings to reproduce errors and warnings. - If 'R CMD check' started to fail recently on the Linux builder(s) over a missing dependency, add the missing dependency to 'Suggests:' in your DESCRIPTION file. See Renviron.bioc for more information. - See Martin Grigorov's blog post for how to debug Linux ARM64 related issues on a x86_64 host. | 
| Package: cellmigRation | 
| Version: 1.14.0 | 
| Command: /home/biocbuild/R/R/bin/R CMD check --install=check:cellmigRation.install-out.txt --library=/home/biocbuild/R/R/site-library --no-vignettes --timings cellmigRation_1.14.0.tar.gz | 
| StartedAt: 2025-04-01 04:53:50 -0000 (Tue, 01 Apr 2025) | 
| EndedAt: 2025-04-01 04:56:14 -0000 (Tue, 01 Apr 2025) | 
| EllapsedTime: 144.1 seconds | 
| RetCode: 0 | 
| Status: OK | 
| CheckDir: cellmigRation.Rcheck | 
| Warnings: 0 | 
##############################################################################
##############################################################################
###
### Running command:
###
###   /home/biocbuild/R/R/bin/R CMD check --install=check:cellmigRation.install-out.txt --library=/home/biocbuild/R/R/site-library --no-vignettes --timings cellmigRation_1.14.0.tar.gz
###
##############################################################################
##############################################################################
* using log directory ‘/home/biocbuild/bbs-3.20-bioc/meat/cellmigRation.Rcheck’
* using R version 4.4.3 (2025-02-28)
* using platform: aarch64-unknown-linux-gnu
* R was compiled by
    aarch64-unknown-linux-gnu-gcc (GCC) 14.2.0
    GNU Fortran (GCC) 14.2.0
* running under: openEuler 24.03 (LTS)
* using session charset: UTF-8
* using option ‘--no-vignettes’
* checking for file ‘cellmigRation/DESCRIPTION’ ... OK
* checking extension type ... Package
* this is package ‘cellmigRation’ version ‘1.14.0’
* package encoding: UTF-8
* checking package namespace information ... OK
* checking package dependencies ... OK
* checking if this is a source package ... OK
* checking if there is a namespace ... OK
* checking for hidden files and directories ... OK
* checking for portable file names ... OK
* checking for sufficient/correct file permissions ... OK
* checking whether package ‘cellmigRation’ can be installed ... OK
* checking installed package size ... OK
* checking package directory ... OK
* checking ‘build’ directory ... OK
* checking DESCRIPTION meta-information ... OK
* checking top-level files ... OK
* checking for left-over files ... OK
* checking index information ... OK
* checking package subdirectories ... OK
* checking code files for non-ASCII characters ... OK
* checking R files for syntax errors ... OK
* checking whether the package can be loaded ... OK
* checking whether the package can be loaded with stated dependencies ... OK
* checking whether the package can be unloaded cleanly ... OK
* checking whether the namespace can be loaded with stated dependencies ... OK
* checking whether the namespace can be unloaded cleanly ... OK
* checking loading without being on the library search path ... OK
* checking dependencies in R code ... OK
* checking S3 generic/method consistency ... OK
* checking replacement functions ... OK
* checking foreign function calls ... OK
* checking R code for possible problems ... OK
* checking Rd files ... OK
* checking Rd metadata ... OK
* checking Rd cross-references ... OK
* checking for missing documentation entries ... OK
* checking for code/documentation mismatches ... OK
* checking Rd \usage sections ... NOTE
Documented arguments not in \usage in Rd file 'fixDA.Rd':
  ‘object’
Documented arguments not in \usage in Rd file 'fixFM1.Rd':
  ‘object’
Documented arguments not in \usage in Rd file 'fixFM2.Rd':
  ‘object’
Documented arguments not in \usage in Rd file 'fixFM3.Rd':
  ‘object’
Documented arguments not in \usage in Rd file 'fixFM4.Rd':
  ‘object’
Documented arguments not in \usage in Rd file 'fixFM5.Rd':
  ‘object’
Documented arguments not in \usage in Rd file 'fixFM6.Rd':
  ‘object’
Documented arguments not in \usage in Rd file 'fixID2.Rd':
  ‘TimeInterval’
Documented arguments not in \usage in Rd file 'fixID3.Rd':
  ‘TimeInterval’
Documented arguments not in \usage in Rd file 'fixID4.Rd':
  ‘TimeInterval’
Documented arguments not in \usage in Rd file 'fixMSD.Rd':
  ‘object’
Documented arguments not in \usage in Rd file 'fixPER1.Rd':
  ‘x’
Documented arguments not in \usage in Rd file 'fixPER2.Rd':
  ‘x’
Documented arguments not in \usage in Rd file 'innerBondRaster.Rd':
  ‘i’
Functions with \usage entries need to have the appropriate \alias
entries, and all their arguments documented.
The \usage entries must correspond to syntactically valid R code.
See chapter ‘Writing R documentation files’ in the ‘Writing R
Extensions’ manual.
* checking Rd contents ... OK
* checking for unstated dependencies in examples ... OK
* checking contents of ‘data’ directory ... OK
* checking data for non-ASCII characters ... OK
* checking data for ASCII and uncompressed saves ... OK
* checking files in ‘vignettes’ ... OK
* checking examples ... OK
Examples with CPU (user + system) or elapsed time > 5s
             user system elapsed
getMSDtable 5.523  0.016   5.553
* checking for unstated dependencies in ‘tests’ ... OK
* checking tests ...
  Running ‘runTests.R’
 OK
* checking for unstated dependencies in vignettes ... OK
* checking package vignettes ... OK
* checking running R code from vignettes ... SKIPPED
* checking re-building of vignette outputs ... SKIPPED
* checking PDF version of manual ... OK
* DONE
Status: 1 NOTE
See
  ‘/home/biocbuild/bbs-3.20-bioc/meat/cellmigRation.Rcheck/00check.log’
for details.
cellmigRation.Rcheck/00install.out
############################################################################## ############################################################################## ### ### Running command: ### ### /home/biocbuild/R/R/bin/R CMD INSTALL cellmigRation ### ############################################################################## ############################################################################## * installing to library ‘/home/biocbuild/R/R-4.4.3/site-library’ * installing *source* package ‘cellmigRation’ ... ** using staged installation ** R ** data ** inst ** byte-compile and prepare package for lazy loading ** help *** installing help indices ** building package indices ** installing vignettes ** testing if installed package can be loaded from temporary location ** testing if installed package can be loaded from final location ** testing if installed package keeps a record of temporary installation path * DONE (cellmigRation)
cellmigRation.Rcheck/tests/runTests.Rout
R version 4.4.3 (2025-02-28) -- "Trophy Case"
Copyright (C) 2025 The R Foundation for Statistical Computing
Platform: aarch64-unknown-linux-gnu
R is free software and comes with ABSOLUTELY NO WARRANTY.
You are welcome to redistribute it under certain conditions.
Type 'license()' or 'licence()' for distribution details.
R is a collaborative project with many contributors.
Type 'contributors()' for more information and
'citation()' on how to cite R or R packages in publications.
Type 'demo()' for some demos, 'help()' for on-line help, or
'help.start()' for an HTML browser interface to help.
Type 'q()' to quit R.
> BiocGenerics:::testPackage("cellmigRation")
RUNIT TEST PROTOCOL -- Tue Apr  1 04:56:07 2025 
*********************************************** 
Number of test functions: 7 
Number of errors: 0 
Number of failures: 0 
 
1 Test Suite : 
cellmigRation RUnit Tests - 7 test functions, 0 errors, 0 failures
Number of test functions: 7 
Number of errors: 0 
Number of failures: 0 
> 
> proc.time()
   user  system elapsed 
  3.155   0.155   3.305 
cellmigRation.Rcheck/cellmigRation-Ex.timings
| name | user | system | elapsed | |
| AddDimension | 0.002 | 0.000 | 0.002 | |
| CellMig-class | 0.028 | 0.000 | 0.028 | |
| CellMigPCA | 1.811 | 0.084 | 1.901 | |
| CellMigPCAclust | 0.007 | 0.000 | 0.008 | |
| CellMigPCAclustALL | 1.062 | 0.048 | 1.112 | |
| CellTracker | 0.014 | 0.004 | 0.018 | |
| CellTrackerMainLoop | 0.005 | 0.001 | 0.006 | |
| CentroidArray | 0.02 | 0.00 | 0.02 | |
| CentroidValidation | 0.714 | 0.012 | 0.727 | |
| ComputeTracksStats | 0.029 | 0.000 | 0.029 | |
| DetectRadii | 0.003 | 0.000 | 0.004 | |
| DiAutoCor | 2.123 | 0.032 | 2.161 | |
| DiRatio | 0.023 | 0.000 | 0.023 | |
| DiRatioPlot | 0.040 | 0.007 | 0.054 | |
| EstimateDiameterRange | 0.020 | 0.002 | 0.023 | |
| FMI | 0.745 | 0.013 | 0.761 | |
| FianlizeOptiParams | 0.001 | 0.000 | 0.000 | |
| FilterTrackedCells | 0.004 | 0.000 | 0.004 | |
| FinRes | 1.044 | 0.048 | 1.096 | |
| ForwardMigration | 1.508 | 0.004 | 1.516 | |
| GenAllCombos | 0.004 | 0.000 | 0.004 | |
| LinearConv2 | 0.028 | 0.000 | 0.029 | |
| LoadTiff | 0.001 | 0.000 | 0.001 | |
| MSD | 2.372 | 0.016 | 2.396 | |
| MakeHypercube | 0.001 | 0.000 | 0.002 | |
| MigrationStats | 0.001 | 0.000 | 0.001 | |
| NextOdd | 0.001 | 0.000 | 0.000 | |
| NonParallel4OptimizeParams | 0.001 | 0.000 | 0.001 | |
| NonParallelTrackLoop | 0 | 0 | 0 | |
| OptimizeParams | 0.017 | 0.000 | 0.016 | |
| OptimizeParamsMainLoop | 0.007 | 0.000 | 0.005 | |
| Parallel4OptimizeParams | 0.001 | 0.000 | 0.001 | |
| ParallelTrackLoop | 0.000 | 0.000 | 0.001 | |
| PerAndSpeed | 0.448 | 0.000 | 0.456 | |
| PlotTracksSeparately | 0.009 | 0.000 | 0.009 | |
| PostProcessTracking | 0 | 0 | 0 | |
| Prep4OptimizeParams | 0.129 | 0.000 | 0.130 | |
| ThreeConditions | 0.013 | 0.000 | 0.013 | |
| TrackCellsDataset | 0.015 | 0.000 | 0.015 | |
| TrajectoryDataset | 0.021 | 0.000 | 0.021 | |
| ValidateTrackingArgs | 0.000 | 0.000 | 0.001 | |
| VeAutoCor | 1.739 | 0.052 | 1.795 | |
| VisualizeCntr | 0.003 | 0.000 | 0.003 | |
| VisualizeImg | 0.003 | 0.004 | 0.007 | |
| VisualizeStackCentroids | 0.053 | 0.004 | 0.057 | |
| WSADataset | 0.007 | 0.000 | 0.006 | |
| aggregateFR | 1.034 | 0.000 | 1.037 | |
| aggregateTrackedCells | 0.022 | 0.000 | 0.023 | |
| bpass | 0.100 | 0.000 | 0.101 | |
| circshift | 0 | 0 | 0 | |
| cntrd | 1.118 | 0.008 | 1.128 | |
| fixDA | 0 | 0 | 0 | |
| fixExpName | 0.000 | 0.000 | 0.001 | |
| fixFM1 | 0 | 0 | 0 | |
| fixFM2 | 0 | 0 | 0 | |
| fixFM3 | 0 | 0 | 0 | |
| fixFM4 | 0 | 0 | 0 | |
| fixFM5 | 0.000 | 0.000 | 0.001 | |
| fixFM6 | 0.000 | 0.000 | 0.001 | |
| fixID1 | 0.001 | 0.000 | 0.001 | |
| fixMSD | 0.000 | 0.000 | 0.001 | |
| fixPER1 | 0.001 | 0.000 | 0.000 | |
| fixPER2 | 0.001 | 0.000 | 0.000 | |
| fixPER3 | 0.001 | 0.000 | 0.000 | |
| getAvailableAggrMetrics | 1.515 | 0.016 | 1.535 | |
| getCellImages | 0.175 | 0.187 | 0.364 | |
| getCellMigSlot | 0.249 | 0.104 | 0.353 | |
| getCellTrackMeta | 0.016 | 0.000 | 0.016 | |
| getCellTrackStats | 0.016 | 0.004 | 0.021 | |
| getCellTracks | 0.013 | 0.004 | 0.017 | |
| getCellsMeta | 0.017 | 0.000 | 0.017 | |
| getCellsStats | 0.019 | 0.000 | 0.019 | |
| getDACtable | 3.406 | 0.028 | 3.442 | |
| getDiRatio | 0.024 | 0.000 | 0.024 | |
| getFMItable | 0.719 | 0.000 | 0.721 | |
| getForMigtable | 0.872 | 0.000 | 0.874 | |
| getImageCentroids | 0.023 | 0.000 | 0.023 | |
| getImageStacks | 0.043 | 0.012 | 0.056 | |
| getMSDtable | 5.523 | 0.016 | 5.553 | |
| getOptimizedParameters | 0.011 | 0.004 | 0.015 | |
| getOptimizedParams | 0.013 | 0.004 | 0.017 | |
| getPerAndSpeed | 0.377 | 0.012 | 0.391 | |
| getPopulationStats | 0.017 | 0.000 | 0.017 | |
| getProcessedImages | 0.180 | 0.159 | 0.340 | |
| getProcessingStatus | 0.008 | 0.008 | 0.016 | |
| getResults | 0.967 | 0.004 | 0.974 | |
| getTracks | 0.016 | 0.000 | 0.017 | |
| getVACtable | 1.701 | 0.036 | 1.740 | |
| initializeTrackParams | 0.001 | 0.000 | 0.000 | |
| innerBondRaster | 0.002 | 0.000 | 0.002 | |
| internalPermutation | 0.001 | 0.000 | 0.001 | |
| matfix | 0.001 | 0.000 | 0.001 | |
| nontrivialBondTracking | 0.001 | 0.000 | 0.001 | |
| pkfnd | 1.099 | 0.008 | 1.109 | |
| plot3DAllTracks | 0.05 | 0.00 | 0.05 | |
| plot3DTracks | 0.004 | 0.004 | 0.007 | |
| plotAllTracks | 0.021 | 0.000 | 0.020 | |
| plotSampleTracks | 0.016 | 0.000 | 0.016 | |
| preProcCellMig | 0.007 | 0.000 | 0.007 | |
| rmPreProcessing | 0.125 | 0.000 | 0.125 | |
| runTrackingPermutation | 0.002 | 0.000 | 0.002 | |
| setAnalyticParams | 0.015 | 0.000 | 0.016 | |
| setCellMigSlot | 0.018 | 0.004 | 0.022 | |
| setCellTracks | 0.016 | 0.000 | 0.016 | |
| setCellsMeta | 0.016 | 0.000 | 0.016 | |
| setExpName | 0.022 | 0.000 | 0.021 | |
| setOptimizedParams | 0.015 | 0.000 | 0.016 | |
| setProcessedImages | 0.016 | 0.000 | 0.016 | |
| setProcessingStatus | 0.012 | 0.004 | 0.016 | |
| setTrackedCellsMeta | 0.016 | 0.000 | 0.016 | |
| setTrackedCentroids | 0.004 | 0.012 | 0.017 | |
| setTrackedPositions | 0.021 | 0.011 | 0.032 | |
| setTrackingStats | 0.012 | 0.004 | 0.015 | |
| sinkAway | 0.001 | 0.000 | 0.000 | |
| subNetworkTracking | 0.001 | 0.000 | 0.002 | |
| track | 0.013 | 0.000 | 0.014 | |
| trackHypercubeBuild | 0.001 | 0.000 | 0.002 | |
| trackSlideProcessing | 0.001 | 0.000 | 0.001 | |
| trackSlideWrapUp | 0.001 | 0.000 | 0.001 | |
| trivialBondRaster | 0.002 | 0.000 | 0.003 | |
| trivialBondTracking | 0.001 | 0.000 | 0.001 | |
| visualizeCellTracks | 0.059 | 0.000 | 0.059 | |
| visualizeTrcks | 0.032 | 0.002 | 0.034 | |
| warnMessage | 0.000 | 0.001 | 0.000 | |
| wsaPreProcessing | 0.074 | 0.001 | 0.075 | |