| Back to Multiple platform build/check report for BioC 3.20: simplified long |
|
This page was generated on 2024-11-20 12:02 -0500 (Wed, 20 Nov 2024).
| Hostname | OS | Arch (*) | R version | Installed pkgs |
|---|---|---|---|---|
| teran2 | Linux (Ubuntu 24.04.1 LTS) | x86_64 | 4.4.2 (2024-10-31) -- "Pile of Leaves" | 4481 |
| nebbiolo2 | Linux (Ubuntu 24.04.1 LTS) | x86_64 | 4.4.2 (2024-10-31) -- "Pile of Leaves" | 4479 |
| palomino8 | Windows Server 2022 Datacenter | x64 | 4.4.2 (2024-10-31 ucrt) -- "Pile of Leaves" | 4359 |
| lconway | macOS 12.7.1 Monterey | x86_64 | 4.4.1 (2024-06-14) -- "Race for Your Life" | 4539 |
| kunpeng2 | Linux (openEuler 22.03 LTS-SP1) | aarch64 | 4.4.1 (2024-06-14) -- "Race for Your Life" | 4493 |
| Click on any hostname to see more info about the system (e.g. compilers) (*) as reported by 'uname -p', except on Windows and Mac OS X | ||||
| Package 117/2289 | Hostname | OS / Arch | INSTALL | BUILD | CHECK | BUILD BIN | ||||||||
| autonomics 1.14.6 (landing page) Aditya Bhagwat
| teran2 | Linux (Ubuntu 24.04.1 LTS) / x86_64 | OK | OK | OK | |||||||||
| nebbiolo2 | Linux (Ubuntu 24.04.1 LTS) / x86_64 | OK | OK | ERROR | ||||||||||
| palomino8 | Windows Server 2022 Datacenter / x64 | OK | OK | ERROR | OK | |||||||||
| lconway | macOS 12.7.1 Monterey / x86_64 | OK | OK | OK | OK | |||||||||
| kunpeng2 | Linux (openEuler 22.03 LTS-SP1) / aarch64 | OK | OK | ERROR | ||||||||||
|
To the developers/maintainers of the autonomics package: - Allow up to 24 hours (and sometimes 48 hours) for your latest push to git@git.bioconductor.org:packages/autonomics.git to reflect on this report. See Troubleshooting Build Report for more information. - Use the following Renviron settings to reproduce errors and warnings. - If 'R CMD check' started to fail recently on the Linux builder(s) over a missing dependency, add the missing dependency to 'Suggests:' in your DESCRIPTION file. See Renviron.bioc for more information. |
| Package: autonomics |
| Version: 1.14.6 |
| Command: /home/biocbuild/bbs-3.20-bioc/R/bin/R CMD check --install=check:autonomics.install-out.txt --library=/home/biocbuild/bbs-3.20-bioc/R/site-library --timings autonomics_1.14.6.tar.gz |
| StartedAt: 2024-11-19 22:58:44 -0500 (Tue, 19 Nov 2024) |
| EndedAt: 2024-11-19 23:12:21 -0500 (Tue, 19 Nov 2024) |
| EllapsedTime: 817.6 seconds |
| RetCode: 0 |
| Status: OK |
| CheckDir: autonomics.Rcheck |
| Warnings: 0 |
##############################################################################
##############################################################################
###
### Running command:
###
### /home/biocbuild/bbs-3.20-bioc/R/bin/R CMD check --install=check:autonomics.install-out.txt --library=/home/biocbuild/bbs-3.20-bioc/R/site-library --timings autonomics_1.14.6.tar.gz
###
##############################################################################
##############################################################################
* using log directory ‘/media/volume/teran2_disk/biocbuild/bbs-3.20-bioc/meat/autonomics.Rcheck’
* using R version 4.4.2 (2024-10-31)
* using platform: x86_64-pc-linux-gnu
* R was compiled by
gcc (Ubuntu 13.2.0-23ubuntu4) 13.2.0
GNU Fortran (Ubuntu 13.2.0-23ubuntu4) 13.2.0
* running under: Ubuntu 24.04.1 LTS
* using session charset: UTF-8
* checking for file ‘autonomics/DESCRIPTION’ ... OK
* checking extension type ... Package
* this is package ‘autonomics’ version ‘1.14.6’
* package encoding: UTF-8
* checking package namespace information ... OK
* checking package dependencies ... OK
* checking if this is a source package ... OK
* checking if there is a namespace ... OK
* checking for hidden files and directories ... NOTE
Found the following hidden files and directories:
.BBSoptions
These were most likely included in error. See section ‘Package
structure’ in the ‘Writing R Extensions’ manual.
* checking for portable file names ... OK
* checking for sufficient/correct file permissions ... OK
* checking whether package ‘autonomics’ can be installed ... OK
* checking installed package size ... OK
* checking package directory ... OK
* checking ‘build’ directory ... OK
* checking DESCRIPTION meta-information ... OK
* checking top-level files ... OK
* checking for left-over files ... OK
* checking index information ... OK
* checking package subdirectories ... OK
* checking code files for non-ASCII characters ... OK
* checking R files for syntax errors ... OK
* checking whether the package can be loaded ... OK
* checking whether the package can be loaded with stated dependencies ... OK
* checking whether the package can be unloaded cleanly ... OK
* checking whether the namespace can be loaded with stated dependencies ... OK
* checking whether the namespace can be unloaded cleanly ... OK
* checking loading without being on the library search path ... OK
* checking dependencies in R code ... OK
* checking S3 generic/method consistency ... OK
* checking replacement functions ... OK
* checking foreign function calls ... OK
* checking R code for possible problems ... OK
* checking Rd files ... OK
* checking Rd metadata ... OK
* checking Rd cross-references ... OK
* checking for missing documentation entries ... OK
* checking for code/documentation mismatches ... OK
* checking Rd \usage sections ... OK
* checking Rd contents ... OK
* checking for unstated dependencies in examples ... OK
* checking files in ‘vignettes’ ... OK
* checking examples ... OK
Examples with CPU (user + system) or elapsed time > 5s
user system elapsed
read_diann_proteingroups 78.355 1.084 75.595
read_rnaseq_counts 21.724 1.078 25.870
plot_exprs_per_coef 17.659 0.012 17.560
plot_exprs 17.420 0.011 17.306
rm_diann_contaminants 16.223 0.124 16.103
default_formula 12.110 0.327 18.036
fit 10.109 0.065 9.344
read_somascan 9.819 0.018 9.767
analyze 9.594 0.036 9.526
read_metabolon 9.323 0.017 9.240
plot_summary 9.245 0.019 9.178
plot_volcano 7.622 0.020 7.589
read_fragpipe 6.395 0.042 6.184
plot_densities 5.795 0.034 5.740
ftype 5.467 0.063 7.782
is_diann_report 0.552 0.316 10.144
download_mcclain21 0.370 0.102 50.561
* checking for unstated dependencies in ‘tests’ ... OK
* checking tests ...
Running ‘testthat.R’
OK
* checking for unstated dependencies in vignettes ... OK
* checking package vignettes ... OK
* checking re-building of vignette outputs ... OK
* checking PDF version of manual ... OK
* DONE
Status: 1 NOTE
See
‘/media/volume/teran2_disk/biocbuild/bbs-3.20-bioc/meat/autonomics.Rcheck/00check.log’
for details.
autonomics.Rcheck/00install.out
############################################################################## ############################################################################## ### ### Running command: ### ### /home/biocbuild/bbs-3.20-bioc/R/bin/R CMD INSTALL autonomics ### ############################################################################## ############################################################################## * installing to library ‘/media/volume/teran2_disk/biocbuild/bbs-3.20-bioc/R/site-library’ * installing *source* package ‘autonomics’ ... ** using staged installation ** R ** inst ** byte-compile and prepare package for lazy loading ** help *** installing help indices ** building package indices ** installing vignettes ** testing if installed package can be loaded from temporary location ** testing if installed package can be loaded from final location ** testing if installed package keeps a record of temporary installation path * DONE (autonomics)
autonomics.Rcheck/tests/testthat.Rout
R version 4.4.2 (2024-10-31) -- "Pile of Leaves"
Copyright (C) 2024 The R Foundation for Statistical Computing
Platform: x86_64-pc-linux-gnu
R is free software and comes with ABSOLUTELY NO WARRANTY.
You are welcome to redistribute it under certain conditions.
Type 'license()' or 'licence()' for distribution details.
R is a collaborative project with many contributors.
Type 'contributors()' for more information and
'citation()' on how to cite R or R packages in publications.
Type 'demo()' for some demos, 'help()' for on-line help, or
'help.start()' for an HTML browser interface to help.
Type 'q()' to quit R.
> library(testthat)
> library(autonomics)
Attaching package: 'autonomics'
The following objects are masked from 'package:stats':
biplot, loadings
The following object is masked from 'package:base':
beta
>
> test_check("autonomics")
trying URL 'https://ftp.ncbi.nlm.nih.gov/geo/series/GSE161nnn/GSE161731/suppl//GSE161731_counts.csv.gz?tool=geoquery'
Content type 'application/x-gzip' length 8347405 bytes (8.0 MB)
==================================================
downloaded 8.0 MB
trying URL 'https://ftp.ncbi.nlm.nih.gov/geo/series/GSE161nnn/GSE161731/suppl//GSE161731_counts_key.csv.gz?tool=geoquery'
Content type 'application/x-gzip' length 2443 bytes
==================================================
downloaded 2443 bytes
trying URL 'https://ftp.ncbi.nlm.nih.gov/geo/series/GSE161nnn/GSE161731/suppl//GSE161731_key.csv.gz?tool=geoquery'
Content type 'application/x-gzip' length 2398 bytes
==================================================
downloaded 2398 bytes
trying URL 'https://ftp.ncbi.nlm.nih.gov/geo/series/GSE161nnn/GSE161731/suppl//GSE161731_xpr_nlcpm.csv.gz?tool=geoquery'
Content type 'application/x-gzip' length 16839511 bytes (16.1 MB)
==================================================
downloaded 16.1 MB
trying URL 'https://ftp.ncbi.nlm.nih.gov/geo/series/GSE161nnn/GSE161731/suppl//GSE161731_xpr_tpm_geo.txt.gz?tool=geoquery'
Content type 'application/x-gzip' length 23859414 bytes (22.8 MB)
==================================================
downloaded 22.8 MB
trying URL 'https://bitbucket.org/graumannlabtools/autonomics/downloads/integer64.proteinGroups.txt'
Content type 'text/plain' length 57496 bytes (56 KB)
==================================================
downloaded 56 KB
[ FAIL 0 | WARN 0 | SKIP 0 | PASS 159 ]
>
> proc.time()
user system elapsed
118.17 4.09 141.53
autonomics.Rcheck/autonomics-Ex.timings
| name | user | system | elapsed | |
| AUTONOMICS_DATASETS | 0.000 | 0.000 | 0.001 | |
| COMPOUNDDISCOVERER_PATTERNS | 0.001 | 0.000 | 0.000 | |
| CONTAMINANTSURL | 0 | 0 | 0 | |
| FITSEP | 0.001 | 0.000 | 0.000 | |
| LINMOD_ENGINES | 0 | 0 | 0 | |
| MAXQUANT_PATTERNS | 0 | 0 | 0 | |
| TAXON_TO_ORGNAME | 0.000 | 0.000 | 0.001 | |
| TESTS | 0 | 0 | 0 | |
| X | 1.178 | 0.059 | 1.229 | |
| abstract_fit | 1.422 | 0.067 | 1.464 | |
| add_adjusted_pvalues | 0.388 | 0.011 | 0.402 | |
| add_assay_means | 0.260 | 0.003 | 0.262 | |
| add_facetvars | 1.397 | 0.012 | 1.385 | |
| add_opentargets_by_uniprot | 0.293 | 0.007 | 0.304 | |
| add_psp | 0.361 | 0.003 | 0.368 | |
| add_smiles | 0.343 | 0.012 | 0.332 | |
| analysis | 0.267 | 0.003 | 0.270 | |
| analyze | 9.594 | 0.036 | 9.526 | |
| annotate_maxquant | 0.640 | 0.013 | 0.655 | |
| annotate_uniprot_rest | 0.173 | 0.006 | 1.746 | |
| assert_is_valid_sumexp | 0.499 | 0.007 | 0.483 | |
| bin | 1.093 | 0.003 | 1.096 | |
| biplot | 2.443 | 0.006 | 2.426 | |
| biplot_corrections | 2.189 | 0.011 | 2.178 | |
| biplot_covariates | 3.540 | 0.010 | 3.527 | |
| block2lme | 0.001 | 0.001 | 0.002 | |
| center | 1.001 | 0.003 | 1.005 | |
| code | 4.675 | 0.013 | 4.666 | |
| coefs | 0.538 | 0.014 | 0.529 | |
| collapsed_entrezg_to_symbol | 0 | 0 | 0 | |
| contrast_subgroup_cols | 0.434 | 0.009 | 0.419 | |
| count_in | 0.001 | 0.000 | 0.001 | |
| counts | 1.190 | 0.000 | 1.191 | |
| counts2cpm | 0.261 | 0.000 | 0.261 | |
| counts2tpm | 0.258 | 0.000 | 0.257 | |
| cpm | 0.26 | 0.00 | 0.26 | |
| create_design | 0.500 | 0.008 | 0.486 | |
| default_coefs | 0.513 | 0.008 | 0.499 | |
| default_formula | 12.110 | 0.327 | 18.036 | |
| default_geom | 0.367 | 0.012 | 0.356 | |
| default_sfile | 0.002 | 0.000 | 0.002 | |
| demultiplex | 0.01 | 0.00 | 0.01 | |
| dequantify | 0.001 | 0.001 | 0.001 | |
| dequantify_compounddiscoverer | 0 | 0 | 0 | |
| dot-merge | 0.01 | 0.00 | 0.01 | |
| dot-plot_survival | 3.427 | 0.076 | 3.503 | |
| dot-read_maxquant_proteingroups | 0.075 | 0.001 | 0.076 | |
| download_contaminants | 0.090 | 0.004 | 1.958 | |
| download_data | 0.000 | 0.001 | 0.000 | |
| download_gtf | 0 | 0 | 0 | |
| download_mcclain21 | 0.370 | 0.102 | 50.561 | |
| dt2mat | 0.004 | 0.000 | 0.003 | |
| enrichment | 0.877 | 0.038 | 0.927 | |
| entrezg_to_symbol | 0 | 0 | 0 | |
| explore_transformations | 2.415 | 0.142 | 2.559 | |
| extract_coef_features | 3.691 | 0.010 | 3.682 | |
| extract_rectangle | 0.070 | 0.011 | 0.081 | |
| fcluster | 4.117 | 0.005 | 4.060 | |
| fcor | 0.712 | 0.010 | 0.722 | |
| fdata | 0.395 | 0.002 | 0.398 | |
| fdr2p | 0.683 | 0.014 | 0.675 | |
| filter_exprs_replicated_in_some_subgroup | 0.766 | 0.015 | 0.707 | |
| filter_features | 0.393 | 0.008 | 0.381 | |
| filter_medoid | 0.592 | 0.003 | 0.594 | |
| filter_samples | 0.391 | 0.007 | 0.374 | |
| fit | 10.109 | 0.065 | 9.344 | |
| fit_lmx | 3.295 | 0.013 | 3.090 | |
| fitcoefs | 0.601 | 0.011 | 0.589 | |
| fits | 0.522 | 0.014 | 0.513 | |
| fitvars | 0.782 | 0.009 | 0.768 | |
| fix_xlgenes | 0.002 | 0.000 | 0.001 | |
| flevels | 0.298 | 0.000 | 0.298 | |
| fnames | 0.327 | 0.003 | 0.333 | |
| formula2str | 0 | 0 | 0 | |
| ftype | 5.467 | 0.063 | 7.782 | |
| fvalues | 0.295 | 0.002 | 0.297 | |
| fvars | 0.332 | 0.002 | 0.333 | |
| genome_to_orgdb | 0.000 | 0.001 | 0.000 | |
| group_by_level | 0.001 | 0.000 | 0.001 | |
| guess_compounddiscoverer_quantity | 0.000 | 0.001 | 0.001 | |
| guess_fitsep | 0.338 | 0.000 | 0.338 | |
| guess_maxquant_quantity | 0.003 | 0.001 | 0.004 | |
| guess_sep | 0.365 | 0.010 | 0.351 | |
| has_multiple_levels | 0.035 | 0.000 | 0.035 | |
| hdlproteins | 0.077 | 0.006 | 0.270 | |
| impute | 2.147 | 0.003 | 2.151 | |
| invert_subgroups | 0.458 | 0.002 | 0.461 | |
| is_collapsed_subset | 0 | 0 | 0 | |
| is_correlation_matrix | 0.001 | 0.000 | 0.001 | |
| is_diann_report | 0.552 | 0.316 | 10.144 | |
| is_fastadt | 0.049 | 0.000 | 0.049 | |
| is_file | 0.000 | 0.000 | 0.001 | |
| is_fraction | 0.001 | 0.000 | 0.001 | |
| is_imputed | 0.533 | 0.000 | 0.534 | |
| is_positive_number | 0.001 | 0.000 | 0.001 | |
| is_scalar_subset | 0.250 | 0.001 | 0.251 | |
| is_sig | 1.168 | 0.003 | 1.171 | |
| is_valid_formula | 0.032 | 0.000 | 0.032 | |
| keep_connected_blocks | 0.390 | 0.010 | 0.372 | |
| keep_connected_features | 0.532 | 0.007 | 0.485 | |
| keep_replicated_features | 0.659 | 0.009 | 0.596 | |
| label2index | 0.000 | 0.000 | 0.001 | |
| list2mat | 0.000 | 0.000 | 0.001 | |
| log2counts | 0.284 | 0.002 | 0.287 | |
| log2cpm | 0.277 | 0.000 | 0.278 | |
| log2diffs | 0.245 | 0.001 | 0.245 | |
| log2proteins | 0.241 | 0.002 | 0.244 | |
| log2sites | 0.287 | 0.000 | 0.288 | |
| log2tpm | 0.283 | 0.000 | 0.284 | |
| log2transform | 3.869 | 0.010 | 3.881 | |
| logical2factor | 0.001 | 0.000 | 0.001 | |
| make_alpha_palette | 0.374 | 0.010 | 0.361 | |
| make_colors | 0.006 | 0.001 | 0.007 | |
| make_volcano_dt | 0.602 | 0.003 | 0.605 | |
| map_fvalues | 0.288 | 0.000 | 0.288 | |
| matrix2sumexp | 0.691 | 0.016 | 0.752 | |
| merge_sample_file | 0.320 | 0.001 | 0.321 | |
| merge_sdata | 0.391 | 0.011 | 0.379 | |
| message_df | 0.001 | 0.000 | 0.001 | |
| modelvar | 2.479 | 0.016 | 2.430 | |
| order_on_p | 0.664 | 0.009 | 0.649 | |
| pca | 1.989 | 0.019 | 1.985 | |
| pg_to_canonical | 0.004 | 0.000 | 0.004 | |
| plot_contrast_venn | 1.649 | 0.014 | 1.574 | |
| plot_contrastogram | 2.256 | 0.027 | 4.387 | |
| plot_data | 0.847 | 0.016 | 0.839 | |
| plot_densities | 5.795 | 0.034 | 5.740 | |
| plot_design | 0.428 | 0.001 | 0.429 | |
| plot_exprs | 17.420 | 0.011 | 17.306 | |
| plot_exprs_per_coef | 17.659 | 0.012 | 17.560 | |
| plot_fit_summary | 1.407 | 0.010 | 1.353 | |
| plot_heatmap | 1.288 | 0.001 | 1.290 | |
| plot_matrix | 0.392 | 0.016 | 0.386 | |
| plot_sample_nas | 4.328 | 0.008 | 4.282 | |
| plot_subgroup_points | 3.328 | 0.014 | 3.296 | |
| plot_summary | 9.245 | 0.019 | 9.178 | |
| plot_venn | 0.011 | 0.001 | 0.012 | |
| plot_venn_heatmap | 0.013 | 0.001 | 0.015 | |
| plot_violins | 2.760 | 0.015 | 2.753 | |
| plot_volcano | 7.622 | 0.020 | 7.589 | |
| preprocess_rnaseq_counts | 0.255 | 0.000 | 0.254 | |
| pull_columns | 0.002 | 0.000 | 0.001 | |
| read_affymetrix | 0 | 0 | 0 | |
| read_contaminants | 0.048 | 0.004 | 1.011 | |
| read_diann_proteingroups | 78.355 | 1.084 | 75.595 | |
| read_fragpipe | 6.395 | 0.042 | 6.184 | |
| read_maxquant_phosphosites | 1.558 | 0.003 | 1.560 | |
| read_maxquant_proteingroups | 0.891 | 0.007 | 0.899 | |
| read_metabolon | 9.323 | 0.017 | 9.240 | |
| read_msigdt | 0.000 | 0.000 | 0.001 | |
| read_olink | 0.843 | 0.012 | 0.793 | |
| read_rectangles | 0.116 | 0.004 | 0.120 | |
| read_rnaseq_counts | 21.724 | 1.078 | 25.870 | |
| read_salmon | 0 | 0 | 0 | |
| read_somascan | 9.819 | 0.018 | 9.767 | |
| read_uniprotdt | 0.196 | 0.007 | 0.203 | |
| reset_fit | 3.804 | 0.045 | 3.740 | |
| rm_diann_contaminants | 16.223 | 0.124 | 16.103 | |
| rm_missing_in_some_samples | 0.367 | 0.013 | 0.356 | |
| rm_unmatched_samples | 0.390 | 0.000 | 0.389 | |
| scaledlibsizes | 0.325 | 0.000 | 0.325 | |
| scoremat | 1.391 | 0.015 | 1.384 | |
| slevels | 0.301 | 0.001 | 0.303 | |
| snames | 0.365 | 0.001 | 0.366 | |
| split_extract_fixed | 0.369 | 0.015 | 0.359 | |
| split_samples | 0.833 | 0.003 | 0.815 | |
| stri_any_regex | 0.001 | 0.000 | 0.000 | |
| stri_detect_fixed_in_collapsed | 0.322 | 0.003 | 0.325 | |
| subgroup_matrix | 0.739 | 0.013 | 0.729 | |
| subtract_baseline | 3.227 | 0.014 | 3.178 | |
| sumexp_to_longdt | 1.598 | 0.020 | 1.553 | |
| sumexp_to_tsv | 0.372 | 0.001 | 0.373 | |
| sumexplist_to_longdt | 1.180 | 0.002 | 1.180 | |
| summarize_fit | 1.266 | 0.010 | 1.204 | |
| svalues | 0.304 | 0.001 | 0.305 | |
| svars | 0.297 | 0.003 | 0.300 | |
| systematic_nas | 0.392 | 0.001 | 0.393 | |
| tag_features | 0.840 | 0.009 | 0.849 | |
| tag_hdlproteins | 0.675 | 0.006 | 0.681 | |
| taxon2org | 0.001 | 0.000 | 0.000 | |
| tpm | 0.267 | 0.000 | 0.267 | |
| uncollapse | 0.007 | 0.000 | 0.008 | |
| values | 0.302 | 0.002 | 0.304 | |
| varlevels_dont_clash | 0.013 | 0.000 | 0.013 | |
| venn_detects | 0.49 | 0.00 | 0.49 | |
| weights | 0.279 | 0.001 | 0.280 | |
| write_xl | 0.505 | 0.011 | 0.493 | |
| zero_to_na | 0.001 | 0.001 | 0.001 | |