| Back to Multiple platform build/check report for BioC 3.20: simplified long |
|
This page was generated on 2025-04-02 19:29 -0400 (Wed, 02 Apr 2025).
| Hostname | OS | Arch (*) | R version | Installed pkgs |
|---|---|---|---|---|
| nebbiolo2 | Linux (Ubuntu 24.04.1 LTS) | x86_64 | 4.4.3 (2025-02-28) -- "Trophy Case" | 4764 |
| palomino8 | Windows Server 2022 Datacenter | x64 | 4.4.3 (2025-02-28 ucrt) -- "Trophy Case" | 4495 |
| merida1 | macOS 12.7.5 Monterey | x86_64 | 4.4.3 (2025-02-28) -- "Trophy Case" | 4522 |
| kjohnson1 | macOS 13.6.6 Ventura | arm64 | 4.4.3 (2025-02-28) -- "Trophy Case" | 4449 |
| taishan | Linux (openEuler 24.03 LTS) | aarch64 | 4.4.3 (2025-02-28) -- "Trophy Case" | 4426 |
| Click on any hostname to see more info about the system (e.g. compilers) (*) as reported by 'uname -p', except on Windows and Mac OS X | ||||
| Package 2120/2289 | Hostname | OS / Arch | INSTALL | BUILD | CHECK | BUILD BIN | ||||||||
| TargetSearch 2.8.0 (landing page) Alvaro Cuadros-Inostroza
| nebbiolo2 | Linux (Ubuntu 24.04.1 LTS) / x86_64 | OK | OK | OK | |||||||||
| palomino8 | Windows Server 2022 Datacenter / x64 | OK | OK | OK | OK | |||||||||
| merida1 | macOS 12.7.5 Monterey / x86_64 | OK | OK | OK | OK | |||||||||
| kjohnson1 | macOS 13.6.6 Ventura / arm64 | OK | OK | OK | OK | |||||||||
| taishan | Linux (openEuler 24.03 LTS) / aarch64 | OK | OK | OK | ||||||||||
|
To the developers/maintainers of the TargetSearch package: - Allow up to 24 hours (and sometimes 48 hours) for your latest push to git@git.bioconductor.org:packages/TargetSearch.git to reflect on this report. See Troubleshooting Build Report for more information. - Use the following Renviron settings to reproduce errors and warnings. - If 'R CMD check' started to fail recently on the Linux builder(s) over a missing dependency, add the missing dependency to 'Suggests:' in your DESCRIPTION file. See Renviron.bioc for more information. |
| Package: TargetSearch |
| Version: 2.8.0 |
| Command: /home/biocbuild/bbs-3.20-bioc/R/bin/R CMD check --install=check:TargetSearch.install-out.txt --library=/home/biocbuild/bbs-3.20-bioc/R/site-library --timings TargetSearch_2.8.0.tar.gz |
| StartedAt: 2025-04-01 02:51:19 -0400 (Tue, 01 Apr 2025) |
| EndedAt: 2025-04-01 02:52:34 -0400 (Tue, 01 Apr 2025) |
| EllapsedTime: 75.1 seconds |
| RetCode: 0 |
| Status: OK |
| CheckDir: TargetSearch.Rcheck |
| Warnings: 0 |
##############################################################################
##############################################################################
###
### Running command:
###
### /home/biocbuild/bbs-3.20-bioc/R/bin/R CMD check --install=check:TargetSearch.install-out.txt --library=/home/biocbuild/bbs-3.20-bioc/R/site-library --timings TargetSearch_2.8.0.tar.gz
###
##############################################################################
##############################################################################
* using log directory ‘/home/biocbuild/bbs-3.20-bioc/meat/TargetSearch.Rcheck’
* using R version 4.4.3 (2025-02-28)
* using platform: x86_64-pc-linux-gnu
* R was compiled by
gcc (Ubuntu 13.3.0-6ubuntu2~24.04) 13.3.0
GNU Fortran (Ubuntu 13.3.0-6ubuntu2~24.04) 13.3.0
* running under: Ubuntu 24.04.2 LTS
* using session charset: UTF-8
* checking for file ‘TargetSearch/DESCRIPTION’ ... OK
* checking extension type ... Package
* this is package ‘TargetSearch’ version ‘2.8.0’
* checking package namespace information ... OK
* checking package dependencies ... OK
* checking if this is a source package ... OK
* checking if there is a namespace ... OK
* checking for hidden files and directories ... OK
* checking for portable file names ... OK
* checking for sufficient/correct file permissions ... OK
* checking whether package ‘TargetSearch’ can be installed ... OK
* used C compiler: ‘gcc (Ubuntu 13.3.0-6ubuntu2~24.04) 13.3.0’
* checking installed package size ... OK
* checking package directory ... OK
* checking ‘build’ directory ... OK
* checking DESCRIPTION meta-information ... OK
* checking top-level files ... OK
* checking for left-over files ... OK
* checking index information ... OK
* checking package subdirectories ... OK
* checking code files for non-ASCII characters ... OK
* checking R files for syntax errors ... OK
* checking whether the package can be loaded ... OK
* checking whether the package can be loaded with stated dependencies ... OK
* checking whether the package can be unloaded cleanly ... OK
* checking whether the namespace can be loaded with stated dependencies ... OK
* checking whether the namespace can be unloaded cleanly ... OK
* checking loading without being on the library search path ... OK
* checking dependencies in R code ... OK
* checking S3 generic/method consistency ... OK
* checking replacement functions ... OK
* checking foreign function calls ... OK
* checking R code for possible problems ... OK
* checking Rd files ... OK
* checking Rd metadata ... OK
* checking Rd cross-references ... OK
* checking for missing documentation entries ... OK
* checking for code/documentation mismatches ... OK
* checking Rd \usage sections ... OK
* checking Rd contents ... OK
* checking for unstated dependencies in examples ... OK
* checking contents of ‘data’ directory ... OK
* checking data for non-ASCII characters ... OK
* checking data for ASCII and uncompressed saves ... OK
* checking line endings in C/C++/Fortran sources/headers ... OK
* checking compiled code ... NOTE
Note: information on .o files is not available
* checking installed files from ‘inst/doc’ ... OK
* checking files in ‘vignettes’ ... OK
* checking examples ... OK
Examples with CPU (user + system) or elapsed time > 5s
user system elapsed
RIcorrect 8.179 0.475 8.772
* checking for unstated dependencies in ‘tests’ ... OK
* checking tests ...
Running ‘tinytest.R’
OK
* checking for unstated dependencies in vignettes ... OK
* checking package vignettes ... OK
* checking re-building of vignette outputs ... OK
* checking PDF version of manual ... OK
* DONE
Status: 1 NOTE
See
‘/home/biocbuild/bbs-3.20-bioc/meat/TargetSearch.Rcheck/00check.log’
for details.
TargetSearch.Rcheck/00install.out
############################################################################## ############################################################################## ### ### Running command: ### ### /home/biocbuild/bbs-3.20-bioc/R/bin/R CMD INSTALL TargetSearch ### ############################################################################## ############################################################################## * installing to library ‘/home/biocbuild/bbs-3.20-bioc/R/site-library’ * installing *source* package ‘TargetSearch’ ... ** using staged installation ** libs using C compiler: ‘gcc (Ubuntu 13.3.0-6ubuntu2~24.04) 13.3.0’ gcc -I"/home/biocbuild/bbs-3.20-bioc/R/include" -DNDEBUG -I/usr/local/include -fpic -g -O2 -Wall -c Rinit.c -o Rinit.o gcc -I"/home/biocbuild/bbs-3.20-bioc/R/include" -DNDEBUG -I/usr/local/include -fpic -g -O2 -Wall -c baseline.c -o baseline.o gcc -I"/home/biocbuild/bbs-3.20-bioc/R/include" -DNDEBUG -I/usr/local/include -fpic -g -O2 -Wall -c detection.c -o detection.o gcc -I"/home/biocbuild/bbs-3.20-bioc/R/include" -DNDEBUG -I/usr/local/include -fpic -g -O2 -Wall -c file.c -o file.o gcc -I"/home/biocbuild/bbs-3.20-bioc/R/include" -DNDEBUG -I/usr/local/include -fpic -g -O2 -Wall -c find.c -o find.o gcc -I"/home/biocbuild/bbs-3.20-bioc/R/include" -DNDEBUG -I/usr/local/include -fpic -g -O2 -Wall -c get_line.c -o get_line.o gcc -I"/home/biocbuild/bbs-3.20-bioc/R/include" -DNDEBUG -I/usr/local/include -fpic -g -O2 -Wall -c hpf.c -o hpf.o gcc -I"/home/biocbuild/bbs-3.20-bioc/R/include" -DNDEBUG -I/usr/local/include -fpic -g -O2 -Wall -c matrix.c -o matrix.o gcc -I"/home/biocbuild/bbs-3.20-bioc/R/include" -DNDEBUG -I/usr/local/include -fpic -g -O2 -Wall -c ncdf.c -o ncdf.o gcc -I"/home/biocbuild/bbs-3.20-bioc/R/include" -DNDEBUG -I/usr/local/include -fpic -g -O2 -Wall -c peak.c -o peak.o gcc -I"/home/biocbuild/bbs-3.20-bioc/R/include" -DNDEBUG -I/usr/local/include -fpic -g -O2 -Wall -c spectrum.c -o spectrum.o gcc -I"/home/biocbuild/bbs-3.20-bioc/R/include" -DNDEBUG -I/usr/local/include -fpic -g -O2 -Wall -c strutils.c -o strutils.o gcc -I"/home/biocbuild/bbs-3.20-bioc/R/include" -DNDEBUG -I/usr/local/include -fpic -g -O2 -Wall -c utils.c -o utils.o gcc -shared -L/home/biocbuild/bbs-3.20-bioc/R/lib -L/usr/local/lib -o TargetSearch.so Rinit.o baseline.o detection.o file.o find.o get_line.o hpf.o matrix.o ncdf.o peak.o spectrum.o strutils.o utils.o -L/home/biocbuild/bbs-3.20-bioc/R/lib -lR installing to /home/biocbuild/bbs-3.20-bioc/R/site-library/00LOCK-TargetSearch/00new/TargetSearch/libs ** R ** data ** inst ** byte-compile and prepare package for lazy loading ** help *** installing help indices ** building package indices ** installing vignettes ** testing if installed package can be loaded from temporary location ** checking absolute paths in shared objects and dynamic libraries ** testing if installed package can be loaded from final location ** testing if installed package keeps a record of temporary installation path * DONE (TargetSearch)
TargetSearch.Rcheck/tests/tinytest.Rout
R version 4.4.3 (2025-02-28) -- "Trophy Case"
Copyright (C) 2025 The R Foundation for Statistical Computing
Platform: x86_64-pc-linux-gnu
R is free software and comes with ABSOLUTELY NO WARRANTY.
You are welcome to redistribute it under certain conditions.
Type 'license()' or 'licence()' for distribution details.
R is a collaborative project with many contributors.
Type 'contributors()' for more information and
'citation()' on how to cite R or R packages in publications.
Type 'demo()' for some demos, 'help()' for on-line help, or
'help.start()' for an HTML browser interface to help.
Type 'q()' to quit R.
> if ( requireNamespace("tinytest", quietly=TRUE) && requireNamespace("TargetSearchData", quietly=TRUE)) {
+ tinytest::test_package("TargetSearch", color=FALSE, verbose=1)
+ }
Loading required package: TargetSearchData
test_FindAllPeaks.R........... 19 tests OK 0.8s
FAMEs were saved in /home/biocbuild/bbs-3.20-bioc/tmpdir/RtmptvqXMO/file3128752a332ed.pdf
FAMEs were saved in /home/biocbuild/bbs-3.20-bioc/tmpdir/RtmptvqXMO/file3128752a332ed.pdf
FAMEs were saved in /home/biocbuild/bbs-3.20-bioc/tmpdir/RtmptvqXMO/file3128752a332ed.pdf
FAMEs were saved in /home/biocbuild/bbs-3.20-bioc/tmpdir/RtmptvqXMO/file3128752a332ed.pdf
test_fameoutliers.R........... 5 tests OK 59ms
test_file.R................... 4 tests OK 61ms
test_import_fame.R............ 14 tests OK 13ms
test_import_library.R......... 15 tests OK 0.1s
test_ncdf4_plot_peak.R........ 7 tests OK 0.4s
test_quantMatrix.R............ 8 tests OK 37ms
test_ri_data_extract.R........ 6 tests OK 3.3s
test_ri_plot_peak.R........... 22 tests OK 0.1s
test_tsLib.R.................. 24 tests OK 85ms
test_tsProfile.R.............. 12 tests OK 13ms
test_tsRim.R.................. 9 tests OK 4ms
test_tsSample.R............... 19 tests OK 44ms
test_write_ri_file.R.......... 6 tests OK 9ms
All ok, 170 results (5.1s)
>
> proc.time()
user system elapsed
5.241 0.122 5.357
TargetSearch.Rcheck/TargetSearch-Ex.timings
| name | user | system | elapsed | |
| FAMEoutliers | 0.062 | 0.002 | 0.066 | |
| FindAllPeaks | 0.574 | 0.011 | 0.589 | |
| FindPeaks | 0.103 | 0.002 | 0.105 | |
| ImportFameSettings | 0.008 | 0.000 | 0.007 | |
| ImportLibrary | 0.017 | 0.000 | 0.016 | |
| ImportSamples | 0.009 | 0.000 | 0.009 | |
| NetCDFPeakFinding | 0.115 | 0.032 | 0.154 | |
| Profile | 0.483 | 0.002 | 0.484 | |
| ProfileCleanUp | 0.392 | 0.007 | 0.400 | |
| RIcorrect | 8.179 | 0.475 | 8.772 | |
| TSExample | 1.584 | 0.063 | 1.646 | |
| Write.Results | 0.045 | 0.002 | 0.047 | |
| baseline | 0.203 | 0.005 | 0.207 | |
| baselineCorrection | 0.207 | 0.004 | 0.210 | |
| baselineCorrectionQuant | 0.284 | 0.003 | 0.287 | |
| checkRimLim | 0.655 | 0.057 | 0.712 | |
| file | 0.057 | 0.001 | 0.058 | |
| fixRI | 0.606 | 0.081 | 0.687 | |
| medianRILib | 0.209 | 0.003 | 0.212 | |
| ncdf4Convert-method | 0.079 | 0.015 | 0.095 | |
| ncdf4_convert | 0.021 | 0.005 | 0.027 | |
| ncdf4_convert_from_path | 1.514 | 0.090 | 1.604 | |
| ncdf4_data_extract | 0.296 | 0.014 | 0.310 | |
| ncdf4_plot_peak | 0.836 | 0.051 | 0.887 | |
| ncdf4_update_ri | 0.204 | 0.009 | 0.213 | |
| peakCDFextraction | 0.332 | 0.022 | 0.354 | |
| peakFind | 0.111 | 0.004 | 0.114 | |
| plotFAME | 0.006 | 0.001 | 0.007 | |
| plotPeak | 0.125 | 0.013 | 0.137 | |
| plotPeakRI | 0.408 | 0.007 | 0.415 | |
| plotPeakSimple | 0.219 | 0.015 | 0.235 | |
| plotRIdev | 0.235 | 0.001 | 0.236 | |
| plotRefSpectra | 0.076 | 0.001 | 0.077 | |
| plotSpectra | 0.114 | 0.003 | 0.120 | |
| quantMatrix | 0.386 | 0.003 | 0.389 | |
| ri2rt | 0.004 | 0.000 | 0.003 | |
| riMatrix | 0.543 | 0.022 | 0.566 | |
| ri_data_extract | 0.025 | 0.000 | 0.025 | |
| ri_plot_peak | 0.590 | 0.006 | 0.596 | |
| rt2ri | 0.004 | 0.000 | 0.003 | |
| sampleRI | 0.227 | 0.003 | 0.230 | |
| tsLib-class | 0.016 | 0.000 | 0.016 | |
| tsMSdata-class | 0.007 | 0.002 | 0.009 | |
| tsProfile-class | 0.007 | 0.000 | 0.007 | |
| tsRim-class | 0.002 | 0.000 | 0.002 | |
| tsSample-class | 0.017 | 0.000 | 0.018 | |
| tsUpdate-method | 0 | 0 | 0 | |
| updateRI | 0.818 | 0.045 | 0.863 | |
| writeLibText | 0.018 | 0.001 | 0.019 | |
| writeMSP | 0.013 | 0.001 | 0.014 | |